| Back to Multiple platform build/check report for BioC 3.13 |
|
This page was generated on 2021-10-15 15:06:36 -0400 (Fri, 15 Oct 2021).
|
To the developers/maintainers of the gaggle package: - Please allow up to 24 hours (and sometimes 48 hours) for your latest push to git@git.bioconductor.org:packages/gaggle.git to reflect on this report. See How and When does the builder pull? When will my changes propagate? here for more information. - Make sure to use the following settings in order to reproduce any error or warning you see on this page. |
| Package 686/2041 | Hostname | OS / Arch | INSTALL | BUILD | CHECK | BUILD BIN | ||||||||
| gaggle 1.60.0 (landing page) Christopher Bare
| nebbiolo1 | Linux (Ubuntu 20.04.2 LTS) / x86_64 | OK | OK | OK | |||||||||
| tokay2 | Windows Server 2012 R2 Standard / x64 | OK | OK | OK | OK | |||||||||
| machv2 | macOS 10.14.6 Mojave / x86_64 | OK | OK | OK | OK | |||||||||
| Package: gaggle |
| Version: 1.60.0 |
| Command: rm -rf gaggle.buildbin-libdir && mkdir gaggle.buildbin-libdir && /Users/biocbuild/BBS/utils/build-universal.sh gaggle_1.60.0.tar.gz /Library/Frameworks/R.framework/Versions/Current/Resources/bin/R gaggle.buildbin-libdir |
| StartedAt: 2021-10-15 02:28:34 -0400 (Fri, 15 Oct 2021) |
| EndedAt: 2021-10-15 02:29:32 -0400 (Fri, 15 Oct 2021) |
| EllapsedTime: 58.5 seconds |
| RetCode: 0 |
| Status: OK |
| PackageFile: gaggle_1.60.0.tgz |
| PackageFileSize: 323.4 KiB |
##############################################################################
##############################################################################
###
### Running command:
###
### rm -rf gaggle.buildbin-libdir && mkdir gaggle.buildbin-libdir && /Users/biocbuild/BBS/utils/build-universal.sh gaggle_1.60.0.tar.gz /Library/Frameworks/R.framework/Versions/Current/Resources/bin/R gaggle.buildbin-libdir
###
##############################################################################
##############################################################################
>>>>>>>
>>>>>>> INSTALLATION WITH 'R CMD INSTALL --preclean --no-multiarch --library=gaggle.buildbin-libdir gaggle_1.60.0.tar.gz'
>>>>>>>
* installing *source* package ‘gaggle’ ...
** using staged installation
** R
** inst
** byte-compile and prepare package for lazy loading
** help
*** installing help indices
** building package indices
** installing vignettes
** testing if installed package can be loaded from temporary location
onLoad -- libname: /Users/biocbuild/bbs-3.13-bioc/meat/gaggle.buildbin-libdir/00LOCK-gaggle/00new pkgname: gaggle
path to jar: /Users/biocbuild/bbs-3.13-bioc/meat/gaggle.buildbin-libdir/00LOCK-gaggle/00new/gaggle/jars/gaggleRShell.jar
script: gaggle.R $Revision: 4499 $ $Date: 2010-08-10 17:15:03 -0700 (Tue, 10 Aug 2010) $
os version: Mac OS X
jvm version: 14
You are using the wrong version of Java.
Please see http://gaggle.systemsbiology.org/docs/html/java
** testing if installed package can be loaded from final location
onLoad -- libname: /Users/biocbuild/bbs-3.13-bioc/meat/gaggle.buildbin-libdir pkgname: gaggle
path to jar: /Users/biocbuild/bbs-3.13-bioc/meat/gaggle.buildbin-libdir/gaggle/jars/gaggleRShell.jar
script: gaggle.R $Revision: 4499 $ $Date: 2010-08-10 17:15:03 -0700 (Tue, 10 Aug 2010) $
os version: Mac OS X
jvm version: 14
You are using the wrong version of Java.
Please see http://gaggle.systemsbiology.org/docs/html/java
** testing if installed package keeps a record of temporary installation path
* DONE (gaggle)