| Back to Multiple platform build/check report for BioC 3.13 |
|
This page was generated on 2021-10-15 15:06:08 -0400 (Fri, 15 Oct 2021).
|
To the developers/maintainers of the interactiveDisplay package: - Please allow up to 24 hours (and sometimes 48 hours) for your latest push to git@git.bioconductor.org:packages/interactiveDisplay.git to reflect on this report. See How and When does the builder pull? When will my changes propagate? here for more information. - Make sure to use the following settings in order to reproduce any error or warning you see on this page. |
| Package 931/2041 | Hostname | OS / Arch | INSTALL | BUILD | CHECK | BUILD BIN | ||||||||
| interactiveDisplay 1.30.0 (landing page) Shawn Balcome
| nebbiolo1 | Linux (Ubuntu 20.04.2 LTS) / x86_64 | OK | OK | WARNINGS | |||||||||
| tokay2 | Windows Server 2012 R2 Standard / x64 | OK | OK | WARNINGS | OK | |||||||||
| machv2 | macOS 10.14.6 Mojave / x86_64 | OK | OK | WARNINGS | OK | |||||||||
| Package: interactiveDisplay |
| Version: 1.30.0 |
| Command: rm -rf interactiveDisplay.buildbin-libdir && mkdir interactiveDisplay.buildbin-libdir && C:\Users\biocbuild\bbs-3.13-bioc\R\bin\R.exe CMD INSTALL --merge-multiarch --build --library=interactiveDisplay.buildbin-libdir interactiveDisplay_1.30.0.tar.gz |
| StartedAt: 2021-10-15 09:57:00 -0400 (Fri, 15 Oct 2021) |
| EndedAt: 2021-10-15 09:58:31 -0400 (Fri, 15 Oct 2021) |
| EllapsedTime: 90.6 seconds |
| RetCode: 0 |
| Status: OK |
| PackageFile: interactiveDisplay_1.30.0.zip |
| PackageFileSize: 2.494 MiB |
##############################################################################
##############################################################################
###
### Running command:
###
### rm -rf interactiveDisplay.buildbin-libdir && mkdir interactiveDisplay.buildbin-libdir && C:\Users\biocbuild\bbs-3.13-bioc\R\bin\R.exe CMD INSTALL --merge-multiarch --build --library=interactiveDisplay.buildbin-libdir interactiveDisplay_1.30.0.tar.gz
###
##############################################################################
##############################################################################
install for i386
* installing *source* package 'interactiveDisplay' ...
** using staged installation
** R
** data
** inst
** byte-compile and prepare package for lazy loading
in method for 'display' with signature 'object="GRanges"': no definition for class "GRanges"
in method for 'display' with signature 'object="GRangesList"': no definition for class "GRangesList"
in method for 'display' with signature 'object="RangedSummarizedExperiment"': no definition for class "RangedSummarizedExperiment"
in method for 'display' with signature 'object="MRexperiment"': no definition for class "MRexperiment"
** help
*** installing help indices
converting help for package 'interactiveDisplay'
finding HTML links ... done
altgr html
bicgo html
expr html
gridsvgjs html
gridtweak html
interactiveDisplay-methods html
mmgr html
mmgrl html
se html
simplenet html
** building package indices
** installing vignettes
** testing if installed package can be loaded from temporary location
** testing if installed package can be loaded from final location
** testing if installed package keeps a record of temporary installation path
install for x64
* installing *source* package 'interactiveDisplay' ...
** testing if installed package can be loaded
* MD5 sums
packaged installation of 'interactiveDisplay' as interactiveDisplay_1.30.0.zip
* DONE (interactiveDisplay)