| Back to Multiple platform build/check report for BioC 3.13 | 
 | 
This page was generated on 2021-10-15 15:06:42 -0400 (Fri, 15 Oct 2021).
| To the developers/maintainers of the methylInheritance package: - Please allow up to 24 hours (and sometimes 48 hours) for your latest push to git@git.bioconductor.org:packages/methylInheritance.git to reflect on this report. See How and When does the builder pull? When will my changes propagate? here for more information. - Make sure to use the following settings in order to reproduce any error or warning you see on this page. | 
| Package 1108/2041 | Hostname | OS / Arch | INSTALL | BUILD | CHECK | BUILD BIN | ||||||||
| methylInheritance 1.16.0  (landing page) Astrid Deschênes 
 | nebbiolo1 | Linux (Ubuntu 20.04.2 LTS) / x86_64 | OK | OK | OK |  | ||||||||
| tokay2 | Windows Server 2012 R2 Standard / x64 | OK | OK | OK | OK |  | ||||||||
| machv2 | macOS 10.14.6 Mojave / x86_64 | OK | OK | OK | OK |  | ||||||||
| Package: methylInheritance | 
| Version: 1.16.0 | 
| Command: /Library/Frameworks/R.framework/Versions/Current/Resources/bin/R CMD check --install=check:methylInheritance.install-out.txt --library=/Library/Frameworks/R.framework/Versions/Current/Resources/library --no-vignettes --timings methylInheritance_1.16.0.tar.gz | 
| StartedAt: 2021-10-14 20:59:10 -0400 (Thu, 14 Oct 2021) | 
| EndedAt: 2021-10-14 21:11:58 -0400 (Thu, 14 Oct 2021) | 
| EllapsedTime: 768.4 seconds | 
| RetCode: 0 | 
| Status: OK | 
| CheckDir: methylInheritance.Rcheck | 
| Warnings: 0 | 
##############################################################################
##############################################################################
###
### Running command:
###
###   /Library/Frameworks/R.framework/Versions/Current/Resources/bin/R CMD check --install=check:methylInheritance.install-out.txt --library=/Library/Frameworks/R.framework/Versions/Current/Resources/library --no-vignettes --timings methylInheritance_1.16.0.tar.gz
###
##############################################################################
##############################################################################
* using log directory ‘/Users/biocbuild/bbs-3.13-bioc/meat/methylInheritance.Rcheck’
* using R version 4.1.1 (2021-08-10)
* using platform: x86_64-apple-darwin17.0 (64-bit)
* using session charset: UTF-8
* using option ‘--no-vignettes’
* checking for file ‘methylInheritance/DESCRIPTION’ ... OK
* this is package ‘methylInheritance’ version ‘1.16.0’
* package encoding: UTF-8
* checking package namespace information ... OK
* checking package dependencies ... OK
* checking if this is a source package ... OK
* checking if there is a namespace ... OK
* checking for hidden files and directories ... NOTE
Found the following hidden files and directories:
  .git_fetch_output.txt
  .git_merge_output.txt
These were most likely included in error. See section ‘Package
structure’ in the ‘Writing R Extensions’ manual.
* checking for portable file names ... OK
* checking for sufficient/correct file permissions ... OK
* checking whether package ‘methylInheritance’ can be installed ... OK
* checking installed package size ... OK
* checking package directory ... OK
* checking ‘build’ directory ... OK
* checking DESCRIPTION meta-information ... OK
* checking top-level files ... OK
* checking for left-over files ... OK
* checking index information ... OK
* checking package subdirectories ... OK
* checking R files for non-ASCII characters ... OK
* checking R files for syntax errors ... OK
* checking whether the package can be loaded ... OK
* checking whether the package can be loaded with stated dependencies ... OK
* checking whether the package can be unloaded cleanly ... OK
* checking whether the namespace can be loaded with stated dependencies ... OK
* checking whether the namespace can be unloaded cleanly ... OK
* checking dependencies in R code ... OK
* checking S3 generic/method consistency ... OK
* checking replacement functions ... OK
* checking foreign function calls ... OK
* checking R code for possible problems ... OK
* checking Rd files ... OK
* checking Rd metadata ... OK
* checking Rd cross-references ... OK
* checking for missing documentation entries ... OK
* checking for code/documentation mismatches ... OK
* checking Rd \usage sections ... OK
* checking Rd contents ... OK
* checking for unstated dependencies in examples ... OK
* checking contents of ‘data’ directory ... OK
* checking data for non-ASCII characters ... OK
* checking data for ASCII and uncompressed saves ... OK
* checking files in ‘vignettes’ ... OK
* checking examples ... OK
Examples with CPU (user + system) or elapsed time > 5s
                                       user system elapsed
runPermutation                      203.860  0.873 205.533
runObservation                       85.161  0.506  85.735
samplesForTransgenerationalAnalysis  63.843  0.371  64.262
runOnePermutationOnAllGenerations    22.495  0.154  22.661
demoForTransgenerationalAnalysis     11.337  0.146  11.490
* checking for unstated dependencies in ‘tests’ ... OK
* checking tests ...
  Running ‘runTests.R’
 OK
* checking for unstated dependencies in vignettes ... OK
* checking package vignettes in ‘inst/doc’ ... OK
* checking running R code from vignettes ... SKIPPED
* checking re-building of vignette outputs ... SKIPPED
* checking PDF version of manual ... OK
* DONE
Status: 1 NOTE
See
  ‘/Users/biocbuild/bbs-3.13-bioc/meat/methylInheritance.Rcheck/00check.log’
for details.
methylInheritance.Rcheck/00install.out
############################################################################## ############################################################################## ### ### Running command: ### ### /Library/Frameworks/R.framework/Versions/Current/Resources/bin/R CMD INSTALL methylInheritance ### ############################################################################## ############################################################################## * installing to library ‘/Library/Frameworks/R.framework/Versions/4.1/Resources/library’ * installing *source* package ‘methylInheritance’ ... ** using staged installation ** R ** data ** inst ** byte-compile and prepare package for lazy loading ** help *** installing help indices ** building package indices ** installing vignettes ** testing if installed package can be loaded from temporary location ** testing if installed package can be loaded from final location ** testing if installed package keeps a record of temporary installation path * DONE (methylInheritance)
methylInheritance.Rcheck/tests/runTests.Rout
R version 4.1.1 (2021-08-10) -- "Kick Things"
Copyright (C) 2021 The R Foundation for Statistical Computing
Platform: x86_64-apple-darwin17.0 (64-bit)
R is free software and comes with ABSOLUTELY NO WARRANTY.
You are welcome to redistribute it under certain conditions.
Type 'license()' or 'licence()' for distribution details.
R is a collaborative project with many contributors.
Type 'contributors()' for more information and
'citation()' on how to cite R or R packages in publications.
Type 'demo()' for some demos, 'help()' for on-line help, or
'help.start()' for an HTML browser interface to help.
Type 'q()' to quit R.
> ## Run all tests presnt in the package
> BiocGenerics:::testPackage("methylInheritance")
Loading required package: stats4
Loading required package: BiocGenerics
Loading required package: parallel
Attaching package: 'BiocGenerics'
The following objects are masked from 'package:parallel':
    clusterApply, clusterApplyLB, clusterCall, clusterEvalQ,
    clusterExport, clusterMap, parApply, parCapply, parLapply,
    parLapplyLB, parRapply, parSapply, parSapplyLB
The following objects are masked from 'package:stats':
    IQR, mad, sd, var, xtabs
The following objects are masked from 'package:base':
    Filter, Find, Map, Position, Reduce, anyDuplicated, append,
    as.data.frame, basename, cbind, colnames, dirname, do.call,
    duplicated, eval, evalq, get, grep, grepl, intersect, is.unsorted,
    lapply, mapply, match, mget, order, paste, pmax, pmax.int, pmin,
    pmin.int, rank, rbind, rownames, sapply, setdiff, sort, table,
    tapply, union, unique, unsplit, which.max, which.min
Loading required package: S4Vectors
Attaching package: 'S4Vectors'
The following objects are masked from 'package:base':
    I, expand.grid, unname
Loading required package: IRanges
Loading required package: GenomeInfoDb
uniting...
uniting...
uniting...
uniting...
uniting...
uniting...
uniting...
uniting...
uniting...
uniting...
uniting...
uniting...
uniting...
uniting...
uniting...
uniting...
uniting...
uniting...
Permutation Analysis
Number of Generations:  3 
Number of Permutations:  20 
Observation Results: 
        SOURCE ELEMENT ANALYSIS   TYPE RESULT
1  OBSERVATION   SITES       i2 HYPER1      4
2  OBSERVATION   SITES       i2 HYPER2      1
3  OBSERVATION   SITES       i2  HYPO1      2
4  OBSERVATION   SITES       i2  HYPO2      2
5  OBSERVATION   SITES     iAll  HYPER      0
6  OBSERVATION   SITES     iAll   HYPO      0
7  OBSERVATION   TILES       i2 HYPER1   1000
8  OBSERVATION   TILES       i2 HYPER2      0
9  OBSERVATION   TILES       i2  HYPO1      0
10 OBSERVATION   TILES       i2  HYPO2      0
11 OBSERVATION   TILES     iAll  HYPER      0
12 OBSERVATION   TILES     iAll   HYPO      0
RUNIT TEST PROTOCOL -- Thu Oct 14 21:11:50 2021 
*********************************************** 
Number of test functions: 75 
Number of errors: 0 
Number of failures: 0 
 
1 Test Suite : 
methylInheritance RUnit Tests - 75 test functions, 0 errors, 0 failures
Number of test functions: 75 
Number of errors: 0 
Number of failures: 0 
Warning messages:
1: Use of `formatForGraphDataFrame$RESULT` is discouraged. Use `RESULT` instead. 
2: In max(i) : no non-missing arguments to max; returning -Inf
3: In max(i) : no non-missing arguments to max; returning -Inf
> 
> proc.time()
   user  system elapsed 
 66.938   0.898  68.907 
methylInheritance.Rcheck/methylInheritance-Ex.timings
| name | user | system | elapsed | |
| calculateSignificantLevel | 0.021 | 0.004 | 0.025 | |
| createDataStructure | 0.113 | 0.010 | 0.123 | |
| createOutputDir | 0.000 | 0.001 | 0.002 | |
| demoForTransgenerationalAnalysis | 11.337 | 0.146 | 11.490 | |
| extractInfo | 0.537 | 0.003 | 0.541 | |
| formatInputMethylData | 0.415 | 0.047 | 0.461 | |
| getGRangesFromMethylDiff | 0.127 | 0.003 | 0.129 | |
| interGeneration | 2.002 | 0.011 | 2.015 | |
| isInterGenerationResults | 0.000 | 0.001 | 0.001 | |
| loadAllRDSResults | 0.529 | 0.004 | 0.533 | |
| loadConvergenceData | 0.563 | 0.003 | 0.568 | |
| mergePermutationAndObservation | 0.005 | 0.001 | 0.006 | |
| methylInheritanceAllResults | 0.007 | 0.002 | 0.010 | |
| methylInheritanceResults | 0.021 | 0.003 | 0.023 | |
| plotConvergenceGraph | 1.052 | 0.011 | 1.063 | |
| plotGraph | 0.537 | 0.004 | 0.542 | |
| readInterGenerationResults | 0.106 | 0.003 | 0.109 | |
| runObservation | 85.161 | 0.506 | 85.735 | |
| runOnePermutationOnAllGenerations | 22.495 | 0.154 | 22.661 | |
| runPermutation | 203.860 | 0.873 | 205.533 | |
| samplesForTransgenerationalAnalysis | 63.843 | 0.371 | 64.262 | |
| saveInterGenerationResults | 2.085 | 0.005 | 2.091 | |
| validateExtractInfo | 0.003 | 0.002 | 0.004 | |
| validateLoadConvergenceData | 0.001 | 0.001 | 0.002 | |
| validateMergePermutationAndObservation | 0.001 | 0.001 | 0.002 | |
| validateRunObservation | 0.158 | 0.003 | 0.160 | |
| validateRunPermutation | 0.146 | 0.002 | 0.148 | |