| Back to Multiple platform build/check report for BioC 3.13 |
|
This page was generated on 2021-10-15 15:06:51 -0400 (Fri, 15 Oct 2021).
|
To the developers/maintainers of the scClassify package: - Please allow up to 24 hours (and sometimes 48 hours) for your latest push to git@git.bioconductor.org:packages/scClassify.git to reflect on this report. See How and When does the builder pull? When will my changes propagate? here for more information. - Make sure to use the following settings in order to reproduce any error or warning you see on this page. |
| Package 1689/2041 | Hostname | OS / Arch | INSTALL | BUILD | CHECK | BUILD BIN | ||||||||
| scClassify 1.4.0 (landing page) Yingxin Lin
| nebbiolo1 | Linux (Ubuntu 20.04.2 LTS) / x86_64 | OK | OK | OK | |||||||||
| tokay2 | Windows Server 2012 R2 Standard / x64 | OK | OK | OK | OK | |||||||||
| machv2 | macOS 10.14.6 Mojave / x86_64 | OK | OK | OK | OK | |||||||||
| Package: scClassify |
| Version: 1.4.0 |
| Command: /Library/Frameworks/R.framework/Versions/Current/Resources/bin/R CMD check --install=check:scClassify.install-out.txt --library=/Library/Frameworks/R.framework/Versions/Current/Resources/library --no-vignettes --timings scClassify_1.4.0.tar.gz |
| StartedAt: 2021-10-14 23:37:24 -0400 (Thu, 14 Oct 2021) |
| EndedAt: 2021-10-14 23:42:45 -0400 (Thu, 14 Oct 2021) |
| EllapsedTime: 320.8 seconds |
| RetCode: 0 |
| Status: OK |
| CheckDir: scClassify.Rcheck |
| Warnings: 0 |
##############################################################################
##############################################################################
###
### Running command:
###
### /Library/Frameworks/R.framework/Versions/Current/Resources/bin/R CMD check --install=check:scClassify.install-out.txt --library=/Library/Frameworks/R.framework/Versions/Current/Resources/library --no-vignettes --timings scClassify_1.4.0.tar.gz
###
##############################################################################
##############################################################################
* using log directory ‘/Users/biocbuild/bbs-3.13-bioc/meat/scClassify.Rcheck’
* using R version 4.1.1 (2021-08-10)
* using platform: x86_64-apple-darwin17.0 (64-bit)
* using session charset: UTF-8
* using option ‘--no-vignettes’
* checking for file ‘scClassify/DESCRIPTION’ ... OK
* checking extension type ... Package
* this is package ‘scClassify’ version ‘1.4.0’
* package encoding: UTF-8
* checking package namespace information ... OK
* checking package dependencies ... OK
* checking if this is a source package ... OK
* checking if there is a namespace ... OK
* checking for hidden files and directories ... NOTE
Found the following hidden files and directories:
.git_fetch_output.txt
.git_merge_output.txt
These were most likely included in error. See section ‘Package
structure’ in the ‘Writing R Extensions’ manual.
* checking for portable file names ... OK
* checking for sufficient/correct file permissions ... OK
* checking whether package ‘scClassify’ can be installed ... OK
* checking installed package size ... OK
* checking package directory ... OK
* checking ‘build’ directory ... OK
* checking DESCRIPTION meta-information ... OK
* checking top-level files ... OK
* checking for left-over files ... OK
* checking index information ... OK
* checking package subdirectories ... OK
* checking R files for non-ASCII characters ... OK
* checking R files for syntax errors ... OK
* checking whether the package can be loaded ... OK
* checking whether the package can be loaded with stated dependencies ... OK
* checking whether the package can be unloaded cleanly ... OK
* checking whether the namespace can be loaded with stated dependencies ... OK
* checking whether the namespace can be unloaded cleanly ... OK
* checking dependencies in R code ... OK
* checking S3 generic/method consistency ... OK
* checking replacement functions ... OK
* checking foreign function calls ... OK
* checking R code for possible problems ... OK
* checking Rd files ... OK
* checking Rd metadata ... OK
* checking Rd cross-references ... OK
* checking for missing documentation entries ... OK
* checking for code/documentation mismatches ... OK
* checking Rd \usage sections ... OK
* checking Rd contents ... OK
* checking for unstated dependencies in examples ... OK
* checking contents of ‘data’ directory ... OK
* checking data for non-ASCII characters ... OK
* checking data for ASCII and uncompressed saves ... OK
* checking files in ‘vignettes’ ... OK
* checking examples ... OK
Examples with CPU (user + system) or elapsed time > 5s
user system elapsed
runSampleCal 98.530 11.574 108.612
predict_scClassifyJoint 20.613 4.425 24.608
predict_scClassify 12.517 2.645 15.003
scClassify 11.360 2.218 13.369
* checking for unstated dependencies in vignettes ... OK
* checking package vignettes in ‘inst/doc’ ... OK
* checking running R code from vignettes ... SKIPPED
* checking re-building of vignette outputs ... SKIPPED
* checking PDF version of manual ... OK
* DONE
Status: 1 NOTE
See
‘/Users/biocbuild/bbs-3.13-bioc/meat/scClassify.Rcheck/00check.log’
for details.
scClassify.Rcheck/00install.out
############################################################################## ############################################################################## ### ### Running command: ### ### /Library/Frameworks/R.framework/Versions/Current/Resources/bin/R CMD INSTALL scClassify ### ############################################################################## ############################################################################## * installing to library ‘/Library/Frameworks/R.framework/Versions/4.1/Resources/library’ * installing *source* package ‘scClassify’ ... ** using staged installation ** R ** data ** inst ** byte-compile and prepare package for lazy loading ** help *** installing help indices *** copying figures ** building package indices ** installing vignettes ** testing if installed package can be loaded from temporary location ** testing if installed package can be loaded from final location ** testing if installed package keeps a record of temporary installation path * DONE (scClassify)
scClassify.Rcheck/scClassify-Ex.timings
| name | user | system | elapsed | |
| cellTypeTrain | 0.131 | 0.011 | 0.142 | |
| cellTypeTree | 0.134 | 0.006 | 0.141 | |
| features | 0.123 | 0.005 | 0.128 | |
| getN | 0.138 | 0.007 | 0.145 | |
| learningCurve | 0.105 | 0.005 | 0.109 | |
| model | 0.841 | 0.963 | 1.865 | |
| modelweights | 0.143 | 0.007 | 0.150 | |
| name | 0.101 | 0.004 | 0.106 | |
| plotCellTypeTree | 0.407 | 0.012 | 0.420 | |
| predict_scClassify | 12.517 | 2.645 | 15.003 | |
| predict_scClassifyJoint | 20.613 | 4.425 | 24.608 | |
| runHOPACH | 1.003 | 0.018 | 1.023 | |
| runSampleCal | 98.530 | 11.574 | 108.612 | |
| scClassify | 11.360 | 2.218 | 13.369 | |
| scClassifyTrainModelList | 0.234 | 0.022 | 0.256 | |
| train_scClassify | 2.144 | 0.228 | 2.376 | |