| Back to Multiple platform build/check report for BioC 3.13 |
|
This page was generated on 2021-10-15 15:06:21 -0400 (Fri, 15 Oct 2021).
|
To the developers/maintainers of the scmeth package: - Please allow up to 24 hours (and sometimes 48 hours) for your latest push to git@git.bioconductor.org:packages/scmeth.git to reflect on this report. See How and When does the builder pull? When will my changes propagate? here for more information. - Make sure to use the following settings in order to reproduce any error or warning you see on this page. |
| Package 1704/2041 | Hostname | OS / Arch | INSTALL | BUILD | CHECK | BUILD BIN | ||||||||
| scmeth 1.12.0 (landing page) Divy Kangeyan
| nebbiolo1 | Linux (Ubuntu 20.04.2 LTS) / x86_64 | OK | OK | OK | |||||||||
| tokay2 | Windows Server 2012 R2 Standard / x64 | OK | OK | OK | OK | |||||||||
| machv2 | macOS 10.14.6 Mojave / x86_64 | OK | OK | OK | OK | |||||||||
| Package: scmeth |
| Version: 1.12.0 |
| Command: rm -rf scmeth.buildbin-libdir && mkdir scmeth.buildbin-libdir && C:\Users\biocbuild\bbs-3.13-bioc\R\bin\R.exe CMD INSTALL --merge-multiarch --build --library=scmeth.buildbin-libdir scmeth_1.12.0.tar.gz |
| StartedAt: 2021-10-15 11:40:34 -0400 (Fri, 15 Oct 2021) |
| EndedAt: 2021-10-15 11:41:49 -0400 (Fri, 15 Oct 2021) |
| EllapsedTime: 75.3 seconds |
| RetCode: 0 |
| Status: OK |
| PackageFile: scmeth_1.12.0.zip |
| PackageFileSize: 894.4 KiB |
##############################################################################
##############################################################################
###
### Running command:
###
### rm -rf scmeth.buildbin-libdir && mkdir scmeth.buildbin-libdir && C:\Users\biocbuild\bbs-3.13-bioc\R\bin\R.exe CMD INSTALL --merge-multiarch --build --library=scmeth.buildbin-libdir scmeth_1.12.0.tar.gz
###
##############################################################################
##############################################################################
install for i386
* installing *source* package 'scmeth' ...
** using staged installation
** R
** inst
** byte-compile and prepare package for lazy loading
Warning: replacing previous import 'AnnotationHub::hubUrl' by 'rtracklayer::hubUrl' when loading 'annotatr'
** help
*** installing help indices
converting help for package 'scmeth'
finding HTML links ... done
bsConversionPlot html
chromosomeCoverage html
coverage html
cpgDensity html
cpgDiscretization html
downsample html
featureCoverage html
mbiasplot html
methylationDist html
readmetrics html
repMask html
report html
scmeth html
** building package indices
** installing vignettes
** testing if installed package can be loaded from temporary location
Warning: replacing previous import 'AnnotationHub::hubUrl' by 'rtracklayer::hubUrl' when loading 'annotatr'
** testing if installed package can be loaded from final location
Warning: replacing previous import 'AnnotationHub::hubUrl' by 'rtracklayer::hubUrl' when loading 'annotatr'
** testing if installed package keeps a record of temporary installation path
install for x64
* installing *source* package 'scmeth' ...
** testing if installed package can be loaded
Warning: replacing previous import 'AnnotationHub::hubUrl' by 'rtracklayer::hubUrl' when loading 'annotatr'
* MD5 sums
packaged installation of 'scmeth' as scmeth_1.12.0.zip
* DONE (scmeth)