| Back to Multiple platform build/check report for BioC 3.13 |
|
This page was generated on 2021-10-15 15:06:23 -0400 (Fri, 15 Oct 2021).
|
To the developers/maintainers of the spatialHeatmap package: - Please allow up to 24 hours (and sometimes 48 hours) for your latest push to git@git.bioconductor.org:packages/spatialHeatmap.git to reflect on this report. See How and When does the builder pull? When will my changes propagate? here for more information. - Make sure to use the following settings in order to reproduce any error or warning you see on this page. |
| Package 1817/2041 | Hostname | OS / Arch | INSTALL | BUILD | CHECK | BUILD BIN | ||||||||
| spatialHeatmap 1.2.0 (landing page) Jianhai Zhang
| nebbiolo1 | Linux (Ubuntu 20.04.2 LTS) / x86_64 | OK | OK | OK | |||||||||
| tokay2 | Windows Server 2012 R2 Standard / x64 | OK | OK | OK | OK | |||||||||
| machv2 | macOS 10.14.6 Mojave / x86_64 | OK | OK | OK | OK | |||||||||
| Package: spatialHeatmap |
| Version: 1.2.0 |
| Command: rm -rf spatialHeatmap.buildbin-libdir && mkdir spatialHeatmap.buildbin-libdir && C:\Users\biocbuild\bbs-3.13-bioc\R\bin\R.exe CMD INSTALL --merge-multiarch --build --library=spatialHeatmap.buildbin-libdir spatialHeatmap_1.2.0.tar.gz |
| StartedAt: 2021-10-15 11:56:24 -0400 (Fri, 15 Oct 2021) |
| EndedAt: 2021-10-15 11:57:54 -0400 (Fri, 15 Oct 2021) |
| EllapsedTime: 90.1 seconds |
| RetCode: 0 |
| Status: OK |
| PackageFile: spatialHeatmap_1.2.0.zip |
| PackageFileSize: 7.427 MiB |
##############################################################################
##############################################################################
###
### Running command:
###
### rm -rf spatialHeatmap.buildbin-libdir && mkdir spatialHeatmap.buildbin-libdir && C:\Users\biocbuild\bbs-3.13-bioc\R\bin\R.exe CMD INSTALL --merge-multiarch --build --library=spatialHeatmap.buildbin-libdir spatialHeatmap_1.2.0.tar.gz
###
##############################################################################
##############################################################################
install for i386
* installing *source* package 'spatialHeatmap' ...
** using staged installation
** R
** inst
** byte-compile and prepare package for lazy loading
** help
*** installing help indices
converting help for package 'spatialHeatmap'
finding HTML links ... done
adj_mod html
aggr_rep html
com_factor html
custom_shiny html
edit_tar html
filter_data html
matrix_hm html
network html
norm_data html
read_cache html
read_fr html
read_hdf5 html
return_feature html
save_cache html
shiny_all html
spatialHeatmap-package html
spatial_hm html
submatrix html
update_feature html
write_hdf5 html
** building package indices
** installing vignettes
** testing if installed package can be loaded from temporary location
** testing if installed package can be loaded from final location
** testing if installed package keeps a record of temporary installation path
install for x64
* installing *source* package 'spatialHeatmap' ...
** testing if installed package can be loaded
* MD5 sums
packaged installation of 'spatialHeatmap' as spatialHeatmap_1.2.0.zip
* DONE (spatialHeatmap)