| Back to Multiple platform build/check report for BioC 3.13 |
|
This page was generated on 2021-10-15 15:06:24 -0400 (Fri, 15 Oct 2021).
|
To the developers/maintainers of the struct package: - Please allow up to 24 hours (and sometimes 48 hours) for your latest push to git@git.bioconductor.org:packages/struct.git to reflect on this report. See How and When does the builder pull? When will my changes propagate? here for more information. - Make sure to use the following settings in order to reproduce any error or warning you see on this page. |
| Package 1862/2041 | Hostname | OS / Arch | INSTALL | BUILD | CHECK | BUILD BIN | ||||||||
| struct 1.4.0 (landing page) Gavin Rhys Lloyd
| nebbiolo1 | Linux (Ubuntu 20.04.2 LTS) / x86_64 | OK | OK | OK | |||||||||
| tokay2 | Windows Server 2012 R2 Standard / x64 | OK | OK | OK | OK | |||||||||
| machv2 | macOS 10.14.6 Mojave / x86_64 | OK | OK | OK | OK | |||||||||
| Package: struct |
| Version: 1.4.0 |
| Command: rm -rf struct.buildbin-libdir && mkdir struct.buildbin-libdir && C:\Users\biocbuild\bbs-3.13-bioc\R\bin\R.exe CMD INSTALL --merge-multiarch --build --library=struct.buildbin-libdir struct_1.4.0.tar.gz |
| StartedAt: 2021-10-15 12:02:28 -0400 (Fri, 15 Oct 2021) |
| EndedAt: 2021-10-15 12:03:52 -0400 (Fri, 15 Oct 2021) |
| EllapsedTime: 84.7 seconds |
| RetCode: 0 |
| Status: OK |
| PackageFile: struct_1.4.0.zip |
| PackageFileSize: 1.3 MiB |
##############################################################################
##############################################################################
###
### Running command:
###
### rm -rf struct.buildbin-libdir && mkdir struct.buildbin-libdir && C:\Users\biocbuild\bbs-3.13-bioc\R\bin\R.exe CMD INSTALL --merge-multiarch --build --library=struct.buildbin-libdir struct_1.4.0.tar.gz
###
##############################################################################
##############################################################################
install for i386
* installing *source* package 'struct' ...
** using staged installation
** R
** inst
** byte-compile and prepare package for lazy loading
** help
*** installing help indices
converting help for package 'struct'
finding HTML links ... done
as.DatasetExperiment-SummarizedExperiment-method
html
as.DatasetExperiment html
as.SummarizedExperiment-DatasetExperiment-method
html
as.SummarizedExperiment html
as.code html
as_data_frame html
cash-set-struct_class-method html
cash-struct_class-method html
chart html
chart_example html
chart_names html
chart_plot html
citations html
entity html
entity_stato html
enum html
enum_stato html
example_iterator html
example_model html
export_data html
iris_DatasetExperiment html
is_output html
is_param html
iterator html
libraries html
metric html
model html
model_apply html
model_reverse html
model_seq html
models html
new_struct html
optimiser html
output_ids html
output_list html
output_name html
output_obj html
output_value html
param_ids html
param_list html
param_name html
param_obj html
param_value html
predict html
predicted html
predicted_name html
preprocessing html
resampler html
result html
result_name html
seq_in html
set_obj_method html
set_obj_show html
set_struct_obj html
stato html
struct html
struct_DatasetExperiment html
struct_class-class html
struct_class html
struct_template html
test_metric html
train html
** building package indices
** installing vignettes
** testing if installed package can be loaded from temporary location
** testing if installed package can be loaded from final location
** testing if installed package keeps a record of temporary installation path
install for x64
* installing *source* package 'struct' ...
** testing if installed package can be loaded
* MD5 sums
packaged installation of 'struct' as struct_1.4.0.zip
* DONE (struct)