| Back to Multiple platform build/check report for BioC 3.13 |
|
This page was generated on 2021-10-15 15:06:25 -0400 (Fri, 15 Oct 2021).
|
To the developers/maintainers of the tilingArray package: - Please allow up to 24 hours (and sometimes 48 hours) for your latest push to git@git.bioconductor.org:packages/tilingArray.git to reflect on this report. See How and When does the builder pull? When will my changes propagate? here for more information. - Make sure to use the following settings in order to reproduce any error or warning you see on this page. |
| Package 1917/2041 | Hostname | OS / Arch | INSTALL | BUILD | CHECK | BUILD BIN | ||||||||
| tilingArray 1.70.0 (landing page) Zhenyu Xu
| nebbiolo1 | Linux (Ubuntu 20.04.2 LTS) / x86_64 | OK | OK | OK | |||||||||
| tokay2 | Windows Server 2012 R2 Standard / x64 | OK | OK | OK | OK | |||||||||
| machv2 | macOS 10.14.6 Mojave / x86_64 | OK | OK | OK | OK | |||||||||
| Package: tilingArray |
| Version: 1.70.0 |
| Command: C:\cygwin\bin\curl.exe -O http://155.52.207.165/BBS/3.13/bioc/src/contrib/tilingArray_1.70.0.tar.gz && rm -rf tilingArray.buildbin-libdir && mkdir tilingArray.buildbin-libdir && C:\Users\biocbuild\bbs-3.13-bioc\R\bin\R.exe CMD INSTALL --merge-multiarch --build --library=tilingArray.buildbin-libdir tilingArray_1.70.0.tar.gz && C:\Users\biocbuild\bbs-3.13-bioc\R\bin\R.exe CMD INSTALL tilingArray_1.70.0.zip && rm tilingArray_1.70.0.tar.gz tilingArray_1.70.0.zip |
| StartedAt: 2021-10-14 09:15:43 -0400 (Thu, 14 Oct 2021) |
| EndedAt: 2021-10-14 09:16:41 -0400 (Thu, 14 Oct 2021) |
| EllapsedTime: 58.7 seconds |
| RetCode: 0 |
| Status: OK |
##############################################################################
##############################################################################
###
### Running command:
###
### C:\cygwin\bin\curl.exe -O http://155.52.207.165/BBS/3.13/bioc/src/contrib/tilingArray_1.70.0.tar.gz && rm -rf tilingArray.buildbin-libdir && mkdir tilingArray.buildbin-libdir && C:\Users\biocbuild\bbs-3.13-bioc\R\bin\R.exe CMD INSTALL --merge-multiarch --build --library=tilingArray.buildbin-libdir tilingArray_1.70.0.tar.gz && C:\Users\biocbuild\bbs-3.13-bioc\R\bin\R.exe CMD INSTALL tilingArray_1.70.0.zip && rm tilingArray_1.70.0.tar.gz tilingArray_1.70.0.zip
###
##############################################################################
##############################################################################
% Total % Received % Xferd Average Speed Time Time Time Current
Dload Upload Total Spent Left Speed
0 0 0 0 0 0 0 0 --:--:-- --:--:-- --:--:-- 0
100 1162k 100 1162k 0 0 2248k 0 --:--:-- --:--:-- --:--:-- 2252k
install for i386
* installing *source* package 'tilingArray' ...
** using staged installation
** libs
"C:/rtools40/mingw32/bin/"gcc -I"C:/Users/BIOCBU~1/BBS-3~1.13-/R/include" -DNDEBUG -I"c:/extsoft/include" -O2 -Wall -std=gnu99 -mfpmath=sse -msse2 -mstackrealign -c findsegments.c -o findsegments.o
"C:/rtools40/mingw32/bin/"gcc -I"C:/Users/BIOCBU~1/BBS-3~1.13-/R/include" -DNDEBUG -I"c:/extsoft/include" -O2 -Wall -std=gnu99 -mfpmath=sse -msse2 -mstackrealign -c sampleStep.c -o sampleStep.o
C:/rtools40/mingw32/bin/gcc -shared -s -static-libgcc -o tilingArray.dll tmp.def findsegments.o sampleStep.o -Lc:/extsoft/lib/i386 -Lc:/extsoft/lib -LC:/Users/BIOCBU~1/BBS-3~1.13-/R/bin/i386 -lR
installing to C:/Users/biocbuild/bbs-3.13-bioc/meat/tilingArray.buildbin-libdir/00LOCK-tilingArray/00new/tilingArray/libs/i386
** R
** data
** inst
** byte-compile and prepare package for lazy loading
** help
*** installing help indices
converting help for package 'tilingArray'
finding HTML links ... done
PMindex html
breakpointsPretend html
class-segmentation html
comparisonPlot html
costMatrix html
findsegments html
gffSub html
normalizeByReference html
otherStrand html
plotAlongChrom html
plotAlongChromLegend html
plotFeatures html
plotSegmentationDots html
plotSegmentationHeatmap html
plotpenLL html
posMin html
qcPlots html
readCel2eSet html
sampleStep html
segChrom html
segment html
segnf html
tilingArray-package html
** building package indices
** installing vignettes
** testing if installed package can be loaded from temporary location
** testing if installed package can be loaded from final location
** testing if installed package keeps a record of temporary installation path
install for x64
* installing *source* package 'tilingArray' ...
** libs
"C:/rtools40/mingw64/bin/"gcc -I"C:/Users/BIOCBU~1/BBS-3~1.13-/R/include" -DNDEBUG -I"C:/extsoft/include" -O2 -Wall -std=gnu99 -mfpmath=sse -msse2 -mstackrealign -c findsegments.c -o findsegments.o
"C:/rtools40/mingw64/bin/"gcc -I"C:/Users/BIOCBU~1/BBS-3~1.13-/R/include" -DNDEBUG -I"C:/extsoft/include" -O2 -Wall -std=gnu99 -mfpmath=sse -msse2 -mstackrealign -c sampleStep.c -o sampleStep.o
C:/rtools40/mingw64/bin/gcc -shared -s -static-libgcc -o tilingArray.dll tmp.def findsegments.o sampleStep.o -LC:/extsoft/lib/x64 -LC:/extsoft/lib -LC:/Users/BIOCBU~1/BBS-3~1.13-/R/bin/x64 -lR
installing to C:/Users/biocbuild/bbs-3.13-bioc/meat/tilingArray.buildbin-libdir/tilingArray/libs/x64
** testing if installed package can be loaded
* MD5 sums
packaged installation of 'tilingArray' as tilingArray_1.70.0.zip
* DONE (tilingArray)
* installing to library 'C:/Users/biocbuild/bbs-3.13-bioc/R/library'
package 'tilingArray' successfully unpacked and MD5 sums checked