| Back to Multiple platform build/check report for BioC 3.13 |
|
This page was generated on 2021-10-15 15:06:26 -0400 (Fri, 15 Oct 2021).
|
To the developers/maintainers of the transcriptogramer package: - Please allow up to 24 hours (and sometimes 48 hours) for your latest push to git@git.bioconductor.org:packages/transcriptogramer.git to reflect on this report. See How and When does the builder pull? When will my changes propagate? here for more information. - Make sure to use the following settings in order to reproduce any error or warning you see on this page. |
| Package 1946/2041 | Hostname | OS / Arch | INSTALL | BUILD | CHECK | BUILD BIN | ||||||||
| transcriptogramer 1.14.0 (landing page) Diego Morais
| nebbiolo1 | Linux (Ubuntu 20.04.2 LTS) / x86_64 | OK | OK | OK | |||||||||
| tokay2 | Windows Server 2012 R2 Standard / x64 | OK | OK | OK | OK | |||||||||
| machv2 | macOS 10.14.6 Mojave / x86_64 | OK | OK | OK | OK | |||||||||
| Package: transcriptogramer |
| Version: 1.14.0 |
| Command: rm -rf transcriptogramer.buildbin-libdir && mkdir transcriptogramer.buildbin-libdir && C:\Users\biocbuild\bbs-3.13-bioc\R\bin\R.exe CMD INSTALL --merge-multiarch --build --library=transcriptogramer.buildbin-libdir transcriptogramer_1.14.0.tar.gz |
| StartedAt: 2021-10-15 12:15:20 -0400 (Fri, 15 Oct 2021) |
| EndedAt: 2021-10-15 12:16:44 -0400 (Fri, 15 Oct 2021) |
| EllapsedTime: 83.7 seconds |
| RetCode: 0 |
| Status: OK |
| PackageFile: transcriptogramer_1.14.0.zip |
| PackageFileSize: 5.971 MiB |
##############################################################################
##############################################################################
###
### Running command:
###
### rm -rf transcriptogramer.buildbin-libdir && mkdir transcriptogramer.buildbin-libdir && C:\Users\biocbuild\bbs-3.13-bioc\R\bin\R.exe CMD INSTALL --merge-multiarch --build --library=transcriptogramer.buildbin-libdir transcriptogramer_1.14.0.tar.gz
###
##############################################################################
##############################################################################
install for i386
* installing *source* package 'transcriptogramer' ...
** using staged installation
** R
** data
*** moving datasets to lazyload DB
** inst
** byte-compile and prepare package for lazy loading
** help
*** installing help indices
converting help for package 'transcriptogramer'
finding HTML links ... done
DE-method html
DEsymbols html
GPL570 html
GSE9988 html
Hs700 html
Hs800 html
Hs900 html
HsBPTerms html
Mm700 html
Mm800 html
Mm900 html
Rn700 html
Rn800 html
Rn900 html
Sc700 html
Sc800 html
Sc900 html
Terms-method html
Transcriptogram-class html
association html
clusterEnrichment-method html
clusterVisualization-method html
connectivityProperties-method html
differentiallyExpressed-method html
enrichmentPlot-method html
orderingProperties-method html
radius-method html
transcriptogramPreprocess html
transcriptogramStep1-method html
transcriptogramStep2-method html
transcriptogramer-package html
** building package indices
** installing vignettes
** testing if installed package can be loaded from temporary location
** testing if installed package can be loaded from final location
** testing if installed package keeps a record of temporary installation path
install for x64
* installing *source* package 'transcriptogramer' ...
** testing if installed package can be loaded
* MD5 sums
packaged installation of 'transcriptogramer' as transcriptogramer_1.14.0.zip
* DONE (transcriptogramer)