| Back to Long Tests report for BioC 3.13 |
This page was generated on 2021-12-11 17:30:01 -0500 (Sat, 11 Dec 2021).
|
To the developers/maintainers of the DelayedMatrixStats package: Please make sure to use the following settings in order to reproduce any error or warning you see on this page. |
| Package 13/20 | Hostname | OS / Arch | CHECK | |||||||
| DelayedMatrixStats 1.17.0 (landing page) Peter Hickey
| rex3 | Linux (Ubuntu 20.04.2 LTS) / x86_64 | OK | |||||||
| Package: DelayedMatrixStats |
| Version: 1.17.0 |
| Command: /home/biocbuild/bbs-3.13-bioc/R/bin/R CMD build --keep-empty-dirs --no-resave-data --no-build-vignettes --no-manual DelayedMatrixStats |
| StartedAt: 2021-12-11 09:30:16 -0500 (Sat, 11 Dec 2021) |
| EndedAt: 2021-12-11 09:30:17 -0500 (Sat, 11 Dec 2021) |
| EllapsedTime: 1.9 seconds |
| RetCode: 0 |
| Status: OK |
| PackageFile: DelayedMatrixStats_1.17.0.tar.gz |
| PackageFileSize: 46.35 KiB |
############################################################################## ############################################################################## ### ### Running command: ### ### /home/biocbuild/bbs-3.13-bioc/R/bin/R CMD build --keep-empty-dirs --no-resave-data --no-build-vignettes --no-manual DelayedMatrixStats ### ############################################################################## ############################################################################## * checking for file ‘DelayedMatrixStats/DESCRIPTION’ ... OK * preparing ‘DelayedMatrixStats’: * checking DESCRIPTION meta-information ... OK * checking for LF line-endings in source and make files and shell scripts * checking for empty or unneeded directories * building ‘DelayedMatrixStats_1.17.0.tar.gz’