| Back to Long Tests report for BioC 3.13 |
This page was generated on 2021-12-11 17:30:01 -0500 (Sat, 11 Dec 2021).
|
To the developers/maintainers of the HDF5Array package: Please make sure to use the following settings in order to reproduce any error or warning you see on this page. |
| Package 16/20 | Hostname | OS / Arch | CHECK | |||||||
| HDF5Array 1.23.2 (landing page) Hervé Pagès
| rex3 | Linux (Ubuntu 20.04.2 LTS) / x86_64 | ERROR | |||||||
| Package: HDF5Array |
| Version: 1.23.2 |
| Command: /home/biocbuild/bbs-3.13-bioc/R/bin/R CMD build --keep-empty-dirs --no-resave-data --no-build-vignettes --no-manual HDF5Array |
| StartedAt: 2021-12-11 09:30:16 -0500 (Sat, 11 Dec 2021) |
| EndedAt: 2021-12-11 09:30:20 -0500 (Sat, 11 Dec 2021) |
| EllapsedTime: 3.8 seconds |
| RetCode: 0 |
| Status: OK |
| PackageFile: HDF5Array_1.23.2.tar.gz |
| PackageFileSize: 7.722 MiB |
############################################################################## ############################################################################## ### ### Running command: ### ### /home/biocbuild/bbs-3.13-bioc/R/bin/R CMD build --keep-empty-dirs --no-resave-data --no-build-vignettes --no-manual HDF5Array ### ############################################################################## ############################################################################## * checking for file ‘HDF5Array/DESCRIPTION’ ... OK * preparing ‘HDF5Array’: * checking DESCRIPTION meta-information ... OK * cleaning src * checking for LF line-endings in source and make files and shell scripts * checking for empty or unneeded directories * building ‘HDF5Array_1.23.2.tar.gz’