| Back to Long Tests report for BioC 3.13 |
This page was generated on 2021-12-11 17:30:01 -0500 (Sat, 11 Dec 2021).
|
To the developers/maintainers of the xcms package: Please make sure to use the following settings in order to reproduce any error or warning you see on this page. |
| Package 19/20 | Hostname | OS / Arch | CHECK | |||||||
| xcms 3.17.3 (landing page) Steffen Neumann
| rex3 | Linux (Ubuntu 20.04.2 LTS) / x86_64 | ERROR | |||||||
| Package: xcms |
| Version: 3.17.3 |
| Command: /home/biocbuild/bbs-3.13-bioc/R/bin/R CMD build --keep-empty-dirs --no-resave-data --no-build-vignettes --no-manual xcms |
| StartedAt: 2021-12-11 09:30:17 -0500 (Sat, 11 Dec 2021) |
| EndedAt: 2021-12-11 09:30:21 -0500 (Sat, 11 Dec 2021) |
| EllapsedTime: 4.1 seconds |
| RetCode: 0 |
| Status: OK |
| PackageFile: xcms_3.17.3.tar.gz |
| PackageFileSize: 867.7 KiB |
############################################################################## ############################################################################## ### ### Running command: ### ### /home/biocbuild/bbs-3.13-bioc/R/bin/R CMD build --keep-empty-dirs --no-resave-data --no-build-vignettes --no-manual xcms ### ############################################################################## ############################################################################## * checking for file ‘xcms/DESCRIPTION’ ... OK * preparing ‘xcms’: * checking DESCRIPTION meta-information ... OK * cleaning src * checking for LF line-endings in source and make files and shell scripts * checking for empty or unneeded directories * looking to see if a ‘data/datalist’ file should be added * building ‘xcms_3.17.3.tar.gz’