| Back to Build/check report for BioC 3.13 experimental data | 
 | 
This page was generated on 2021-10-16 15:58:40 -0400 (Sat, 16 Oct 2021).
| To the developers/maintainers of the dressCheck package: Make sure to use the following settings in order to reproduce any error or warning you see on this page. | 
| Package 104/406 | Hostname | OS / Arch | INSTALL | BUILD | CHECK | ||||||||
| dressCheck 0.30.0  (landing page) Vincent Carey 
 | malbec2 | Linux (Ubuntu 20.04.2 LTS) / x86_64 | OK | OK | OK |  | |||||||
| Package: dressCheck | 
| Version: 0.30.0 | 
| Command: /home/biocbuild/bbs-3.13-bioc/R/bin/R CMD build --keep-empty-dirs --no-resave-data dressCheck | 
| StartedAt: 2021-10-16 11:48:22 -0400 (Sat, 16 Oct 2021) | 
| EndedAt: 2021-10-16 11:48:49 -0400 (Sat, 16 Oct 2021) | 
| EllapsedTime: 27.2 seconds | 
| RetCode: 0 | 
| Status: OK | 
| PackageFile: dressCheck_0.30.0.tar.gz | 
| PackageFileSize: 65.7 MiB | 
############################################################################## ############################################################################## ### ### Running command: ### ### /home/biocbuild/bbs-3.13-bioc/R/bin/R CMD build --keep-empty-dirs --no-resave-data dressCheck ### ############################################################################## ############################################################################## * checking for file ‘dressCheck/DESCRIPTION’ ... OK * preparing ‘dressCheck’: * checking DESCRIPTION meta-information ... OK * installing the package to build vignettes * creating vignettes ... OK * checking for LF line-endings in source and make files and shell scripts * checking for empty or unneeded directories * looking to see if a ‘data/datalist’ file should be added * building ‘dressCheck_0.30.0.tar.gz’