| Back to Multiple platform build/check report for BioC 3.14 |
|
This page was generated on 2022-04-13 12:05:06 -0400 (Wed, 13 Apr 2022).
| Hostname | OS | Arch (*) | R version | Installed pkgs |
|---|---|---|---|---|
| nebbiolo2 | Linux (Ubuntu 20.04.4 LTS) | x86_64 | 4.1.3 (2022-03-10) -- "One Push-Up" | 4324 |
| tokay2 | Windows Server 2012 R2 Standard | x64 | 4.1.3 (2022-03-10) -- "One Push-Up" | 4077 |
| machv2 | macOS 10.14.6 Mojave | x86_64 | 4.1.3 (2022-03-10) -- "One Push-Up" | 4137 |
| Click on any hostname to see more info about the system (e.g. compilers) (*) as reported by 'uname -p', except on Windows and Mac OS X | ||||
|
To the developers/maintainers of the BioCor package: - Please allow up to 24 hours (and sometimes 48 hours) for your latest push to git@git.bioconductor.org:packages/BioCor.git to reflect on this report. See How and When does the builder pull? When will my changes propagate? for more information. - Make sure to use the following settings in order to reproduce any error or warning you see on this page. |
| Package 164/2083 | Hostname | OS / Arch | INSTALL | BUILD | CHECK | BUILD BIN | ||||||||
| BioCor 1.18.0 (landing page) Lluís Revilla Sancho
| nebbiolo2 | Linux (Ubuntu 20.04.4 LTS) / x86_64 | OK | OK | OK | |||||||||
| tokay2 | Windows Server 2012 R2 Standard / x64 | OK | OK | OK | OK | |||||||||
| machv2 | macOS 10.14.6 Mojave / x86_64 | OK | OK | OK | OK | |||||||||
| Package: BioCor |
| Version: 1.18.0 |
| Command: /home/biocbuild/bbs-3.14-bioc/R/bin/R CMD check --install=check:BioCor.install-out.txt --library=/home/biocbuild/bbs-3.14-bioc/R/library --no-vignettes --timings BioCor_1.18.0.tar.gz |
| StartedAt: 2022-04-12 06:33:15 -0400 (Tue, 12 Apr 2022) |
| EndedAt: 2022-04-12 06:35:33 -0400 (Tue, 12 Apr 2022) |
| EllapsedTime: 137.9 seconds |
| RetCode: 0 |
| Status: OK |
| CheckDir: BioCor.Rcheck |
| Warnings: 0 |
############################################################################## ############################################################################## ### ### Running command: ### ### /home/biocbuild/bbs-3.14-bioc/R/bin/R CMD check --install=check:BioCor.install-out.txt --library=/home/biocbuild/bbs-3.14-bioc/R/library --no-vignettes --timings BioCor_1.18.0.tar.gz ### ############################################################################## ############################################################################## * using log directory ‘/home/biocbuild/bbs-3.14-bioc/meat/BioCor.Rcheck’ * using R version 4.1.3 (2022-03-10) * using platform: x86_64-pc-linux-gnu (64-bit) * using session charset: UTF-8 * using option ‘--no-vignettes’ * checking for file ‘BioCor/DESCRIPTION’ ... OK * this is package ‘BioCor’ version ‘1.18.0’ * package encoding: UTF-8 * checking package namespace information ... OK * checking package dependencies ... OK * checking if this is a source package ... OK * checking if there is a namespace ... OK * checking for hidden files and directories ... OK * checking for portable file names ... OK * checking for sufficient/correct file permissions ... OK * checking whether package ‘BioCor’ can be installed ... OK * checking installed package size ... OK * checking package directory ... OK * checking ‘build’ directory ... OK * checking DESCRIPTION meta-information ... OK * checking top-level files ... OK * checking for left-over files ... OK * checking index information ... OK * checking package subdirectories ... OK * checking R files for non-ASCII characters ... OK * checking R files for syntax errors ... OK * checking whether the package can be loaded ... OK * checking whether the package can be loaded with stated dependencies ... OK * checking whether the package can be unloaded cleanly ... OK * checking whether the namespace can be loaded with stated dependencies ... OK * checking whether the namespace can be unloaded cleanly ... OK * checking dependencies in R code ... OK * checking S3 generic/method consistency ... OK * checking replacement functions ... OK * checking foreign function calls ... OK * checking R code for possible problems ... OK * checking Rd files ... OK * checking Rd metadata ... OK * checking Rd cross-references ... OK * checking for missing documentation entries ... OK * checking for code/documentation mismatches ... OK * checking Rd \usage sections ... OK * checking Rd contents ... OK * checking for unstated dependencies in examples ... OK * checking R/sysdata.rda ... OK * checking files in ‘vignettes’ ... OK * checking examples ... OK * checking for unstated dependencies in ‘tests’ ... OK * checking tests ... Running ‘spelling.R’ Running ‘testthat.R’ OK * checking for unstated dependencies in vignettes ... OK * checking package vignettes in ‘inst/doc’ ... OK * checking running R code from vignettes ... SKIPPED * checking re-building of vignette outputs ... SKIPPED * checking PDF version of manual ... OK * DONE Status: OK
BioCor.Rcheck/00install.out
############################################################################## ############################################################################## ### ### Running command: ### ### /home/biocbuild/bbs-3.14-bioc/R/bin/R CMD INSTALL BioCor ### ############################################################################## ############################################################################## * installing to library ‘/home/biocbuild/bbs-3.14-bioc/R/library’ * installing *source* package ‘BioCor’ ... ** using staged installation ** R ** byte-compile and prepare package for lazy loading Creating a generic function from function ‘clusterGeneSim’ in package ‘BioCor’ Creating a generic function from function ‘clusterSim’ in package ‘BioCor’ Creating a generic function from function ‘geneSim’ in package ‘BioCor’ Creating a generic function from function ‘mclusterGeneSim’ in package ‘BioCor’ Creating a generic function from function ‘mclusterSim’ in package ‘BioCor’ Creating a generic function from function ‘mgeneSim’ in package ‘BioCor’ Creating a generic function from function ‘mpathSim’ in package ‘BioCor’ Creating a generic function from function ‘pathSim’ in package ‘BioCor’ ** help *** installing help indices *** copying figures ** building package indices ** installing vignettes ** testing if installed package can be loaded from temporary location ** testing if installed package can be loaded from final location ** testing if installed package keeps a record of temporary installation path * DONE (BioCor)
BioCor.Rcheck/tests/spelling.Rout
R version 4.1.3 (2022-03-10) -- "One Push-Up"
Copyright (C) 2022 The R Foundation for Statistical Computing
Platform: x86_64-pc-linux-gnu (64-bit)
R is free software and comes with ABSOLUTELY NO WARRANTY.
You are welcome to redistribute it under certain conditions.
Type 'license()' or 'licence()' for distribution details.
R is a collaborative project with many contributors.
Type 'contributors()' for more information and
'citation()' on how to cite R or R packages in publications.
Type 'demo()' for some demos, 'help()' for on-line help, or
'help.start()' for an HTML browser interface to help.
Type 'q()' to quit R.
> if (requireNamespace("spelling", quietly = TRUE)) {
+ spelling::spell_check_test(vignettes = TRUE, error = FALSE, skip_on_cran = TRUE)
+ }
NULL
>
> proc.time()
user system elapsed
0.163 0.030 0.196
BioCor.Rcheck/tests/testthat.Rout
R version 4.1.3 (2022-03-10) -- "One Push-Up"
Copyright (C) 2022 The R Foundation for Statistical Computing
Platform: x86_64-pc-linux-gnu (64-bit)
R is free software and comes with ABSOLUTELY NO WARRANTY.
You are welcome to redistribute it under certain conditions.
Type 'license()' or 'licence()' for distribution details.
R is a collaborative project with many contributors.
Type 'contributors()' for more information and
'citation()' on how to cite R or R packages in publications.
Type 'demo()' for some demos, 'help()' for on-line help, or
'help.start()' for an HTML browser interface to help.
Type 'q()' to quit R.
> library(testthat)
> library(BioCor)
>
> test_check("BioCor")
[ FAIL 0 | WARN 0 | SKIP 0 | PASS 322 ]
>
> proc.time()
user system elapsed
10.738 0.664 11.390
BioCor.Rcheck/BioCor-Ex.timings
| name | user | system | elapsed | |
| AintoB | 0.001 | 0.000 | 0.001 | |
| addSimilarities | 0.006 | 0.000 | 0.005 | |
| clusterGeneSim | 1.317 | 0.096 | 1.413 | |
| clusterSim | 0.548 | 0.068 | 0.615 | |
| combinadic | 0 | 0 | 0 | |
| combineScores | 0.005 | 0.000 | 0.006 | |
| combineSources | 0.002 | 0.000 | 0.002 | |
| conversions | 0 | 0 | 0 | |
| diceSim | 0 | 0 | 0 | |
| duplicateIndices | 0.001 | 0.000 | 0.000 | |
| geneSim | 2.972 | 0.132 | 3.105 | |
| mclusterGeneSim | 0.747 | 0.060 | 0.808 | |
| mclusterSim | 0.622 | 0.000 | 0.622 | |
| mgeneSim | 1.995 | 0.069 | 2.065 | |
| mpathSim | 3.471 | 0.104 | 3.576 | |
| pathSim | 2.204 | 0.072 | 2.276 | |
| removeDup | 0.003 | 0.000 | 0.003 | |
| seq2mat | 0.000 | 0.000 | 0.001 | |
| similarities | 0.003 | 0.000 | 0.003 | |
| weighted | 0.000 | 0.000 | 0.001 | |