| Back to Multiple platform build/check report for BioC 3.14 |
|
This page was generated on 2022-04-13 12:06:16 -0400 (Wed, 13 Apr 2022).
| Hostname | OS | Arch (*) | R version | Installed pkgs |
|---|---|---|---|---|
| nebbiolo2 | Linux (Ubuntu 20.04.4 LTS) | x86_64 | 4.1.3 (2022-03-10) -- "One Push-Up" | 4324 |
| tokay2 | Windows Server 2012 R2 Standard | x64 | 4.1.3 (2022-03-10) -- "One Push-Up" | 4077 |
| machv2 | macOS 10.14.6 Mojave | x86_64 | 4.1.3 (2022-03-10) -- "One Push-Up" | 4137 |
| Click on any hostname to see more info about the system (e.g. compilers) (*) as reported by 'uname -p', except on Windows and Mac OS X | ||||
|
To the developers/maintainers of the BubbleTree package: - Please allow up to 24 hours (and sometimes 48 hours) for your latest push to git@git.bioconductor.org:packages/BubbleTree.git to reflect on this report. See How and When does the builder pull? When will my changes propagate? for more information. - Make sure to use the following settings in order to reproduce any error or warning you see on this page. |
| Package 222/2083 | Hostname | OS / Arch | INSTALL | BUILD | CHECK | BUILD BIN | ||||||||
| BubbleTree 2.24.0 (landing page) Todd Creasy
| nebbiolo2 | Linux (Ubuntu 20.04.4 LTS) / x86_64 | OK | OK | OK | |||||||||
| tokay2 | Windows Server 2012 R2 Standard / x64 | OK | OK | OK | OK | |||||||||
| machv2 | macOS 10.14.6 Mojave / x86_64 | OK | OK | OK | OK | |||||||||
| Package: BubbleTree |
| Version: 2.24.0 |
| Command: rm -rf BubbleTree.buildbin-libdir && mkdir BubbleTree.buildbin-libdir && C:\Users\biocbuild\bbs-3.14-bioc\R\bin\R.exe CMD INSTALL --merge-multiarch --build --library=BubbleTree.buildbin-libdir BubbleTree_2.24.0.tar.gz |
| StartedAt: 2022-04-13 05:45:09 -0400 (Wed, 13 Apr 2022) |
| EndedAt: 2022-04-13 05:46:55 -0400 (Wed, 13 Apr 2022) |
| EllapsedTime: 105.8 seconds |
| RetCode: 0 |
| Status: OK |
| PackageFile: BubbleTree_2.24.0.zip |
| PackageFileSize: 25.89 MiB |
##############################################################################
##############################################################################
###
### Running command:
###
### rm -rf BubbleTree.buildbin-libdir && mkdir BubbleTree.buildbin-libdir && C:\Users\biocbuild\bbs-3.14-bioc\R\bin\R.exe CMD INSTALL --merge-multiarch --build --library=BubbleTree.buildbin-libdir BubbleTree_2.24.0.tar.gz
###
##############################################################################
##############################################################################
install for i386
* installing *source* package 'BubbleTree' ...
** using staged installation
It is recommended to use 'given' instead of 'middle'.
** R
** data
** inst
** byte-compile and prepare package for lazy loading
** help
*** installing help indices
converting help for package 'BubbleTree'
finding HTML links ... done
Annotate html
BTreePlotter html
BTreePredictor html
RBD html
RscoreTrack html
TrackPlotter html
all.somatic.lst html
allCNV.lst html
allCall.lst html
allHetero.lst html
allRBD.lst html
annoByGenesAndCyto html
bafTrack html
btcompare html
btpredict html
cancer.genes.minus2 html
centromere.dat html
cnv.gr html
cyto.gr html
drawBTree html
drawBubbles html
drawFeatures html
gene.uni.clean.gr html
getTracks html
heteroLociTrack html
hg19.seqinfo html
info html
loadRBD html
makeRBD html
mergeSnpCnv html
saveXLS html
snp.gr html
trackBTree html
vol.genes html
xyTrack html
** building package indices
** installing vignettes
** testing if installed package can be loaded from temporary location
** testing if installed package can be loaded from final location
** testing if installed package keeps a record of temporary installation path
install for x64
* installing *source* package 'BubbleTree' ...
** testing if installed package can be loaded
* MD5 sums
packaged installation of 'BubbleTree' as BubbleTree_2.24.0.zip
* DONE (BubbleTree)