| Back to Multiple platform build/check report for BioC 3.14 |
|
This page was generated on 2022-04-13 12:06:20 -0400 (Wed, 13 Apr 2022).
| Hostname | OS | Arch (*) | R version | Installed pkgs |
|---|---|---|---|---|
| nebbiolo2 | Linux (Ubuntu 20.04.4 LTS) | x86_64 | 4.1.3 (2022-03-10) -- "One Push-Up" | 4324 |
| tokay2 | Windows Server 2012 R2 Standard | x64 | 4.1.3 (2022-03-10) -- "One Push-Up" | 4077 |
| machv2 | macOS 10.14.6 Mojave | x86_64 | 4.1.3 (2022-03-10) -- "One Push-Up" | 4137 |
| Click on any hostname to see more info about the system (e.g. compilers) (*) as reported by 'uname -p', except on Windows and Mac OS X | ||||
|
To the developers/maintainers of the ClassifyR package: - Please allow up to 24 hours (and sometimes 48 hours) for your latest push to git@git.bioconductor.org:packages/ClassifyR.git to reflect on this report. See How and When does the builder pull? When will my changes propagate? for more information. - Make sure to use the following settings in order to reproduce any error or warning you see on this page. |
| Package 324/2083 | Hostname | OS / Arch | INSTALL | BUILD | CHECK | BUILD BIN | ||||||||
| ClassifyR 2.14.0 (landing page) Dario Strbenac
| nebbiolo2 | Linux (Ubuntu 20.04.4 LTS) / x86_64 | OK | OK | OK | |||||||||
| tokay2 | Windows Server 2012 R2 Standard / x64 | OK | OK | OK | OK | |||||||||
| machv2 | macOS 10.14.6 Mojave / x86_64 | OK | OK | OK | OK | |||||||||
| Package: ClassifyR |
| Version: 2.14.0 |
| Command: rm -rf ClassifyR.buildbin-libdir && mkdir ClassifyR.buildbin-libdir && C:\Users\biocbuild\bbs-3.14-bioc\R\bin\R.exe CMD INSTALL --merge-multiarch --build --library=ClassifyR.buildbin-libdir ClassifyR_2.14.0.tar.gz |
| StartedAt: 2022-04-13 05:52:28 -0400 (Wed, 13 Apr 2022) |
| EndedAt: 2022-04-13 05:53:39 -0400 (Wed, 13 Apr 2022) |
| EllapsedTime: 71.5 seconds |
| RetCode: 0 |
| Status: OK |
| PackageFile: ClassifyR_2.14.0.zip |
| PackageFileSize: 2.214 MiB |
##############################################################################
##############################################################################
###
### Running command:
###
### rm -rf ClassifyR.buildbin-libdir && mkdir ClassifyR.buildbin-libdir && C:\Users\biocbuild\bbs-3.14-bioc\R\bin\R.exe CMD INSTALL --merge-multiarch --build --library=ClassifyR.buildbin-libdir ClassifyR_2.14.0.tar.gz
###
##############################################################################
##############################################################################
install for i386
* installing *source* package 'ClassifyR' ...
** using staged installation
** R
** data
** inst
** byte-compile and prepare package for lazy loading
** help
*** installing help indices
converting help for package 'ClassifyR'
finding HTML links ... done
ClassifyResult-class html
finding level-2 HTML links ... done
DLDAinterface html
DMDselection html
EasyHardClassifier-class html
FeatureSetCollection-class html
FeatureSetCollectionOrNULL-class html
KolmogorovSmirnovSelection html
KullbackLeiblerSelection html
MixModelsListsSet-class html
NSCpredictInterface html
NSCselectionInterface html
NSCtrainInterface html
PredictParams-class html
ROCplot html
ResubstituteParams-class html
SVMinterface html
SelectParams-class html
SelectResult-class html
TrainParams-class html
TransformParams-class html
asthmaDataset html
bartlettSelection html
calcPerformance html
characterOrDataFrame-class html
classifyInterface html
differentMeansSelection html
distribution html
dlda-class html
easyHardClassifier html
REDIRECT:topic Previous alias or file overwritten by alias: C:/Users/biocbuild/bbs-3.14-bioc/meat/ClassifyR.buildbin-libdir/00LOCK-ClassifyR/00new/ClassifyR/help/easyHardClassifier.html
easyHardFeatures html
edgeRselection html
edgesToHubNetworks html
elasticNetFeatures html
elasticNetGLMinterface html
featureSetSummary html
fisherDiscriminant html
forestFeatures html
functionOrList-class html
functionOrNULL-class html
getLocationsAndScales html
integerOrNumeric-class html
interactorDifferences html
kTSPclassifier html
knnInterface html
leveneSelection html
likelihoodRatioSelection html
limmaSelection html
listOrCharacterOrNULL-class html
listOrNULL-class html
mixmodels html
multnet-class html
naiveBayesKernel html
networkCorrelationsSelection html
pairsDifferencesSelection html
pamrtrained-class html
performancePlot html
plotFeatureClasses html
previousSelection html
previousTrained html
randomForest-class html
randomForestInterface html
rankingPlot html
runTest html
runTests html
samplesMetricMap html
selectionPlot html
subtractFromLocation html
svm-class html
** building package indices
** installing vignettes
** testing if installed package can be loaded from temporary location
** testing if installed package can be loaded from final location
** testing if installed package keeps a record of temporary installation path
install for x64
* installing *source* package 'ClassifyR' ...
** testing if installed package can be loaded
* MD5 sums
packaged installation of 'ClassifyR' as ClassifyR_2.14.0.zip
* DONE (ClassifyR)