| Back to Multiple platform build/check report for BioC 3.14 |
|
This page was generated on 2022-04-13 12:07:50 -0400 (Wed, 13 Apr 2022).
| Hostname | OS | Arch (*) | R version | Installed pkgs |
|---|---|---|---|---|
| nebbiolo2 | Linux (Ubuntu 20.04.4 LTS) | x86_64 | 4.1.3 (2022-03-10) -- "One Push-Up" | 4324 |
| tokay2 | Windows Server 2012 R2 Standard | x64 | 4.1.3 (2022-03-10) -- "One Push-Up" | 4077 |
| machv2 | macOS 10.14.6 Mojave | x86_64 | 4.1.3 (2022-03-10) -- "One Push-Up" | 4137 |
| Click on any hostname to see more info about the system (e.g. compilers) (*) as reported by 'uname -p', except on Windows and Mac OS X | ||||
|
To the developers/maintainers of the CoreGx package: - Please allow up to 24 hours (and sometimes 48 hours) for your latest push to git@git.bioconductor.org:packages/CoreGx.git to reflect on this report. See How and When does the builder pull? When will my changes propagate? for more information. - Make sure to use the following settings in order to reproduce any error or warning you see on this page. |
| Package 400/2083 | Hostname | OS / Arch | INSTALL | BUILD | CHECK | BUILD BIN | ||||||||
| CoreGx 1.6.0 (landing page) Benjamin Haibe-Kains
| nebbiolo2 | Linux (Ubuntu 20.04.4 LTS) / x86_64 | OK | OK | OK | |||||||||
| tokay2 | Windows Server 2012 R2 Standard / x64 | OK | OK | OK | OK | |||||||||
| machv2 | macOS 10.14.6 Mojave / x86_64 | OK | OK | OK | OK | |||||||||
| Package: CoreGx |
| Version: 1.6.0 |
| Command: /Library/Frameworks/R.framework/Resources/bin/R CMD check --install=check:CoreGx.install-out.txt --library=/Library/Frameworks/R.framework/Resources/library --no-vignettes --timings CoreGx_1.6.0.tar.gz |
| StartedAt: 2022-04-12 11:59:19 -0400 (Tue, 12 Apr 2022) |
| EndedAt: 2022-04-12 12:05:05 -0400 (Tue, 12 Apr 2022) |
| EllapsedTime: 346.4 seconds |
| RetCode: 0 |
| Status: OK |
| CheckDir: CoreGx.Rcheck |
| Warnings: 0 |
############################################################################## ############################################################################## ### ### Running command: ### ### /Library/Frameworks/R.framework/Resources/bin/R CMD check --install=check:CoreGx.install-out.txt --library=/Library/Frameworks/R.framework/Resources/library --no-vignettes --timings CoreGx_1.6.0.tar.gz ### ############################################################################## ############################################################################## * using log directory ‘/Users/biocbuild/bbs-3.14-bioc/meat/CoreGx.Rcheck’ * using R version 4.1.3 (2022-03-10) * using platform: x86_64-apple-darwin17.0 (64-bit) * using session charset: UTF-8 * using option ‘--no-vignettes’ * checking for file ‘CoreGx/DESCRIPTION’ ... OK * checking extension type ... Package * this is package ‘CoreGx’ version ‘1.6.0’ * package encoding: UTF-8 * checking package namespace information ... OK * checking package dependencies ... OK * checking if this is a source package ... OK * checking if there is a namespace ... OK * checking for hidden files and directories ... OK * checking for portable file names ... OK * checking for sufficient/correct file permissions ... OK * checking whether package ‘CoreGx’ can be installed ... OK * checking installed package size ... OK * checking package directory ... OK * checking ‘build’ directory ... OK * checking DESCRIPTION meta-information ... OK * checking top-level files ... OK * checking for left-over files ... OK * checking index information ... OK * checking package subdirectories ... OK * checking R files for non-ASCII characters ... OK * checking R files for syntax errors ... OK * checking whether the package can be loaded ... OK * checking whether the package can be loaded with stated dependencies ... OK * checking whether the package can be unloaded cleanly ... OK * checking whether the namespace can be loaded with stated dependencies ... OK * checking whether the namespace can be unloaded cleanly ... OK * checking dependencies in R code ... OK * checking S3 generic/method consistency ... OK * checking replacement functions ... OK * checking foreign function calls ... OK * checking R code for possible problems ... NOTE .paste_slashes: no visible binding for global variable ‘..’ .rebuildInfo: no visible global function definition for ‘patterns’ .rebuildInfo: no visible binding for global variable ‘..keepCols’ .rebuildInfo: no visible binding for global variable ‘drugid’ .rebuildInfo: no visible binding for global variable ‘drug1id’ .rebuildInfo: no visible binding for global variable ‘drug_uid’ .rebuildInfo: no visible binding for global variable ‘..rowIDcols’ .rebuildInfo: no visible binding for global variable ‘cell_uid’ .rebuildInfo: no visible binding for global variable ‘..colIDcols’ .rebuildInfo: no visible binding for global variable ‘exp_id’ .rebuildProfiles: no visible binding for global variable ‘cell_uid’ .rebuildProfiles: no visible binding for global variable ‘drug_uid’ .rebuildProfiles: no visible binding for global variable ‘exp_id’ .rebuildRaw: no visible binding for global variable ‘.NATURAL’ .rebuildRaw: no visible binding for global variable ‘cellid’ .rebuildRaw: no visible binding for global variable ‘exp_id’ .rebuildRaw: no visible binding for global variable ‘drug1id’ .rebuildRaw: no visible binding for global variable ‘row_ids’ .rebuildRaw: no visible binding for global variable ‘col_ids’ .rebuildRaw: no visible binding for global variable ‘dose’ .rebuildRaw: no visible global function definition for ‘patterns’ .rebuildSensNumber: no visible global function definition for ‘patterns’ .rebuildSensNumber: no visible binding for global variable ‘.drugCombo’ .rebuildSensNumber: no visible binding for global variable ‘.cellCombo’ .sensitivityToLongTable: no visible binding for global variable ‘dose’ .sensitivityToLongTable: no visible binding for global variable ‘viability’ .sensitivityToLongTable: no visible binding for global variable ‘replicate_id’ .summarizePerturbationNumbers: no visible global function definition for ‘drugInfo’ .summarizeSensitivityNumbers: no visible global function definition for ‘drugInfo’ assay<-,LongTable-character: no visible binding for global variable ‘..missingRowCols’ assay<-,LongTable-character: no visible binding for global variable ‘..missingColCols’ coerce,SummarizedExperiment-data.table: no visible binding for global variable ‘.sample’ coerce,SummarizedExperiment-data.table: no visible binding for global variable ‘.feature’ colData<-,LongTable-ANY: no visible binding for global variable ‘.NATURAL’ colData<-,LongTable-ANY: no visible binding for global variable ‘.colnames’ metaConstruct,LongTableDataMapper: no visible binding for global variable ‘..rowIDs’ metaConstruct,LongTableDataMapper: no visible binding for global variable ‘..colIDs’ rowData<-,LongTable: no visible binding for global variable ‘.NATURAL’ rowData<-,LongTable: no visible binding for global variable ‘.rownames’ sensitivityRaw<-,CoreSet-array: no visible binding for global variable ‘V2’ sensitivityRaw<-,CoreSet-array: no visible binding for global variable ‘V1’ sensitivityRaw<-,CoreSet-array: no visible binding for global variable ‘cell_uid’ sensitivityRaw<-,CoreSet-array: no visible binding for global variable ‘rn’ sensitivityRaw<-,CoreSet-array: no visible binding for global variable ‘row_id’ sensitivityRaw<-,CoreSet-array: no visible binding for global variable ‘col_id’ sensitivitySlot<-,CoreSet-list_or_LongTable: no visible binding for global variable ‘funContext’ updateObject,CoreSet: no visible global function definition for ‘isValid’ Undefined global functions or variables: .. ..colIDcols ..colIDs ..keepCols ..missingColCols ..missingRowCols ..rowIDcols ..rowIDs .NATURAL .cellCombo .colnames .drugCombo .feature .rownames .sample V1 V2 cell_uid cellid col_id col_ids dose drug1id drugInfo drug_uid drugid exp_id funContext isValid patterns replicate_id rn row_id row_ids viability * checking Rd files ... OK * checking Rd metadata ... OK * checking Rd cross-references ... OK * checking for missing documentation entries ... OK * checking for code/documentation mismatches ... OK * checking Rd \usage sections ... OK * checking Rd contents ... OK * checking for unstated dependencies in examples ... OK * checking contents of ‘data’ directory ... OK * checking data for non-ASCII characters ... NOTE Note: found 8 marked UTF-8 strings * checking LazyData ... OK * checking data for ASCII and uncompressed saves ... OK * checking files in ‘vignettes’ ... OK * checking examples ... OK * checking for unstated dependencies in ‘tests’ ... OK * checking tests ... Running ‘testthat.R’ OK * checking for unstated dependencies in vignettes ... OK * checking package vignettes in ‘inst/doc’ ... OK * checking running R code from vignettes ... SKIPPED * checking re-building of vignette outputs ... SKIPPED * checking PDF version of manual ... OK * DONE Status: 2 NOTEs See ‘/Users/biocbuild/bbs-3.14-bioc/meat/CoreGx.Rcheck/00check.log’ for details.
CoreGx.Rcheck/00install.out
############################################################################## ############################################################################## ### ### Running command: ### ### /Library/Frameworks/R.framework/Resources/bin/R CMD INSTALL CoreGx ### ############################################################################## ############################################################################## * installing to library ‘/Library/Frameworks/R.framework/Versions/4.1/Resources/library’ * installing *source* package ‘CoreGx’ ... ** using staged installation ** R ** data *** moving datasets to lazyload DB Creating a generic function for ‘colnames’ from package ‘base’ in package ‘CoreGx’ Creating a generic function for ‘rownames’ from package ‘base’ in package ‘CoreGx’ ** inst ** byte-compile and prepare package for lazy loading ** help *** installing help indices ** building package indices ** installing vignettes ** testing if installed package can be loaded from temporary location ** testing if installed package can be loaded from final location ** testing if installed package keeps a record of temporary installation path * DONE (CoreGx)
CoreGx.Rcheck/tests/testthat.Rout
R version 4.1.3 (2022-03-10) -- "One Push-Up"
Copyright (C) 2022 The R Foundation for Statistical Computing
Platform: x86_64-apple-darwin17.0 (64-bit)
R is free software and comes with ABSOLUTELY NO WARRANTY.
You are welcome to redistribute it under certain conditions.
Type 'license()' or 'licence()' for distribution details.
R is a collaborative project with many contributors.
Type 'contributors()' for more information and
'citation()' on how to cite R or R packages in publications.
Type 'demo()' for some demos, 'help()' for on-line help, or
'help.start()' for an HTML browser interface to help.
Type 'q()' to quit R.
> library(testthat)
> library(CoreGx)
Loading required package: BiocGenerics
Attaching package: 'BiocGenerics'
The following objects are masked from 'package:stats':
IQR, mad, sd, var, xtabs
The following objects are masked from 'package:base':
Filter, Find, Map, Position, Reduce, anyDuplicated, append,
as.data.frame, basename, cbind, colnames, dirname, do.call,
duplicated, eval, evalq, get, grep, grepl, intersect, is.unsorted,
lapply, mapply, match, mget, order, paste, pmax, pmax.int, pmin,
pmin.int, rank, rbind, rownames, sapply, setdiff, sort, table,
tapply, union, unique, unsplit, which.max, which.min
Loading required package: SummarizedExperiment
Loading required package: MatrixGenerics
Loading required package: matrixStats
Attaching package: 'MatrixGenerics'
The following objects are masked from 'package:matrixStats':
colAlls, colAnyNAs, colAnys, colAvgsPerRowSet, colCollapse,
colCounts, colCummaxs, colCummins, colCumprods, colCumsums,
colDiffs, colIQRDiffs, colIQRs, colLogSumExps, colMadDiffs,
colMads, colMaxs, colMeans2, colMedians, colMins, colOrderStats,
colProds, colQuantiles, colRanges, colRanks, colSdDiffs, colSds,
colSums2, colTabulates, colVarDiffs, colVars, colWeightedMads,
colWeightedMeans, colWeightedMedians, colWeightedSds,
colWeightedVars, rowAlls, rowAnyNAs, rowAnys, rowAvgsPerColSet,
rowCollapse, rowCounts, rowCummaxs, rowCummins, rowCumprods,
rowCumsums, rowDiffs, rowIQRDiffs, rowIQRs, rowLogSumExps,
rowMadDiffs, rowMads, rowMaxs, rowMeans2, rowMedians, rowMins,
rowOrderStats, rowProds, rowQuantiles, rowRanges, rowRanks,
rowSdDiffs, rowSds, rowSums2, rowTabulates, rowVarDiffs, rowVars,
rowWeightedMads, rowWeightedMeans, rowWeightedMedians,
rowWeightedSds, rowWeightedVars
Loading required package: GenomicRanges
Loading required package: stats4
Loading required package: S4Vectors
Attaching package: 'S4Vectors'
The following objects are masked from 'package:base':
I, expand.grid, unname
Loading required package: IRanges
Loading required package: GenomeInfoDb
Loading required package: Biobase
Welcome to Bioconductor
Vignettes contain introductory material; view with
'browseVignettes()'. To cite Bioconductor, see
'citation("Biobase")', and for packages 'citation("pkgname")'.
Attaching package: 'Biobase'
The following object is masked from 'package:MatrixGenerics':
rowMedians
The following objects are masked from 'package:matrixStats':
anyMissing, rowMedians
>
> test_check("CoreGx")
[ FAIL 0 | WARN 0 | SKIP 0 | PASS 0 ]
>
> proc.time()
user system elapsed
14.384 0.664 15.054
CoreGx.Rcheck/CoreGx-Ex.timings
| name | user | system | elapsed | |
| CoreSet-accessors | 2.983 | 0.042 | 3.028 | |
| CoreSet-utils | 0.952 | 0.067 | 1.055 | |
| CoreSet | 0.045 | 0.006 | 0.051 | |
| CoreSet2 | 0.045 | 0.007 | 0.051 | |
| Create | 0.117 | 0.014 | 0.131 | |
| LongTable-accessors | 0.001 | 0.003 | 0.004 | |
| LongTable-class | 0.509 | 0.028 | 0.537 | |
| LongTable | 0.032 | 0.004 | 0.036 | |
| LongTableDataMapper-accessors | 0.005 | 0.001 | 0.005 | |
| LongTableDataMapper-class | 0.008 | 0.001 | 0.008 | |
| LongTableDataMapper | 0.008 | 0.003 | 0.011 | |
| amcc | 1.643 | 0.165 | 3.947 | |
| as | 2.394 | 1.129 | 1.342 | |
| as.long.table | 0.222 | 0.022 | 0.245 | |
| assayCols | 0.000 | 0.000 | 0.001 | |
| buildLongTable | 0 | 0 | 0 | |
| callingWaterfall | 0.001 | 0.000 | 0.001 | |
| cash-LongTable-method | 0.014 | 0.003 | 0.017 | |
| cash-set-LongTable-method | 0.063 | 0.006 | 0.069 | |
| checkColumnCardinality | 0.005 | 0.001 | 0.005 | |
| checkCsetStructure | 0.092 | 0.008 | 0.100 | |
| colIDs | 0 | 0 | 0 | |
| colMeta | 0.001 | 0.000 | 0.000 | |
| connectivityScore | 0.014 | 0.015 | 0.328 | |
| cosinePerm | 0.012 | 0.013 | 0.265 | |
| dot- | 0.001 | 0.000 | 0.001 | |
| dot-distancePointLine | 0.000 | 0.000 | 0.001 | |
| dot-distancePointSegment | 0.001 | 0.001 | 0.001 | |
| dot-intersectList | 0.001 | 0.001 | 0.001 | |
| dot-symSetDiffList | 0.001 | 0.001 | 0.002 | |
| dot-unionList | 0.000 | 0.001 | 0.001 | |
| getIntern | 0.001 | 0.001 | 0.001 | |
| guessMapping-LongTableDataMapper-method | 0.015 | 0.007 | 0.023 | |
| gwc | 0.050 | 0.027 | 0.365 | |
| idCols-LongTable-method | 0.001 | 0.001 | 0.001 | |
| idCols | 0.000 | 0.001 | 0.000 | |
| is.items | 0.000 | 0.001 | 0.001 | |
| mcc | 0.185 | 0.163 | 4.222 | |
| metaConstruct | 3.674 | 0.854 | 0.284 | |
| reindex | 0.000 | 0.000 | 0.001 | |
| rowIDs | 0.000 | 0.000 | 0.001 | |
| rowMeta | 0 | 0 | 0 | |
| sensitivityInfo-set | 0.000 | 0.000 | 0.001 | |
| sensitivityInfo | 0.000 | 0.000 | 0.001 | |
| sensitivityMeasures-set | 0.000 | 0.001 | 0.001 | |
| sensitivityMeasures | 0.013 | 0.003 | 0.016 | |
| sensitivityProfiles | 0.000 | 0.001 | 0.001 | |
| sensitivityRaw | 0.001 | 0.000 | 0.001 | |
| sensitivitySlotToLongTable | 0.001 | 0.000 | 0.001 | |
| show-CoreSet-method | 0.029 | 0.007 | 0.036 | |
| show-LongTable-method | 0.026 | 0.004 | 0.030 | |
| showSigAnnot | 0.000 | 0.000 | 0.001 | |
| sub-LongTable-ANY-ANY-ANY-method | 0.584 | 0.071 | 0.655 | |
| sub-subset-LongTable-ANY-ANY-method | 0.056 | 0.005 | 0.061 | |
| subset-LongTable-method | 0.412 | 0.034 | 0.446 | |
| summarizeMolecularProfiles | 0.001 | 0.000 | 0.000 | |
| summarizeSensitivityProfiles | 0.001 | 0.000 | 0.000 | |
| updateCellId | 0.355 | 0.030 | 0.384 | |