| Back to Multiple platform build/check report for BioC 3.14 |
|
This page was generated on 2022-04-13 12:06:26 -0400 (Wed, 13 Apr 2022).
| Hostname | OS | Arch (*) | R version | Installed pkgs |
|---|---|---|---|---|
| nebbiolo2 | Linux (Ubuntu 20.04.4 LTS) | x86_64 | 4.1.3 (2022-03-10) -- "One Push-Up" | 4324 |
| tokay2 | Windows Server 2012 R2 Standard | x64 | 4.1.3 (2022-03-10) -- "One Push-Up" | 4077 |
| machv2 | macOS 10.14.6 Mojave | x86_64 | 4.1.3 (2022-03-10) -- "One Push-Up" | 4137 |
| Click on any hostname to see more info about the system (e.g. compilers) (*) as reported by 'uname -p', except on Windows and Mac OS X | ||||
|
To the developers/maintainers of the DeepPINCS package: - Please allow up to 24 hours (and sometimes 48 hours) for your latest push to git@git.bioconductor.org:packages/DeepPINCS.git to reflect on this report. See How and When does the builder pull? When will my changes propagate? for more information. - Make sure to use the following settings in order to reproduce any error or warning you see on this page. |
| Package 470/2083 | Hostname | OS / Arch | INSTALL | BUILD | CHECK | BUILD BIN | ||||||||
| DeepPINCS 1.2.2 (landing page) Dongmin Jung
| nebbiolo2 | Linux (Ubuntu 20.04.4 LTS) / x86_64 | OK | OK | OK | |||||||||
| tokay2 | Windows Server 2012 R2 Standard / x64 | OK | OK | OK | OK | |||||||||
| machv2 | macOS 10.14.6 Mojave / x86_64 | OK | OK | OK | OK | |||||||||
| Package: DeepPINCS |
| Version: 1.2.2 |
| Command: rm -rf DeepPINCS.buildbin-libdir && mkdir DeepPINCS.buildbin-libdir && C:\Users\biocbuild\bbs-3.14-bioc\R\bin\R.exe --arch x64 CMD INSTALL --no-multiarch --build --library=DeepPINCS.buildbin-libdir DeepPINCS_1.2.2.tar.gz |
| StartedAt: 2022-04-13 06:01:07 -0400 (Wed, 13 Apr 2022) |
| EndedAt: 2022-04-13 06:01:41 -0400 (Wed, 13 Apr 2022) |
| EllapsedTime: 34.0 seconds |
| RetCode: 0 |
| Status: OK |
| PackageFile: DeepPINCS_1.2.2.zip |
| PackageFileSize: 2.855 MiB |
##############################################################################
##############################################################################
###
### Running command:
###
### rm -rf DeepPINCS.buildbin-libdir && mkdir DeepPINCS.buildbin-libdir && C:\Users\biocbuild\bbs-3.14-bioc\R\bin\R.exe --arch x64 CMD INSTALL --no-multiarch --build --library=DeepPINCS.buildbin-libdir DeepPINCS_1.2.2.tar.gz
###
##############################################################################
##############################################################################
* installing *source* package 'DeepPINCS' ...
** using staged installation
** R
** data
*** moving datasets to lazyload DB
** inst
** byte-compile and prepare package for lazy loading
** help
*** installing help indices
converting help for package 'DeepPINCS'
finding HTML links ... done
SARS_CoV2_3CL_Protease html
antiviral_drug html
cpi_model html
encoder_in_out html
example_bioassay html
example_cci html
example_chem html
example_cpi html
example_pd html
example_ppi html
example_prot html
get_canonical_smiles html
get_fingerprint html
get_graph_structure_node_feature html
get_seq_encode_pad html
metric_concordance_index html
metric_f1_score html
multiple_sampling_generator html
seq_check html
seq_preprocessing html
** building package indices
** installing vignettes
** testing if installed package can be loaded from temporary location
** testing if installed package can be loaded from final location
** testing if installed package keeps a record of temporary installation path
* MD5 sums
packaged installation of 'DeepPINCS' as DeepPINCS_1.2.2.zip
* DONE (DeepPINCS)