| Back to Multiple platform build/check report for BioC 3.14 | 
  | 
This page was generated on 2022-04-13 12:06:43 -0400 (Wed, 13 Apr 2022).
| Hostname | OS | Arch (*) | R version | Installed pkgs | 
|---|---|---|---|---|
| nebbiolo2 | Linux (Ubuntu 20.04.4 LTS) | x86_64 | 4.1.3 (2022-03-10) -- "One Push-Up" | 4324 | 
| tokay2 | Windows Server 2012 R2 Standard | x64 | 4.1.3 (2022-03-10) -- "One Push-Up" | 4077 | 
| machv2 | macOS 10.14.6 Mojave | x86_64 | 4.1.3 (2022-03-10) -- "One Push-Up" | 4137 | 
| Click on any hostname to see more info about the system (e.g. compilers) (*) as reported by 'uname -p', except on Windows and Mac OS X | ||||
| 
To the developers/maintainers of the HumanTranscriptomeCompendium package: - Please allow up to 24 hours (and sometimes 48 hours) for your latest push to git@git.bioconductor.org:packages/HumanTranscriptomeCompendium.git to reflect on this report. See How and When does the builder pull? When will my changes propagate? for more information. - Make sure to use the following settings in order to reproduce any error or warning you see on this page.  | 
| Package 891/2083 | Hostname | OS / Arch | INSTALL | BUILD | CHECK | BUILD BIN | ||||||||
| HumanTranscriptomeCompendium 1.10.0  (landing page) VJ Carey 
  | nebbiolo2 | Linux (Ubuntu 20.04.4 LTS) / x86_64 | OK | OK | OK | |||||||||
| tokay2 | Windows Server 2012 R2 Standard / x64 | OK | OK | OK | OK | |||||||||
| machv2 | macOS 10.14.6 Mojave / x86_64 | OK | OK | OK | OK | |||||||||
| Package: HumanTranscriptomeCompendium | 
| Version: 1.10.0 | 
| Command: rm -rf HumanTranscriptomeCompendium.buildbin-libdir && mkdir HumanTranscriptomeCompendium.buildbin-libdir && C:\Users\biocbuild\bbs-3.14-bioc\R\bin\R.exe CMD INSTALL --merge-multiarch --build --library=HumanTranscriptomeCompendium.buildbin-libdir HumanTranscriptomeCompendium_1.10.0.tar.gz | 
| StartedAt: 2022-04-13 06:25:38 -0400 (Wed, 13 Apr 2022) | 
| EndedAt: 2022-04-13 06:26:12 -0400 (Wed, 13 Apr 2022) | 
| EllapsedTime: 34.1 seconds | 
| RetCode: 0 | 
| Status: OK | 
| PackageFile: HumanTranscriptomeCompendium_1.10.0.zip | 
| PackageFileSize: 2.063 MiB | 
##############################################################################
##############################################################################
###
### Running command:
###
###   rm -rf HumanTranscriptomeCompendium.buildbin-libdir && mkdir HumanTranscriptomeCompendium.buildbin-libdir && C:\Users\biocbuild\bbs-3.14-bioc\R\bin\R.exe CMD INSTALL --merge-multiarch --build --library=HumanTranscriptomeCompendium.buildbin-libdir HumanTranscriptomeCompendium_1.10.0.tar.gz
###
##############################################################################
##############################################################################
install for i386
* installing *source* package 'HumanTranscriptomeCompendium' ...
** using staged installation
** R
** data
*** moving datasets to lazyload DB
** inst
** byte-compile and prepare package for lazy loading
** help
*** installing help indices
  converting help for package 'HumanTranscriptomeCompendium'
    finding HTML links ... done
    HumanTranscriptomeCompendium.colnames   html  
    addRD                                   html  
    ca43k                                   html  
    get_ds4841                              html  
    htx_app                                 html  
    htx_load                                html  
    htx_query_by_study_accession            html  
    htx_query_by_text                       html  
    load_bigrnaFiles                        html  
    load_experTable                         html  
    load_studTable                          html  
    path_doc4842                            html  
    procExpToGene                           html  
    tx2gene_gencode27                       html  
    uniqueAcc_120518                        html  
** building package indices
** installing vignettes
** testing if installed package can be loaded from temporary location
** testing if installed package can be loaded from final location
** testing if installed package keeps a record of temporary installation path
install for x64
* installing *source* package 'HumanTranscriptomeCompendium' ...
** testing if installed package can be loaded
* MD5 sums
packaged installation of 'HumanTranscriptomeCompendium' as HumanTranscriptomeCompendium_1.10.0.zip
* DONE (HumanTranscriptomeCompendium)