| Back to Multiple platform build/check report for BioC 3.14 |
|
This page was generated on 2022-04-13 12:05:36 -0400 (Wed, 13 Apr 2022).
| Hostname | OS | Arch (*) | R version | Installed pkgs |
|---|---|---|---|---|
| nebbiolo2 | Linux (Ubuntu 20.04.4 LTS) | x86_64 | 4.1.3 (2022-03-10) -- "One Push-Up" | 4324 |
| tokay2 | Windows Server 2012 R2 Standard | x64 | 4.1.3 (2022-03-10) -- "One Push-Up" | 4077 |
| machv2 | macOS 10.14.6 Mojave | x86_64 | 4.1.3 (2022-03-10) -- "One Push-Up" | 4137 |
| Click on any hostname to see more info about the system (e.g. compilers) (*) as reported by 'uname -p', except on Windows and Mac OS X | ||||
|
To the developers/maintainers of the MicrobiotaProcess package: - Please allow up to 24 hours (and sometimes 48 hours) for your latest push to git@git.bioconductor.org:packages/MicrobiotaProcess.git to reflect on this report. See How and When does the builder pull? When will my changes propagate? for more information. - Make sure to use the following settings in order to reproduce any error or warning you see on this page. |
| Package 1146/2083 | Hostname | OS / Arch | INSTALL | BUILD | CHECK | BUILD BIN | ||||||||
| MicrobiotaProcess 1.6.6 (landing page) Shuangbin Xu
| nebbiolo2 | Linux (Ubuntu 20.04.4 LTS) / x86_64 | OK | OK | OK | |||||||||
| tokay2 | Windows Server 2012 R2 Standard / x64 | OK | OK | OK | OK | |||||||||
| machv2 | macOS 10.14.6 Mojave / x86_64 | OK | OK | OK | OK | |||||||||
| Package: MicrobiotaProcess |
| Version: 1.6.6 |
| Command: /home/biocbuild/bbs-3.14-bioc/R/bin/R CMD check --install=check:MicrobiotaProcess.install-out.txt --library=/home/biocbuild/bbs-3.14-bioc/R/library --no-vignettes --timings MicrobiotaProcess_1.6.6.tar.gz |
| StartedAt: 2022-04-12 08:13:43 -0400 (Tue, 12 Apr 2022) |
| EndedAt: 2022-04-12 08:17:58 -0400 (Tue, 12 Apr 2022) |
| EllapsedTime: 254.9 seconds |
| RetCode: 0 |
| Status: OK |
| CheckDir: MicrobiotaProcess.Rcheck |
| Warnings: 0 |
##############################################################################
##############################################################################
###
### Running command:
###
### /home/biocbuild/bbs-3.14-bioc/R/bin/R CMD check --install=check:MicrobiotaProcess.install-out.txt --library=/home/biocbuild/bbs-3.14-bioc/R/library --no-vignettes --timings MicrobiotaProcess_1.6.6.tar.gz
###
##############################################################################
##############################################################################
* using log directory ‘/home/biocbuild/bbs-3.14-bioc/meat/MicrobiotaProcess.Rcheck’
* using R version 4.1.3 (2022-03-10)
* using platform: x86_64-pc-linux-gnu (64-bit)
* using session charset: UTF-8
* using option ‘--no-vignettes’
* checking for file ‘MicrobiotaProcess/DESCRIPTION’ ... OK
* checking extension type ... Package
* this is package ‘MicrobiotaProcess’ version ‘1.6.6’
* package encoding: UTF-8
* checking package namespace information ... OK
* checking package dependencies ... OK
* checking if this is a source package ... OK
* checking if there is a namespace ... OK
* checking for hidden files and directories ... OK
* checking for portable file names ... OK
* checking for sufficient/correct file permissions ... OK
* checking whether package ‘MicrobiotaProcess’ can be installed ... OK
* checking installed package size ... OK
* checking package directory ... OK
* checking ‘build’ directory ... OK
* checking DESCRIPTION meta-information ... OK
* checking top-level files ... OK
* checking for left-over files ... OK
* checking index information ... OK
* checking package subdirectories ... OK
* checking R files for non-ASCII characters ... OK
* checking R files for syntax errors ... OK
* checking whether the package can be loaded ... OK
* checking whether the package can be loaded with stated dependencies ... OK
* checking whether the package can be unloaded cleanly ... OK
* checking whether the namespace can be loaded with stated dependencies ... OK
* checking whether the namespace can be unloaded cleanly ... OK
* checking dependencies in R code ... OK
* checking S3 generic/method consistency ... OK
* checking replacement functions ... OK
* checking foreign function calls ... OK
* checking R code for possible problems ... OK
* checking Rd files ... OK
* checking Rd metadata ... OK
* checking Rd cross-references ... OK
* checking for missing documentation entries ... OK
* checking for code/documentation mismatches ... OK
* checking Rd \usage sections ... OK
* checking Rd contents ... OK
* checking for unstated dependencies in examples ... OK
* checking contents of ‘data’ directory ... OK
* checking data for non-ASCII characters ... OK
* checking data for ASCII and uncompressed saves ... OK
* checking files in ‘vignettes’ ... OK
* checking examples ... OK
Examples with CPU (user + system) or elapsed time > 5s
user system elapsed
mp_cal_abundance-methods 6.300 0.027 6.087
mp_cal_rarecurve-methods 5.089 0.032 5.121
* checking for unstated dependencies in ‘tests’ ... OK
* checking tests ...
Running ‘testthat.R’
OK
* checking for unstated dependencies in vignettes ... OK
* checking package vignettes in ‘inst/doc’ ... OK
* checking running R code from vignettes ... SKIPPED
* checking re-building of vignette outputs ... SKIPPED
* checking PDF version of manual ... OK
* DONE
Status: OK
MicrobiotaProcess.Rcheck/00install.out
############################################################################## ############################################################################## ### ### Running command: ### ### /home/biocbuild/bbs-3.14-bioc/R/bin/R CMD INSTALL MicrobiotaProcess ### ############################################################################## ############################################################################## * installing to library ‘/home/biocbuild/bbs-3.14-bioc/R/library’ * installing *source* package ‘MicrobiotaProcess’ ... ** using staged installation ** R ** data ** inst ** byte-compile and prepare package for lazy loading in method for ‘taxonomy<-’ with signature ‘x="MPSE",value="taxonomyTable"’: no definition for class “taxonomyTable” Creating a generic function for ‘rownames<-’ from package ‘base’ in package ‘MicrobiotaProcess’ in method for ‘get_alltaxadf’ with signature ‘"phyloseq"’: no definition for class “phyloseq” in method for ‘get_taxadf’ with signature ‘"phyloseq"’: no definition for class “phyloseq” in method for ‘get_alphaindex’ with signature ‘"phyloseq"’: no definition for class “phyloseq” in method for ‘get_NRI_NTI’ with signature ‘"phyloseq"’: no definition for class “phyloseq” in method for ‘get_rarecurve’ with signature ‘"phyloseq"’: no definition for class “phyloseq” in method for ‘get_upset’ with signature ‘"phyloseq"’: no definition for class “phyloseq” in method for ‘get_vennlist’ with signature ‘"phyloseq"’: no definition for class “phyloseq” in method for ‘drop_taxa’ with signature ‘"phyloseq"’: no definition for class “phyloseq” ** help *** installing help indices ** building package indices ** installing vignettes ** testing if installed package can be loaded from temporary location ** testing if installed package can be loaded from final location ** testing if installed package keeps a record of temporary installation path * DONE (MicrobiotaProcess)
MicrobiotaProcess.Rcheck/tests/testthat.Rout
R version 4.1.3 (2022-03-10) -- "One Push-Up"
Copyright (C) 2022 The R Foundation for Statistical Computing
Platform: x86_64-pc-linux-gnu (64-bit)
R is free software and comes with ABSOLUTELY NO WARRANTY.
You are welcome to redistribute it under certain conditions.
Type 'license()' or 'licence()' for distribution details.
R is a collaborative project with many contributors.
Type 'contributors()' for more information and
'citation()' on how to cite R or R packages in publications.
Type 'demo()' for some demos, 'help()' for on-line help, or
'help.start()' for an HTML browser interface to help.
Type 'q()' to quit R.
> library("testthat")
> library("MicrobiotaProcess")
MicrobiotaProcess v1.6.6 For help:
https://github.com/YuLab-SMU/MicrobiotaProcess/issues
If you use MicrobiotaProcess in published research, please cite the
paper:
S Xu, L Zhan, W Tang, Z Dai, L Zhou, T Feng, M Chen, S Liu, X Fu, T Wu,
E Hu, G Yu. MicrobiotaProcess: A comprehensive R package for managing
and analyzing microbiome and other ecological data within the tidy
framework. 04 February 2022, PREPRINT (Version 1) available at Research
Square [https://doi.org/10.21203/rs.3.rs-1284357/v1]
This message can be suppressed by:
suppressPackageStartupMessages(library(MicrobiotaProcess))
Attaching package: 'MicrobiotaProcess'
The following object is masked from 'package:stats':
filter
> test_check("MicrobiotaProcess")
[ FAIL 0 | WARN 0 | SKIP 0 | PASS 13 ]
>
> proc.time()
user system elapsed
11.432 0.564 11.864
MicrobiotaProcess.Rcheck/MicrobiotaProcess-Ex.timings
| name | user | system | elapsed | |
| ImportDada2 | 1.269 | 0.064 | 1.333 | |
| ImportQiime2 | 3.396 | 0.108 | 3.509 | |
| MPSE | 0.121 | 0.000 | 0.121 | |
| as.treedata | 0 | 0 | 0 | |
| build_tree | 0 | 0 | 0 | |
| convert_to_treedata | 0 | 0 | 0 | |
| data-hmp_aerobiosis_small | 0.007 | 0.003 | 0.012 | |
| data-kostic2012crc | 0.016 | 0.012 | 0.028 | |
| data-test_otu_data | 0.002 | 0.000 | 0.002 | |
| diff_analysis | 0 | 0 | 0 | |
| dr_extract | 0.000 | 0.000 | 0.001 | |
| drop_taxa | 0 | 0 | 0 | |
| generalizedFC | 0.006 | 0.000 | 0.006 | |
| get_alltaxadf | 0 | 0 | 0 | |
| get_alphaindex | 0.000 | 0.000 | 0.001 | |
| get_clust | 0 | 0 | 0 | |
| get_coord | 0 | 0 | 0 | |
| get_count | 0 | 0 | 0 | |
| get_dist | 0 | 0 | 0 | |
| get_mean_median | 0 | 0 | 0 | |
| get_pca | 0 | 0 | 0 | |
| get_pcoa | 0.000 | 0.000 | 0.001 | |
| get_pvalue | 0.105 | 0.004 | 0.110 | |
| get_rarecurve | 0.000 | 0.000 | 0.001 | |
| get_sampledflist | 0 | 0 | 0 | |
| get_taxadf | 0 | 0 | 0 | |
| get_upset | 0 | 0 | 0 | |
| get_varct | 0 | 0 | 0 | |
| get_vennlist | 0 | 0 | 0 | |
| ggbartax | 0.001 | 0.000 | 0.000 | |
| ggbox | 0 | 0 | 0 | |
| ggclust | 0 | 0 | 0 | |
| ggdiffbox | 0.000 | 0.000 | 0.001 | |
| ggdiffclade | 0 | 0 | 0 | |
| ggdifftaxbar | 0 | 0 | 0 | |
| ggeffectsize | 0 | 0 | 0 | |
| ggordpoint | 0 | 0 | 0 | |
| ggrarecurve | 0 | 0 | 0 | |
| mp_adonis-methods | 0.115 | 0.000 | 0.115 | |
| mp_aggregate-methods | 0.000 | 0.000 | 0.001 | |
| mp_aggregate_clade-methods | 0 | 0 | 0 | |
| mp_anosim-methods | 0.930 | 0.027 | 0.959 | |
| mp_balance_clade-methods | 0.001 | 0.000 | 0.000 | |
| mp_cal_abundance-methods | 6.300 | 0.027 | 6.087 | |
| mp_cal_alpha-methods | 0.990 | 0.001 | 0.991 | |
| mp_cal_cca-methods | 0.741 | 0.004 | 0.745 | |
| mp_cal_clust-methods | 0.393 | 0.000 | 0.393 | |
| mp_cal_dist-methods | 1.526 | 0.004 | 1.530 | |
| mp_cal_nmds-methods | 0.226 | 0.012 | 0.238 | |
| mp_cal_pca-methods | 1.859 | 0.076 | 1.935 | |
| mp_cal_pcoa-methods | 0.537 | 0.076 | 0.613 | |
| mp_cal_pd_metric-methods | 0.001 | 0.000 | 0.000 | |
| mp_cal_rarecurve-methods | 5.089 | 0.032 | 5.121 | |
| mp_cal_rda-methods | 0.539 | 0.028 | 0.566 | |
| mp_cal_upset-methods | 1.008 | 0.012 | 1.012 | |
| mp_cal_venn-methods | 1.581 | 0.040 | 1.625 | |
| mp_decostand-methods | 0.382 | 0.004 | 0.386 | |
| mp_diff_analysis-methods | 4.365 | 0.056 | 4.298 | |
| mp_diff_clade-methods | 0 | 0 | 0 | |
| mp_envfit-methods | 2.351 | 0.004 | 2.355 | |
| mp_filter_taxa-methods | 0.987 | 0.003 | 0.989 | |
| mp_import_metaphlan | 2.514 | 0.008 | 2.522 | |
| mp_mantel-methods | 0.250 | 0.004 | 0.254 | |
| mp_mrpp-methods | 0.155 | 0.000 | 0.155 | |
| mp_plot_abundance-methods | 0 | 0 | 0 | |
| mp_plot_alpha-methods | 0 | 0 | 0 | |
| mp_plot_dist-methods | 0 | 0 | 0 | |
| mp_plot_ord-methods | 0 | 0 | 0 | |
| mp_plot_rarecurve-methods | 0.000 | 0.000 | 0.001 | |
| mp_plot_upset-methods | 0 | 0 | 0 | |
| mp_plot_venn-methods | 0 | 0 | 0 | |
| mp_rrarefy-methods | 0.373 | 0.001 | 0.374 | |
| mp_select_as_tip-methods | 0 | 0 | 0 | |
| mp_stat_taxa-methods | 0.832 | 0.003 | 0.721 | |
| multi_compare | 0.008 | 0.000 | 0.008 | |
| read_qza | 0 | 0 | 0 | |
| show-methods | 0 | 0 | 0 | |
| split_data | 0.003 | 0.000 | 0.003 | |
| split_str_to_list | 0 | 0 | 0 | |
| theme_taxbar | 0 | 0 | 0 | |