| Back to Multiple platform build/check report for BioC 3.14 | 
  | 
This page was generated on 2022-04-13 12:05:53 -0400 (Wed, 13 Apr 2022).
| Hostname | OS | Arch (*) | R version | Installed pkgs | 
|---|---|---|---|---|
| nebbiolo2 | Linux (Ubuntu 20.04.4 LTS) | x86_64 | 4.1.3 (2022-03-10) -- "One Push-Up" | 4324 | 
| tokay2 | Windows Server 2012 R2 Standard | x64 | 4.1.3 (2022-03-10) -- "One Push-Up" | 4077 | 
| machv2 | macOS 10.14.6 Mojave | x86_64 | 4.1.3 (2022-03-10) -- "One Push-Up" | 4137 | 
| Click on any hostname to see more info about the system (e.g. compilers) (*) as reported by 'uname -p', except on Windows and Mac OS X | ||||
| 
To the developers/maintainers of the RpsiXML package: - Please allow up to 24 hours (and sometimes 48 hours) for your latest push to git@git.bioconductor.org:packages/RpsiXML.git to reflect on this report. See How and When does the builder pull? When will my changes propagate? for more information. - Make sure to use the following settings in order to reproduce any error or warning you see on this page.  | 
| Package 1651/2083 | Hostname | OS / Arch | INSTALL | BUILD | CHECK | BUILD BIN | ||||||||
| RpsiXML 2.36.0  (landing page) Jitao David Zhang 
  | nebbiolo2 | Linux (Ubuntu 20.04.4 LTS) / x86_64 | OK | OK | OK | |||||||||
| tokay2 | Windows Server 2012 R2 Standard / x64 | OK | OK | OK | OK | |||||||||
| machv2 | macOS 10.14.6 Mojave / x86_64 | OK | OK | OK | OK | |||||||||
| Package: RpsiXML | 
| Version: 2.36.0 | 
| Command: /home/biocbuild/bbs-3.14-bioc/R/bin/R CMD check --install=check:RpsiXML.install-out.txt --library=/home/biocbuild/bbs-3.14-bioc/R/library --no-vignettes --timings RpsiXML_2.36.0.tar.gz | 
| StartedAt: 2022-04-12 09:08:24 -0400 (Tue, 12 Apr 2022) | 
| EndedAt: 2022-04-12 09:10:25 -0400 (Tue, 12 Apr 2022) | 
| EllapsedTime: 120.5 seconds | 
| RetCode: 0 | 
| Status: OK | 
| CheckDir: RpsiXML.Rcheck | 
| Warnings: 0 | 
############################################################################## ############################################################################## ### ### Running command: ### ### /home/biocbuild/bbs-3.14-bioc/R/bin/R CMD check --install=check:RpsiXML.install-out.txt --library=/home/biocbuild/bbs-3.14-bioc/R/library --no-vignettes --timings RpsiXML_2.36.0.tar.gz ### ############################################################################## ############################################################################## * using log directory ‘/home/biocbuild/bbs-3.14-bioc/meat/RpsiXML.Rcheck’ * using R version 4.1.3 (2022-03-10) * using platform: x86_64-pc-linux-gnu (64-bit) * using session charset: UTF-8 * using option ‘--no-vignettes’ * checking for file ‘RpsiXML/DESCRIPTION’ ... OK * this is package ‘RpsiXML’ version ‘2.36.0’ * checking package namespace information ... OK * checking package dependencies ... OK * checking if this is a source package ... OK * checking if there is a namespace ... OK * checking for hidden files and directories ... OK * checking for portable file names ... OK * checking for sufficient/correct file permissions ... OK * checking whether package ‘RpsiXML’ can be installed ... OK * checking installed package size ... OK * checking package directory ... OK * checking ‘build’ directory ... OK * checking DESCRIPTION meta-information ... OK * checking top-level files ... OK * checking for left-over files ... OK * checking index information ... OK * checking package subdirectories ... OK * checking R files for non-ASCII characters ... OK * checking R files for syntax errors ... OK * checking whether the package can be loaded ... OK * checking whether the package can be loaded with stated dependencies ... OK * checking whether the package can be unloaded cleanly ... OK * checking whether the namespace can be loaded with stated dependencies ... OK * checking whether the namespace can be unloaded cleanly ... OK * checking dependencies in R code ... OK * checking S3 generic/method consistency ... OK * checking replacement functions ... OK * checking foreign function calls ... OK * checking R code for possible problems ... OK * checking Rd files ... OK * checking Rd metadata ... OK * checking Rd cross-references ... OK * checking for missing documentation entries ... OK * checking for code/documentation mismatches ... OK * checking Rd \usage sections ... OK * checking Rd contents ... OK * checking for unstated dependencies in examples ... OK * checking files in ‘vignettes’ ... OK * checking examples ... OK * checking for unstated dependencies in ‘tests’ ... OK * checking tests ... Running ‘testthat.R’ OK * checking for unstated dependencies in vignettes ... OK * checking package vignettes in ‘inst/doc’ ... OK * checking running R code from vignettes ... SKIPPED * checking re-building of vignette outputs ... SKIPPED * checking PDF version of manual ... OK * DONE Status: OK
RpsiXML.Rcheck/00install.out
############################################################################## ############################################################################## ### ### Running command: ### ### /home/biocbuild/bbs-3.14-bioc/R/bin/R CMD INSTALL RpsiXML ### ############################################################################## ############################################################################## * installing to library ‘/home/biocbuild/bbs-3.14-bioc/R/library’ * installing *source* package ‘RpsiXML’ ... ** using staged installation ** R ** inst ** byte-compile and prepare package for lazy loading ** help *** installing help indices ** building package indices ** installing vignettes ** testing if installed package can be loaded from temporary location ** testing if installed package can be loaded from final location ** testing if installed package keeps a record of temporary installation path * DONE (RpsiXML)
RpsiXML.Rcheck/tests/testthat.Rout
R version 4.1.3 (2022-03-10) -- "One Push-Up"
Copyright (C) 2022 The R Foundation for Statistical Computing
Platform: x86_64-pc-linux-gnu (64-bit)
R is free software and comes with ABSOLUTELY NO WARRANTY.
You are welcome to redistribute it under certain conditions.
Type 'license()' or 'licence()' for distribution details.
R is a collaborative project with many contributors.
Type 'contributors()' for more information and
'citation()' on how to cite R or R packages in publications.
Type 'demo()' for some demos, 'help()' for on-line help, or
'help.start()' for an HTML browser interface to help.
Type 'q()' to quit R.
> library(testthat)
> library(RpsiXML)
Loading required package: XML
> 
> test_check("RpsiXML")
1 Entries found
Parsing entry 1 
  Parsing experiments: .........
  Parsing interactors:
  14% ======>
  29% ============>
  43% =================>
  57% =======================>
  71% ============================>
  86% ==================================>
  100% ========================================>
  Parsing interactions:
......
1 Entries found
Parsing entry 1 
  Parsing experiments: ...
  Parsing interactors:
  14% ======>
  29% ============>
  43% =================>
  57% =======================>
  71% ============================>
  86% ==================================>
  100% ========================================>
  Parsing interactions:
.....
1 Entries found
Parsing entry 1 
  Parsing experiments: ..
  Parsing interactors:
  6% ==>
  12% =====>
  19% ========>
  25% ==========>
  31% ============>
  38% ===============>
  44% ==================>
  50% ====================>
  56% ======================>
  62% =========================>
  69% ============================>
  75% ==============================>
  81% ================================>
  88% ===================================>
  94% ======================================>
  100% ========================================>
  Parsing interactions:
.................
1 Entries found
Parsing entry 1 
  Parsing experiments: ..
  Parsing interactors:
  3% =>
  6% ==>
  10% ====>
  13% =====>
  16% ======>
  19% ========>
  23% =========>
  26% ==========>
  29% ============>
  32% =============>
  35% ==============>
  39% ================>
  42% =================>
  45% ==================>
  48% ===================>
  52% =====================>
  55% ======================>
  58% =======================>
  61% ========================>
  65% ==========================>
  68% ===========================>
  71% ============================>
  74% ==============================>
  77% ===============================>
  81% ================================>
  84% ==================================>
  87% ===================================>
  90% ====================================>
  94% ======================================>
  97% =======================================>
  100% ========================================>
  Parsing interactions:
.............................................................................................
1 Entries found
Parsing entry 1 
  Parsing experiments: ..
  Parsing interactors:
  3% =>
  6% ==>
  10% ====>
  13% =====>
  16% ======>
  19% ========>
  23% =========>
  26% ==========>
  29% ============>
  32% =============>
  35% ==============>
  39% ================>
  42% =================>
  45% ==================>
  48% ===================>
  52% =====================>
  55% ======================>
  58% =======================>
  61% ========================>
  65% ==========================>
  68% ===========================>
  71% ============================>
  74% ==============================>
  77% ===============================>
  81% ================================>
  84% ==================================>
  87% ===================================>
  90% ====================================>
  94% ======================================>
  97% =======================================>
  100% ========================================>
  Parsing interactions:
.............................................................................................
1 Entries found
Parsing entry 1 
  Parsing experiments: 
  Parsing interactors:
  3% =>
  5% ==>
  8% ===>
  10% ====>
  13% =====>
  15% ======>
  18% =======>
  20% ========>
  23% =========>
  25% ==========>
  28% ===========>
  30% ============>
  33% =============>
  35% ==============>
  38% ===============>
  40% ================>
  43% =================>
  45% ==================>
  48% ===================>
  50% ====================>
  53% =====================>
  55% ======================>
  58% =======================>
  60% ========================>
  63% =========================>
  65% ==========================>
  68% ===========================>
  70% ============================>
  73% =============================>
  75% ==============================>
  78% ===============================>
  80% ================================>
  83% =================================>
  86% ==================================>
  88% ===================================>
  91% ====================================>
  93% =====================================>
  96% ======================================>
  98% =======================================>
  100% ========================================>
  Parsing interactions:
............................................................................................................................................................................................................................................................................................................................................................................................................................................................................................................................................................................................................................................................................................................................................................................................................................................................................................................................................................................................................................................................................................................................................................................................................................................................................................................................................................................................................................................................................................................................................................................................................................................................................................................................................................................................................................................
141 Entries found
Parsing entry 1 
  Parsing experiments: 
  Parsing interactors:
  50% ====================>
  100% ========================================>
  Parsing interactions:
.
[ FAIL 0 | WARN 0 | SKIP 0 | PASS 0 ]
> 
> proc.time()
   user  system elapsed 
 15.522   0.627  16.145 
RpsiXML.Rcheck/RpsiXML-Ex.timings
| name | user | system | elapsed | |
| availableXrefs | 0.045 | 0.000 | 0.046 | |
| bait | 0.040 | 0.000 | 0.041 | |
| buildPCHypergraph | 1.404 | 0.119 | 1.523 | |
| complexName | 0.946 | 0.016 | 0.963 | |
| complexes | 1.127 | 0.032 | 1.158 | |
| eListHandler | 0.003 | 0.004 | 0.007 | |
| getAbstractByPMID | 0.269 | 0.001 | 1.037 | |
| graphSpeciesConverter | 1.662 | 0.031 | 1.694 | |
| interactionType | 0.039 | 0.000 | 0.039 | |
| interactions | 0.039 | 0.000 | 0.039 | |
| interactorInfo | 0.032 | 0.003 | 0.036 | |
| interactors | 1.004 | 0.036 | 1.041 | |
| null2na | 0 | 0 | 0 | |
| parsePsimi25Interaction | 1.478 | 0.083 | 1.562 | |
| psimi25Complex-class | 0.001 | 0.000 | 0.001 | |
| psimi25ComplexEntry-class | 0 | 0 | 0 | |
| psimi25Experiment-class | 0.000 | 0.001 | 0.000 | |
| psimi25Graph-class | 0.000 | 0.001 | 0.001 | |
| psimi25Hypergraph-class | 1.176 | 0.006 | 1.182 | |
| psimi25Hypergraph2GraphNEL | 0 | 0 | 0 | |
| psimi25Interaction-class | 0.001 | 0.000 | 0.001 | |
| psimi25InteractionEntry-class | 0.001 | 0.000 | 0.000 | |
| psimi25Interactor-class | 0.001 | 0.000 | 0.000 | |
| psimi25Source-class | 0 | 0 | 0 | |
| psimi25XML2Graph | 1.406 | 0.035 | 1.442 | |
| separateXMLDataByExpt | 0.228 | 0.000 | 0.227 | |
| translateID | 2.689 | 0.028 | 2.717 | |
| uniprot | 0 | 0 | 0 | |
| validatePSIMI25 | 0.036 | 0.016 | 0.052 | |