| Back to Multiple platform build/check report for BioC 3.14 |
|
This page was generated on 2022-04-13 12:07:32 -0400 (Wed, 13 Apr 2022).
| Hostname | OS | Arch (*) | R version | Installed pkgs |
|---|---|---|---|---|
| nebbiolo2 | Linux (Ubuntu 20.04.4 LTS) | x86_64 | 4.1.3 (2022-03-10) -- "One Push-Up" | 4324 |
| tokay2 | Windows Server 2012 R2 Standard | x64 | 4.1.3 (2022-03-10) -- "One Push-Up" | 4077 |
| machv2 | macOS 10.14.6 Mojave | x86_64 | 4.1.3 (2022-03-10) -- "One Push-Up" | 4137 |
| Click on any hostname to see more info about the system (e.g. compilers) (*) as reported by 'uname -p', except on Windows and Mac OS X | ||||
|
To the developers/maintainers of the VariantFiltering package: - Please allow up to 24 hours (and sometimes 48 hours) for your latest push to git@git.bioconductor.org:packages/VariantFiltering.git to reflect on this report. See How and When does the builder pull? When will my changes propagate? for more information. - Make sure to use the following settings in order to reproduce any error or warning you see on this page. |
| Package 2040/2083 | Hostname | OS / Arch | INSTALL | BUILD | CHECK | BUILD BIN | ||||||||
| VariantFiltering 1.30.0 (landing page) Robert Castelo
| nebbiolo2 | Linux (Ubuntu 20.04.4 LTS) / x86_64 | OK | OK | OK | |||||||||
| tokay2 | Windows Server 2012 R2 Standard / x64 | OK | OK | OK | OK | |||||||||
| machv2 | macOS 10.14.6 Mojave / x86_64 | OK | OK | OK | OK | |||||||||
| Package: VariantFiltering |
| Version: 1.30.0 |
| Command: C:\Users\biocbuild\bbs-3.14-bioc\R\bin\R.exe CMD check --force-multiarch --install=check:VariantFiltering.install-out.txt --library=C:\Users\biocbuild\bbs-3.14-bioc\R\library --no-vignettes --timings VariantFiltering_1.30.0.tar.gz |
| StartedAt: 2022-04-13 04:39:08 -0400 (Wed, 13 Apr 2022) |
| EndedAt: 2022-04-13 04:51:19 -0400 (Wed, 13 Apr 2022) |
| EllapsedTime: 731.0 seconds |
| RetCode: 0 |
| Status: OK |
| CheckDir: VariantFiltering.Rcheck |
| Warnings: 0 |
##############################################################################
##############################################################################
###
### Running command:
###
### C:\Users\biocbuild\bbs-3.14-bioc\R\bin\R.exe CMD check --force-multiarch --install=check:VariantFiltering.install-out.txt --library=C:\Users\biocbuild\bbs-3.14-bioc\R\library --no-vignettes --timings VariantFiltering_1.30.0.tar.gz
###
##############################################################################
##############################################################################
* using log directory 'C:/Users/biocbuild/bbs-3.14-bioc/meat/VariantFiltering.Rcheck'
* using R version 4.1.3 (2022-03-10)
* using platform: x86_64-w64-mingw32 (64-bit)
* using session charset: ISO8859-1
* using option '--no-vignettes'
* checking for file 'VariantFiltering/DESCRIPTION' ... OK
* checking extension type ... Package
* this is package 'VariantFiltering' version '1.30.0'
* checking package namespace information ... OK
* checking package dependencies ... OK
* checking if this is a source package ... OK
* checking if there is a namespace ... OK
* checking for hidden files and directories ... OK
* checking for portable file names ... OK
* checking whether package 'VariantFiltering' can be installed ... OK
* checking installed package size ... NOTE
installed size is 5.5Mb
sub-directories of 1Mb or more:
R 1.0Mb
extdata 3.7Mb
* checking package directory ... OK
* checking 'build' directory ... OK
* checking DESCRIPTION meta-information ... OK
* checking top-level files ... OK
* checking for left-over files ... OK
* checking index information ... OK
* checking package subdirectories ... OK
* checking R files for non-ASCII characters ... OK
* checking R files for syntax errors ... OK
* loading checks for arch 'i386'
** checking whether the package can be loaded ... OK
** checking whether the package can be loaded with stated dependencies ... OK
** checking whether the package can be unloaded cleanly ... OK
** checking whether the namespace can be loaded with stated dependencies ... OK
** checking whether the namespace can be unloaded cleanly ... OK
* loading checks for arch 'x64'
** checking whether the package can be loaded ... OK
** checking whether the package can be loaded with stated dependencies ... OK
** checking whether the package can be unloaded cleanly ... OK
** checking whether the namespace can be loaded with stated dependencies ... OK
** checking whether the namespace can be unloaded cleanly ... OK
* checking dependencies in R code ... NOTE
Unexported objects imported by ':::' calls:
'S4Vectors:::labeledLine' 'VariantAnnotation:::.checkArgs'
'VariantAnnotation:::.consolidateHits'
'VariantAnnotation:::.returnEmpty'
See the note in ?`:::` about the use of this operator.
There are ::: calls to the package's namespace in its code. A package
almost never needs to use ::: for its own objects:
'.adjustForStrandSense' '.ancestorsSO' '.findSOIDs'
* checking S3 generic/method consistency ... OK
* checking replacement functions ... OK
* checking foreign function calls ... OK
* checking R code for possible problems ... OK
* checking Rd files ... OK
* checking Rd metadata ... OK
* checking Rd cross-references ... OK
* checking for missing documentation entries ... OK
* checking for code/documentation mismatches ... OK
* checking Rd \usage sections ... OK
* checking Rd contents ... OK
* checking for unstated dependencies in examples ... OK
* checking line endings in C/C++/Fortran sources/headers ... OK
* checking compiled code ... NOTE
Note: information on .o files for i386 is not available
Note: information on .o files for x64 is not available
File 'C:/Users/biocbuild/bbs-3.14-bioc/R/library/VariantFiltering/libs/i386/VariantFiltering.dll':
Found 'abort', possibly from 'abort' (C), 'runtime' (Fortran)
File 'C:/Users/biocbuild/bbs-3.14-bioc/R/library/VariantFiltering/libs/x64/VariantFiltering.dll':
Found 'abort', possibly from 'abort' (C), 'runtime' (Fortran)
Compiled code should not call entry points which might terminate R nor
write to stdout/stderr instead of to the console, nor use Fortran I/O
nor system RNGs. The detected symbols are linked into the code but
might come from libraries and not actually be called.
See 'Writing portable packages' in the 'Writing R Extensions' manual.
* checking files in 'vignettes' ... OK
* checking examples ...
** running examples for arch 'i386' ... OK
Examples with CPU (user + system) or elapsed time > 5s
user system elapsed
VariantFilteringParam-class 8.94 5.02 14.15
** running examples for arch 'x64' ... OK
Examples with CPU (user + system) or elapsed time > 5s
user system elapsed
VariantFilteringParam-class 9.24 3.68 13.09
* checking for unstated dependencies in 'tests' ... OK
* checking tests ...
** running tests for arch 'i386' ...
Running 'runTests.R'
OK
** running tests for arch 'x64' ...
Running 'runTests.R'
OK
* checking for unstated dependencies in vignettes ... OK
* checking package vignettes in 'inst/doc' ... OK
* checking running R code from vignettes ... SKIPPED
* checking re-building of vignette outputs ... SKIPPED
* checking PDF version of manual ... OK
* DONE
Status: 3 NOTEs
See
'C:/Users/biocbuild/bbs-3.14-bioc/meat/VariantFiltering.Rcheck/00check.log'
for details.
VariantFiltering.Rcheck/00install.out
##############################################################################
##############################################################################
###
### Running command:
###
### C:\cygwin\bin\curl.exe -O http://155.52.207.166/BBS/3.14/bioc/src/contrib/VariantFiltering_1.30.0.tar.gz && rm -rf VariantFiltering.buildbin-libdir && mkdir VariantFiltering.buildbin-libdir && C:\Users\biocbuild\bbs-3.14-bioc\R\bin\R.exe CMD INSTALL --merge-multiarch --build --library=VariantFiltering.buildbin-libdir VariantFiltering_1.30.0.tar.gz && C:\Users\biocbuild\bbs-3.14-bioc\R\bin\R.exe CMD INSTALL VariantFiltering_1.30.0.zip && rm VariantFiltering_1.30.0.tar.gz VariantFiltering_1.30.0.zip
###
##############################################################################
##############################################################################
% Total % Received % Xferd Average Speed Time Time Time Current
Dload Upload Total Spent Left Speed
0 0 0 0 0 0 0 0 --:--:-- --:--:-- --:--:-- 0
20 3207k 20 649k 0 0 1549k 0 0:00:02 --:--:-- 0:00:02 1550k
73 3207k 73 2364k 0 0 1693k 0 0:00:01 0:00:01 --:--:-- 1692k
100 3207k 100 3207k 0 0 1850k 0 0:00:01 0:00:01 --:--:-- 1850k
install for i386
* installing *source* package 'VariantFiltering' ...
** using staged installation
** libs
"C:/rtools40/mingw32/bin/"gcc -I"C:/Users/BIOCBU~1/BBS-3~1.14-/R/include" -DNDEBUG -I'C:/Users/biocbuild/bbs-3.14-bioc/R/library/S4Vectors/include' -I'C:/Users/biocbuild/bbs-3.14-bioc/R/library/IRanges/include' -I'C:/Users/biocbuild/bbs-3.14-bioc/R/library/XVector/include' -I'C:/Users/biocbuild/bbs-3.14-bioc/R/library/Biostrings/include' -I"C:/extsoft/include" -O2 -Wall -std=gnu99 -mfpmath=sse -msse2 -mstackrealign -c Biostrings_stubs.c -o Biostrings_stubs.o
"C:/rtools40/mingw32/bin/"gcc -I"C:/Users/BIOCBU~1/BBS-3~1.14-/R/include" -DNDEBUG -I'C:/Users/biocbuild/bbs-3.14-bioc/R/library/S4Vectors/include' -I'C:/Users/biocbuild/bbs-3.14-bioc/R/library/IRanges/include' -I'C:/Users/biocbuild/bbs-3.14-bioc/R/library/XVector/include' -I'C:/Users/biocbuild/bbs-3.14-bioc/R/library/Biostrings/include' -I"C:/extsoft/include" -O2 -Wall -std=gnu99 -mfpmath=sse -msse2 -mstackrealign -c R_init_VariantFiltering.c -o R_init_VariantFiltering.o
"C:/rtools40/mingw32/bin/"gcc -I"C:/Users/BIOCBU~1/BBS-3~1.14-/R/include" -DNDEBUG -I'C:/Users/biocbuild/bbs-3.14-bioc/R/library/S4Vectors/include' -I'C:/Users/biocbuild/bbs-3.14-bioc/R/library/IRanges/include' -I'C:/Users/biocbuild/bbs-3.14-bioc/R/library/XVector/include' -I'C:/Users/biocbuild/bbs-3.14-bioc/R/library/Biostrings/include' -I"C:/extsoft/include" -O2 -Wall -std=gnu99 -mfpmath=sse -msse2 -mstackrealign -c methods-WeightMatrix.c -o methods-WeightMatrix.o
C:/rtools40/mingw32/bin/gcc -shared -s -static-libgcc -o VariantFiltering.dll tmp.def Biostrings_stubs.o R_init_VariantFiltering.o methods-WeightMatrix.o -LC:/extsoft/lib/i386 -LC:/extsoft/lib -LC:/Users/BIOCBU~1/BBS-3~1.14-/R/bin/i386 -lR
installing to C:/Users/biocbuild/bbs-3.14-bioc/meat/VariantFiltering.buildbin-libdir/00LOCK-VariantFiltering/00new/VariantFiltering/libs/i386
** R
** inst
** byte-compile and prepare package for lazy loading
** help
*** installing help indices
converting help for package 'VariantFiltering'
finding HTML links ... done
GenePhylostrataDb-class html
VariantFiltering-defunct html
VariantFiltering-deprecated html
finding level-2 HTML links ... done
VariantFiltering-package html
VariantFilteringParam-class html
VariantFilteringResults-class html
VariantType-class html
WeightMatrix-class html
autosomalDominant html
autosomalRecessiveHeterozygous html
autosomalRecessiveHomozygous html
deNovo html
readAAradicalChangeMatrix html
unrelatedIndividuals html
xLinked html
** building package indices
** installing vignettes
** testing if installed package can be loaded from temporary location
** testing if installed package can be loaded from final location
** testing if installed package keeps a record of temporary installation path
install for x64
* installing *source* package 'VariantFiltering' ...
** libs
"C:/rtools40/mingw64/bin/"gcc -I"C:/Users/BIOCBU~1/BBS-3~1.14-/R/include" -DNDEBUG -I'C:/Users/biocbuild/bbs-3.14-bioc/R/library/S4Vectors/include' -I'C:/Users/biocbuild/bbs-3.14-bioc/R/library/IRanges/include' -I'C:/Users/biocbuild/bbs-3.14-bioc/R/library/XVector/include' -I'C:/Users/biocbuild/bbs-3.14-bioc/R/library/Biostrings/include' -I"C:/extsoft/include" -O2 -Wall -std=gnu99 -mfpmath=sse -msse2 -mstackrealign -c Biostrings_stubs.c -o Biostrings_stubs.o
"C:/rtools40/mingw64/bin/"gcc -I"C:/Users/BIOCBU~1/BBS-3~1.14-/R/include" -DNDEBUG -I'C:/Users/biocbuild/bbs-3.14-bioc/R/library/S4Vectors/include' -I'C:/Users/biocbuild/bbs-3.14-bioc/R/library/IRanges/include' -I'C:/Users/biocbuild/bbs-3.14-bioc/R/library/XVector/include' -I'C:/Users/biocbuild/bbs-3.14-bioc/R/library/Biostrings/include' -I"C:/extsoft/include" -O2 -Wall -std=gnu99 -mfpmath=sse -msse2 -mstackrealign -c R_init_VariantFiltering.c -o R_init_VariantFiltering.o
"C:/rtools40/mingw64/bin/"gcc -I"C:/Users/BIOCBU~1/BBS-3~1.14-/R/include" -DNDEBUG -I'C:/Users/biocbuild/bbs-3.14-bioc/R/library/S4Vectors/include' -I'C:/Users/biocbuild/bbs-3.14-bioc/R/library/IRanges/include' -I'C:/Users/biocbuild/bbs-3.14-bioc/R/library/XVector/include' -I'C:/Users/biocbuild/bbs-3.14-bioc/R/library/Biostrings/include' -I"C:/extsoft/include" -O2 -Wall -std=gnu99 -mfpmath=sse -msse2 -mstackrealign -c methods-WeightMatrix.c -o methods-WeightMatrix.o
C:/rtools40/mingw64/bin/gcc -shared -s -static-libgcc -o VariantFiltering.dll tmp.def Biostrings_stubs.o R_init_VariantFiltering.o methods-WeightMatrix.o -LC:/extsoft/lib/x64 -LC:/extsoft/lib -LC:/Users/BIOCBU~1/BBS-3~1.14-/R/bin/x64 -lR
installing to C:/Users/biocbuild/bbs-3.14-bioc/meat/VariantFiltering.buildbin-libdir/VariantFiltering/libs/x64
** testing if installed package can be loaded
* MD5 sums
packaged installation of 'VariantFiltering' as VariantFiltering_1.30.0.zip
* DONE (VariantFiltering)
* installing to library 'C:/Users/biocbuild/bbs-3.14-bioc/R/library'
package 'VariantFiltering' successfully unpacked and MD5 sums checked
|
VariantFiltering.Rcheck/tests_i386/runTests.Rout
R version 4.1.3 (2022-03-10) -- "One Push-Up"
Copyright (C) 2022 The R Foundation for Statistical Computing
Platform: i386-w64-mingw32/i386 (32-bit)
R is free software and comes with ABSOLUTELY NO WARRANTY.
You are welcome to redistribute it under certain conditions.
Type 'license()' or 'licence()' for distribution details.
R is a collaborative project with many contributors.
Type 'contributors()' for more information and
'citation()' on how to cite R or R packages in publications.
Type 'demo()' for some demos, 'help()' for on-line help, or
'help.start()' for an HTML browser interface to help.
Type 'q()' to quit R.
> BiocGenerics:::testPackage("VariantFiltering")
Attaching package: 'BiocGenerics'
The following objects are masked from 'package:stats':
IQR, mad, sd, var, xtabs
The following objects are masked from 'package:base':
Filter, Find, Map, Position, Reduce, anyDuplicated, append,
as.data.frame, basename, cbind, colnames, dirname, do.call,
duplicated, eval, evalq, get, grep, grepl, intersect, is.unsorted,
lapply, mapply, match, mget, order, paste, pmax, pmax.int, pmin,
pmin.int, rank, rbind, rownames, sapply, setdiff, sort, table,
tapply, union, unique, unsplit, which.max, which.min
Attaching package: 'MatrixGenerics'
The following objects are masked from 'package:matrixStats':
colAlls, colAnyNAs, colAnys, colAvgsPerRowSet, colCollapse,
colCounts, colCummaxs, colCummins, colCumprods, colCumsums,
colDiffs, colIQRDiffs, colIQRs, colLogSumExps, colMadDiffs,
colMads, colMaxs, colMeans2, colMedians, colMins, colOrderStats,
colProds, colQuantiles, colRanges, colRanks, colSdDiffs, colSds,
colSums2, colTabulates, colVarDiffs, colVars, colWeightedMads,
colWeightedMeans, colWeightedMedians, colWeightedSds,
colWeightedVars, rowAlls, rowAnyNAs, rowAnys, rowAvgsPerColSet,
rowCollapse, rowCounts, rowCummaxs, rowCummins, rowCumprods,
rowCumsums, rowDiffs, rowIQRDiffs, rowIQRs, rowLogSumExps,
rowMadDiffs, rowMads, rowMaxs, rowMeans2, rowMedians, rowMins,
rowOrderStats, rowProds, rowQuantiles, rowRanges, rowRanks,
rowSdDiffs, rowSds, rowSums2, rowTabulates, rowVarDiffs, rowVars,
rowWeightedMads, rowWeightedMeans, rowWeightedMedians,
rowWeightedSds, rowWeightedVars
Attaching package: 'S4Vectors'
The following objects are masked from 'package:base':
I, expand.grid, unname
Attaching package: 'IRanges'
The following object is masked from 'package:grDevices':
windows
Welcome to Bioconductor
Vignettes contain introductory material; view with
'browseVignettes()'. To cite Bioconductor, see
'citation("Biobase")', and for packages 'citation("pkgname")'.
Attaching package: 'Biobase'
The following object is masked from 'package:MatrixGenerics':
rowMedians
The following objects are masked from 'package:matrixStats':
anyMissing, rowMedians
Attaching package: 'Biostrings'
The following object is masked from 'package:base':
strsplit
Attaching package: 'VariantAnnotation'
The following object is masked from 'package:base':
tabulate
Loading BSgenome annotation package BSgenome.Hsapiens.1000genomes.hs37d5
Loading OrgDb annotation package org.Hs.eg.db
Loading TxDb annotation package TxDb.Hsapiens.UCSC.hg19.knownGene
Assuming the genome build of the input variants is hs37d5.
Switching to the UCSC chromosome-name style from the transcript-centric annotation package.
Chromosome chrM has different lengths between the input VCF and the input TxDb pakage. This chromosome will be discarded from further analysis
Assumming hs37d5 and hg19 represent the same genome build.
Discarding scaffold sequences.
Annotating variant type (SNV, Insertion, Deletion, MNV, Delins)
Annotating location with VariantAnnotation::locateVariants()
Annotating coding variants VariantAnnotation::predictCoding()
Annotating codon usage frequencies in coding synonymous variants
Scoring binding sites with weight matrix donorSites.
Scoring binding sites with weight matrix acceptorSites.
1000 variants processed
RUNIT TEST PROTOCOL -- Wed Apr 13 04:49:16 2022
***********************************************
Number of test functions: 6
Number of errors: 0
Number of failures: 0
1 Test Suite :
VariantFiltering RUnit Tests - 6 test functions, 0 errors, 0 failures
Number of test functions: 6
Number of errors: 0
Number of failures: 0
Warning messages:
1: In valid.GenomicRanges.seqinfo(x, suggest.trim = TRUE) :
GRanges object contains 597 out-of-bound ranges located on sequences
29194, 29195, 29196, 72038, 72039, 72040, 72041, 72044, 72220, 72222,
72223, 72224, 71343, 71344, 73323, 73324, 73326, 72882, 72883, 74544,
73782, 73852, 74055, 74056, 74057, 74058, 74171, 75259, 76673, 76674,
76675, 76676, 76677, 76679, and 76680. Note that ranges located on a
sequence whose length is unknown (NA) or on a circular sequence are not
considered out-of-bound (use seqlengths() and isCircular() to get the
lengths and circularity flags of the underlying sequences). You can use
trim() to trim these ranges. See ?`trim,GenomicRanges-method` for more
information.
2: In (function (seqlevels, genome, new_style) :
cannot switch some of hg19's seqlevels from UCSC to NCBI style
3: In annotationEngine(variants, param, annotationCache, BPPARAM = BPPARAM) :
Assumming GRCh37.p13 and hs37d5 represent the same genome build.
4: In valid.GenomicRanges.seqinfo(x, suggest.trim = TRUE) :
GRanges object contains 597 out-of-bound ranges located on sequences
29194, 29195, 29196, 72038, 72039, 72040, 72041, 72044, 72220, 72222,
72223, 72224, 71343, 71344, 73323, 73324, 73326, 72882, 72883, 74544,
73782, 73852, 74055, 74056, 74057, 74058, 74171, 75259, 76673, 76674,
76675, 76676, 76677, 76679, and 76680. Note that ranges located on a
sequence whose length is unknown (NA) or on a circular sequence are not
considered out-of-bound (use seqlengths() and isCircular() to get the
lengths and circularity flags of the underlying sequences). You can use
trim() to trim these ranges. See ?`trim,GenomicRanges-method` for more
information.
5: In .scoreBindingSiteVariants(variantsVR_annotated, weightMatrices, :
Assumming GRCh37.p13 and hs37d5 represent the same genome build.
6: In recycleSingleBracketReplacementValue(value, x, nsbs) :
number of values supplied is not a sub-multiple of the number of values to be replaced
7: In recycleSingleBracketReplacementValue(value, x, nsbs) :
number of values supplied is not a sub-multiple of the number of values to be replaced
>
> proc.time()
user system elapsed
112.62 10.87 132.43
|
VariantFiltering.Rcheck/tests_x64/runTests.Rout
R version 4.1.3 (2022-03-10) -- "One Push-Up"
Copyright (C) 2022 The R Foundation for Statistical Computing
Platform: x86_64-w64-mingw32/x64 (64-bit)
R is free software and comes with ABSOLUTELY NO WARRANTY.
You are welcome to redistribute it under certain conditions.
Type 'license()' or 'licence()' for distribution details.
R is a collaborative project with many contributors.
Type 'contributors()' for more information and
'citation()' on how to cite R or R packages in publications.
Type 'demo()' for some demos, 'help()' for on-line help, or
'help.start()' for an HTML browser interface to help.
Type 'q()' to quit R.
> BiocGenerics:::testPackage("VariantFiltering")
Attaching package: 'BiocGenerics'
The following objects are masked from 'package:stats':
IQR, mad, sd, var, xtabs
The following objects are masked from 'package:base':
Filter, Find, Map, Position, Reduce, anyDuplicated, append,
as.data.frame, basename, cbind, colnames, dirname, do.call,
duplicated, eval, evalq, get, grep, grepl, intersect, is.unsorted,
lapply, mapply, match, mget, order, paste, pmax, pmax.int, pmin,
pmin.int, rank, rbind, rownames, sapply, setdiff, sort, table,
tapply, union, unique, unsplit, which.max, which.min
Attaching package: 'MatrixGenerics'
The following objects are masked from 'package:matrixStats':
colAlls, colAnyNAs, colAnys, colAvgsPerRowSet, colCollapse,
colCounts, colCummaxs, colCummins, colCumprods, colCumsums,
colDiffs, colIQRDiffs, colIQRs, colLogSumExps, colMadDiffs,
colMads, colMaxs, colMeans2, colMedians, colMins, colOrderStats,
colProds, colQuantiles, colRanges, colRanks, colSdDiffs, colSds,
colSums2, colTabulates, colVarDiffs, colVars, colWeightedMads,
colWeightedMeans, colWeightedMedians, colWeightedSds,
colWeightedVars, rowAlls, rowAnyNAs, rowAnys, rowAvgsPerColSet,
rowCollapse, rowCounts, rowCummaxs, rowCummins, rowCumprods,
rowCumsums, rowDiffs, rowIQRDiffs, rowIQRs, rowLogSumExps,
rowMadDiffs, rowMads, rowMaxs, rowMeans2, rowMedians, rowMins,
rowOrderStats, rowProds, rowQuantiles, rowRanges, rowRanks,
rowSdDiffs, rowSds, rowSums2, rowTabulates, rowVarDiffs, rowVars,
rowWeightedMads, rowWeightedMeans, rowWeightedMedians,
rowWeightedSds, rowWeightedVars
Attaching package: 'S4Vectors'
The following objects are masked from 'package:base':
I, expand.grid, unname
Attaching package: 'IRanges'
The following object is masked from 'package:grDevices':
windows
Welcome to Bioconductor
Vignettes contain introductory material; view with
'browseVignettes()'. To cite Bioconductor, see
'citation("Biobase")', and for packages 'citation("pkgname")'.
Attaching package: 'Biobase'
The following object is masked from 'package:MatrixGenerics':
rowMedians
The following objects are masked from 'package:matrixStats':
anyMissing, rowMedians
Attaching package: 'Biostrings'
The following object is masked from 'package:base':
strsplit
Attaching package: 'VariantAnnotation'
The following object is masked from 'package:base':
tabulate
Loading BSgenome annotation package BSgenome.Hsapiens.1000genomes.hs37d5
Loading OrgDb annotation package org.Hs.eg.db
Loading TxDb annotation package TxDb.Hsapiens.UCSC.hg19.knownGene
Assuming the genome build of the input variants is hs37d5.
Switching to the UCSC chromosome-name style from the transcript-centric annotation package.
Chromosome chrM has different lengths between the input VCF and the input TxDb pakage. This chromosome will be discarded from further analysis
Assumming hs37d5 and hg19 represent the same genome build.
Discarding scaffold sequences.
Annotating variant type (SNV, Insertion, Deletion, MNV, Delins)
Annotating location with VariantAnnotation::locateVariants()
Annotating coding variants VariantAnnotation::predictCoding()
Annotating codon usage frequencies in coding synonymous variants
Scoring binding sites with weight matrix donorSites.
Scoring binding sites with weight matrix acceptorSites.
1000 variants processed
RUNIT TEST PROTOCOL -- Wed Apr 13 04:51:09 2022
***********************************************
Number of test functions: 6
Number of errors: 0
Number of failures: 0
1 Test Suite :
VariantFiltering RUnit Tests - 6 test functions, 0 errors, 0 failures
Number of test functions: 6
Number of errors: 0
Number of failures: 0
Warning messages:
1: In valid.GenomicRanges.seqinfo(x, suggest.trim = TRUE) :
GRanges object contains 597 out-of-bound ranges located on sequences
29194, 29195, 29196, 72038, 72039, 72040, 72041, 72044, 72220, 72222,
72223, 72224, 71343, 71344, 73323, 73324, 73326, 72882, 72883, 74544,
73782, 73852, 74055, 74056, 74057, 74058, 74171, 75259, 76673, 76674,
76675, 76676, 76677, 76679, and 76680. Note that ranges located on a
sequence whose length is unknown (NA) or on a circular sequence are not
considered out-of-bound (use seqlengths() and isCircular() to get the
lengths and circularity flags of the underlying sequences). You can use
trim() to trim these ranges. See ?`trim,GenomicRanges-method` for more
information.
2: In (function (seqlevels, genome, new_style) :
cannot switch some of hg19's seqlevels from UCSC to NCBI style
3: In annotationEngine(variants, param, annotationCache, BPPARAM = BPPARAM) :
Assumming GRCh37.p13 and hs37d5 represent the same genome build.
4: In valid.GenomicRanges.seqinfo(x, suggest.trim = TRUE) :
GRanges object contains 597 out-of-bound ranges located on sequences
29194, 29195, 29196, 72038, 72039, 72040, 72041, 72044, 72220, 72222,
72223, 72224, 71343, 71344, 73323, 73324, 73326, 72882, 72883, 74544,
73782, 73852, 74055, 74056, 74057, 74058, 74171, 75259, 76673, 76674,
76675, 76676, 76677, 76679, and 76680. Note that ranges located on a
sequence whose length is unknown (NA) or on a circular sequence are not
considered out-of-bound (use seqlengths() and isCircular() to get the
lengths and circularity flags of the underlying sequences). You can use
trim() to trim these ranges. See ?`trim,GenomicRanges-method` for more
information.
5: In .scoreBindingSiteVariants(variantsVR_annotated, weightMatrices, :
Assumming GRCh37.p13 and hs37d5 represent the same genome build.
6: In recycleSingleBracketReplacementValue(value, x, nsbs) :
number of values supplied is not a sub-multiple of the number of values to be replaced
7: In recycleSingleBracketReplacementValue(value, x, nsbs) :
number of values supplied is not a sub-multiple of the number of values to be replaced
>
> proc.time()
user system elapsed
101.32 7.79 112.67
|
|
VariantFiltering.Rcheck/examples_i386/VariantFiltering-Ex.timings
|
VariantFiltering.Rcheck/examples_x64/VariantFiltering-Ex.timings
|