| Back to Multiple platform build/check report for BioC 3.14 |
|
This page was generated on 2022-04-13 12:08:00 -0400 (Wed, 13 Apr 2022).
| Hostname | OS | Arch (*) | R version | Installed pkgs |
|---|---|---|---|---|
| nebbiolo2 | Linux (Ubuntu 20.04.4 LTS) | x86_64 | 4.1.3 (2022-03-10) -- "One Push-Up" | 4324 |
| tokay2 | Windows Server 2012 R2 Standard | x64 | 4.1.3 (2022-03-10) -- "One Push-Up" | 4077 |
| machv2 | macOS 10.14.6 Mojave | x86_64 | 4.1.3 (2022-03-10) -- "One Push-Up" | 4137 |
| Click on any hostname to see more info about the system (e.g. compilers) (*) as reported by 'uname -p', except on Windows and Mac OS X | ||||
|
To the developers/maintainers of the flowGraph package: - Please allow up to 24 hours (and sometimes 48 hours) for your latest push to git@git.bioconductor.org:packages/flowGraph.git to reflect on this report. See How and When does the builder pull? When will my changes propagate? for more information. - Make sure to use the following settings in order to reproduce any error or warning you see on this page. |
| Package 662/2083 | Hostname | OS / Arch | INSTALL | BUILD | CHECK | BUILD BIN | ||||||||
| flowGraph 1.2.0 (landing page) Alice Yue
| nebbiolo2 | Linux (Ubuntu 20.04.4 LTS) / x86_64 | OK | OK | OK | |||||||||
| tokay2 | Windows Server 2012 R2 Standard / x64 | OK | OK | OK | OK | |||||||||
| machv2 | macOS 10.14.6 Mojave / x86_64 | OK | OK | OK | OK | |||||||||
| Package: flowGraph |
| Version: 1.2.0 |
| Command: /Library/Frameworks/R.framework/Resources/bin/R CMD check --install=check:flowGraph.install-out.txt --library=/Library/Frameworks/R.framework/Resources/library --no-vignettes --timings flowGraph_1.2.0.tar.gz |
| StartedAt: 2022-04-12 13:22:31 -0400 (Tue, 12 Apr 2022) |
| EndedAt: 2022-04-12 13:28:34 -0400 (Tue, 12 Apr 2022) |
| EllapsedTime: 363.3 seconds |
| RetCode: 0 |
| Status: OK |
| CheckDir: flowGraph.Rcheck |
| Warnings: 0 |
##############################################################################
##############################################################################
###
### Running command:
###
### /Library/Frameworks/R.framework/Resources/bin/R CMD check --install=check:flowGraph.install-out.txt --library=/Library/Frameworks/R.framework/Resources/library --no-vignettes --timings flowGraph_1.2.0.tar.gz
###
##############################################################################
##############################################################################
* using log directory ‘/Users/biocbuild/bbs-3.14-bioc/meat/flowGraph.Rcheck’
* using R version 4.1.3 (2022-03-10)
* using platform: x86_64-apple-darwin17.0 (64-bit)
* using session charset: UTF-8
* using option ‘--no-vignettes’
* checking for file ‘flowGraph/DESCRIPTION’ ... OK
* checking extension type ... Package
* this is package ‘flowGraph’ version ‘1.2.0’
* checking package namespace information ... OK
* checking package dependencies ... OK
* checking if this is a source package ... OK
* checking if there is a namespace ... OK
* checking for hidden files and directories ... OK
* checking for portable file names ... OK
* checking for sufficient/correct file permissions ... OK
* checking whether package ‘flowGraph’ can be installed ... OK
* checking installed package size ... OK
* checking package directory ... OK
* checking ‘build’ directory ... OK
* checking DESCRIPTION meta-information ... OK
* checking top-level files ... OK
* checking for left-over files ... OK
* checking index information ... OK
* checking package subdirectories ... OK
* checking R files for non-ASCII characters ... OK
* checking R files for syntax errors ... OK
* checking whether the package can be loaded ... OK
* checking whether the package can be loaded with stated dependencies ... OK
* checking whether the package can be unloaded cleanly ... OK
* checking whether the namespace can be loaded with stated dependencies ... OK
* checking whether the namespace can be unloaded cleanly ... OK
* checking dependencies in R code ... OK
* checking S3 generic/method consistency ... OK
* checking replacement functions ... OK
* checking foreign function calls ... OK
* checking R code for possible problems ... NOTE
get_child: no visible binding for global variable ‘no_cores’
get_paren: no visible binding for global variable ‘no_cores’
ms_psig: no visible binding for global variable ‘meta’
Undefined global functions or variables:
meta no_cores
* checking Rd files ... OK
* checking Rd metadata ... OK
* checking Rd cross-references ... OK
* checking for missing documentation entries ... OK
* checking for code/documentation mismatches ... OK
* checking Rd \usage sections ... OK
* checking Rd contents ... OK
* checking for unstated dependencies in examples ... OK
* checking contents of ‘data’ directory ... OK
* checking data for non-ASCII characters ... OK
* checking data for ASCII and uncompressed saves ... OK
* checking files in ‘vignettes’ ... OK
* checking examples ... OK
Examples with CPU (user + system) or elapsed time > 5s
user system elapsed
fg_save_plots 63.910 0.244 64.208
fg_save 63.029 0.249 63.382
fg_load 62.017 0.365 62.526
* checking for unstated dependencies in ‘tests’ ... OK
* checking tests ...
Running ‘testthat.R’
OK
* checking for unstated dependencies in vignettes ... OK
* checking package vignettes in ‘inst/doc’ ... OK
* checking running R code from vignettes ... SKIPPED
* checking re-building of vignette outputs ... SKIPPED
* checking PDF version of manual ... OK
* DONE
Status: 1 NOTE
See
‘/Users/biocbuild/bbs-3.14-bioc/meat/flowGraph.Rcheck/00check.log’
for details.
flowGraph.Rcheck/00install.out
############################################################################## ############################################################################## ### ### Running command: ### ### /Library/Frameworks/R.framework/Resources/bin/R CMD INSTALL flowGraph ### ############################################################################## ############################################################################## * installing to library ‘/Library/Frameworks/R.framework/Versions/4.1/Resources/library’ * installing *source* package ‘flowGraph’ ... ** using staged installation ** R ** data ** inst ** byte-compile and prepare package for lazy loading ** help Loading required namespace: flowGraph *** installing help indices ** building package indices ** installing vignettes ** testing if installed package can be loaded from temporary location ** testing if installed package can be loaded from final location ** testing if installed package keeps a record of temporary installation path * DONE (flowGraph)
flowGraph.Rcheck/tests/testthat.Rout
R version 4.1.3 (2022-03-10) -- "One Push-Up"
Copyright (C) 2022 The R Foundation for Statistical Computing
Platform: x86_64-apple-darwin17.0 (64-bit)
R is free software and comes with ABSOLUTELY NO WARRANTY.
You are welcome to redistribute it under certain conditions.
Type 'license()' or 'licence()' for distribution details.
R is a collaborative project with many contributors.
Type 'contributors()' for more information and
'citation()' on how to cite R or R packages in publications.
Type 'demo()' for some demos, 'help()' for on-line help, or
'help.start()' for an HTML browser interface to help.
Type 'q()' to quit R.
> library(testthat)
> library(flowGraph)
>
> test_check("flowGraph")
[ FAIL 0 | WARN 0 | SKIP 0 | PASS 34 ]
>
> proc.time()
user system elapsed
8.144 0.333 8.462
flowGraph.Rcheck/flowGraph-Ex.timings
| name | user | system | elapsed | |
| cell_type_layers | 0.002 | 0.001 | 0.004 | |
| fg_add_feature | 0.553 | 0.010 | 0.564 | |
| fg_add_summary | 1.586 | 0.009 | 1.596 | |
| fg_clean_phen | 0 | 0 | 0 | |
| fg_clear_features | 1.405 | 0.006 | 1.412 | |
| fg_clear_summary | 0.652 | 0.005 | 0.656 | |
| fg_extract_phenotypes | 0.408 | 0.004 | 0.412 | |
| fg_extract_raw | 1.324 | 0.006 | 1.330 | |
| fg_extract_samples | 0.381 | 0.005 | 0.386 | |
| fg_feat_cumsum | 0.514 | 0.006 | 0.520 | |
| fg_feat_edge_specenr | 0.547 | 0.008 | 0.556 | |
| fg_feat_mean_class | 0.329 | 0.004 | 0.333 | |
| fg_feat_node_prop | 0.515 | 0.004 | 0.518 | |
| fg_feat_node_specenr | 0.596 | 0.007 | 0.604 | |
| fg_feat_prop_edge | 0.469 | 0.004 | 0.475 | |
| fg_get_feature | 0.441 | 0.003 | 0.445 | |
| fg_get_feature_desc | 1.350 | 0.007 | 1.357 | |
| fg_get_feature_means | 2.089 | 0.010 | 2.101 | |
| fg_get_graph | 0.403 | 0.003 | 0.407 | |
| fg_get_markers | 0.445 | 0.003 | 0.449 | |
| fg_get_meta | 0.482 | 0.003 | 0.486 | |
| fg_get_summary | 3.654 | 0.011 | 3.668 | |
| fg_get_summary_desc | 1.387 | 0.043 | 1.431 | |
| fg_get_summary_index | 3.025 | 0.009 | 3.039 | |
| fg_get_summary_tables | 2.082 | 0.013 | 2.099 | |
| fg_gsub_ids | 0.430 | 0.003 | 0.433 | |
| fg_gsub_markers | 0.595 | 0.005 | 0.599 | |
| fg_load | 62.017 | 0.365 | 62.526 | |
| fg_merge | 0.431 | 0.004 | 0.435 | |
| fg_merge_samples | 0.395 | 0.006 | 0.401 | |
| fg_plot | 0.674 | 0.005 | 0.680 | |
| fg_plot_box | 1.106 | 0.006 | 1.113 | |
| fg_plot_pVSdiff | 0.733 | 0.006 | 0.769 | |
| fg_plot_qq | 2.419 | 0.259 | 3.005 | |
| fg_replace_meta | 0.462 | 0.005 | 0.467 | |
| fg_rm_feature | 1.436 | 0.007 | 1.445 | |
| fg_rm_summary | 0.574 | 0.003 | 0.577 | |
| fg_save | 63.029 | 0.249 | 63.382 | |
| fg_save_plots | 63.910 | 0.244 | 64.208 | |
| fg_set_layout | 0.494 | 0.006 | 0.500 | |
| fg_summary | 0.707 | 0.004 | 0.712 | |
| flowGraph-class | 0.001 | 0.001 | 0.001 | |
| flowGraph | 2.003 | 0.016 | 2.023 | |
| flowGraphSubset | 0.001 | 0.001 | 0.000 | |
| flowGraphSubset_summary_adjust | 0.000 | 0.001 | 0.001 | |
| flowGraphSubset_summary_pars | 0.000 | 0.001 | 0.001 | |
| get_phen_list | 0.015 | 0.001 | 0.016 | |
| get_phen_meta | 0.003 | 0.001 | 0.003 | |
| ggdf | 0.502 | 0.006 | 0.509 | |
| loop_ind_f | 0.001 | 0.000 | 0.001 | |
| meandiff | 0.000 | 0.000 | 0.001 | |
| plot_gr | 2.274 | 0.039 | 2.320 | |
| set_layout_graph | 0.519 | 0.074 | 0.594 | |
| summary_table | 0.006 | 0.001 | 0.007 | |
| time_output | 0.001 | 0.000 | 0.001 | |
| tstr | 0.001 | 0.000 | 0.000 | |