| Back to Multiple platform build/check report for BioC 3.14 | 
  | 
This page was generated on 2022-04-13 12:06:43 -0400 (Wed, 13 Apr 2022).
| Hostname | OS | Arch (*) | R version | Installed pkgs | 
|---|---|---|---|---|
| nebbiolo2 | Linux (Ubuntu 20.04.4 LTS) | x86_64 | 4.1.3 (2022-03-10) -- "One Push-Up" | 4324 | 
| tokay2 | Windows Server 2012 R2 Standard | x64 | 4.1.3 (2022-03-10) -- "One Push-Up" | 4077 | 
| machv2 | macOS 10.14.6 Mojave | x86_64 | 4.1.3 (2022-03-10) -- "One Push-Up" | 4137 | 
| Click on any hostname to see more info about the system (e.g. compilers) (*) as reported by 'uname -p', except on Windows and Mac OS X | ||||
| 
To the developers/maintainers of the iClusterPlus package: - Please allow up to 24 hours (and sometimes 48 hours) for your latest push to git@git.bioconductor.org:packages/iClusterPlus.git to reflect on this report. See How and When does the builder pull? When will my changes propagate? for more information. - Make sure to use the following settings in order to reproduce any error or warning you see on this page.  | 
| Package 907/2083 | Hostname | OS / Arch | INSTALL | BUILD | CHECK | BUILD BIN | ||||||||
| iClusterPlus 1.30.0  (landing page) Qianxing Mo 
  | nebbiolo2 | Linux (Ubuntu 20.04.4 LTS) / x86_64 | OK | OK | WARNINGS | |||||||||
| tokay2 | Windows Server 2012 R2 Standard / x64 | OK | OK | WARNINGS | OK | |||||||||
| machv2 | macOS 10.14.6 Mojave / x86_64 | OK | OK | WARNINGS | OK | |||||||||
| Package: iClusterPlus | 
| Version: 1.30.0 | 
| Command: chmod a+r iClusterPlus -R && C:\Users\biocbuild\bbs-3.14-bioc\R\bin\R.exe CMD build --keep-empty-dirs --no-resave-data iClusterPlus | 
| StartedAt: 2022-04-12 11:24:50 -0400 (Tue, 12 Apr 2022) | 
| EndedAt: 2022-04-12 11:25:26 -0400 (Tue, 12 Apr 2022) | 
| EllapsedTime: 36.3 seconds | 
| RetCode: 0 | 
| Status: OK | 
| PackageFile: iClusterPlus_1.30.0.tar.gz | 
| PackageFileSize: 20.29 MiB | 
############################################################################## ############################################################################## ### ### Running command: ### ### chmod a+r iClusterPlus -R && C:\Users\biocbuild\bbs-3.14-bioc\R\bin\R.exe CMD build --keep-empty-dirs --no-resave-data iClusterPlus ### ############################################################################## ############################################################################## * checking for file 'iClusterPlus/DESCRIPTION' ... OK * preparing 'iClusterPlus': * checking DESCRIPTION meta-information ... OK * cleaning src * installing the package to build vignettes * creating vignettes ... OK * cleaning src * checking for LF line-endings in source and make files and shell scripts * checking for empty or unneeded directories * building 'iClusterPlus_1.30.0.tar.gz' Warning: file 'iClusterPlus/cleanup' did not have execute permissions: corrected Warning: file 'iClusterPlus/configure' did not have execute permissions: corrected