| Back to Multiple platform build/check report for BioC 3.14 | 
  | 
This page was generated on 2022-04-13 12:08:18 -0400 (Wed, 13 Apr 2022).
| Hostname | OS | Arch (*) | R version | Installed pkgs | 
|---|---|---|---|---|
| nebbiolo2 | Linux (Ubuntu 20.04.4 LTS) | x86_64 | 4.1.3 (2022-03-10) -- "One Push-Up" | 4324 | 
| tokay2 | Windows Server 2012 R2 Standard | x64 | 4.1.3 (2022-03-10) -- "One Push-Up" | 4077 | 
| machv2 | macOS 10.14.6 Mojave | x86_64 | 4.1.3 (2022-03-10) -- "One Push-Up" | 4137 | 
| Click on any hostname to see more info about the system (e.g. compilers) (*) as reported by 'uname -p', except on Windows and Mac OS X | ||||
| 
To the developers/maintainers of the metabCombiner package: - Please allow up to 24 hours (and sometimes 48 hours) for your latest push to git@git.bioconductor.org:packages/metabCombiner.git to reflect on this report. See How and When does the builder pull? When will my changes propagate? for more information. - Make sure to use the following settings in order to reproduce any error or warning you see on this page.  | 
| Package 1090/2083 | Hostname | OS / Arch | INSTALL | BUILD | CHECK | BUILD BIN | ||||||||
| metabCombiner 1.4.0  (landing page) Hani Habra 
  | nebbiolo2 | Linux (Ubuntu 20.04.4 LTS) / x86_64 | OK | OK | OK | |||||||||
| tokay2 | Windows Server 2012 R2 Standard / x64 | OK | OK | OK | OK | |||||||||
| machv2 | macOS 10.14.6 Mojave / x86_64 | OK | OK | OK | OK | |||||||||
| Package: metabCombiner | 
| Version: 1.4.0 | 
| Command: /Library/Frameworks/R.framework/Resources/bin/R CMD check --install=check:metabCombiner.install-out.txt --library=/Library/Frameworks/R.framework/Resources/library --no-vignettes --timings metabCombiner_1.4.0.tar.gz | 
| StartedAt: 2022-04-12 15:09:52 -0400 (Tue, 12 Apr 2022) | 
| EndedAt: 2022-04-12 15:13:27 -0400 (Tue, 12 Apr 2022) | 
| EllapsedTime: 214.4 seconds | 
| RetCode: 0 | 
| Status: OK | 
| CheckDir: metabCombiner.Rcheck | 
| Warnings: 0 | 
##############################################################################
##############################################################################
###
### Running command:
###
###   /Library/Frameworks/R.framework/Resources/bin/R CMD check --install=check:metabCombiner.install-out.txt --library=/Library/Frameworks/R.framework/Resources/library --no-vignettes --timings metabCombiner_1.4.0.tar.gz
###
##############################################################################
##############################################################################
* using log directory ‘/Users/biocbuild/bbs-3.14-bioc/meat/metabCombiner.Rcheck’
* using R version 4.1.3 (2022-03-10)
* using platform: x86_64-apple-darwin17.0 (64-bit)
* using session charset: UTF-8
* using option ‘--no-vignettes’
* checking for file ‘metabCombiner/DESCRIPTION’ ... OK
* this is package ‘metabCombiner’ version ‘1.4.0’
* package encoding: UTF-8
* checking package namespace information ... OK
* checking package dependencies ... OK
* checking if this is a source package ... OK
* checking if there is a namespace ... OK
* checking for hidden files and directories ... OK
* checking for portable file names ... OK
* checking for sufficient/correct file permissions ... OK
* checking whether package ‘metabCombiner’ can be installed ... OK
* checking installed package size ... OK
* checking package directory ... OK
* checking ‘build’ directory ... OK
* checking DESCRIPTION meta-information ... OK
* checking top-level files ... OK
* checking for left-over files ... OK
* checking index information ... OK
* checking package subdirectories ... OK
* checking R files for non-ASCII characters ... OK
* checking R files for syntax errors ... OK
* checking whether the package can be loaded ... OK
* checking whether the package can be loaded with stated dependencies ... OK
* checking whether the package can be unloaded cleanly ... OK
* checking whether the namespace can be loaded with stated dependencies ... OK
* checking whether the namespace can be unloaded cleanly ... OK
* checking dependencies in R code ... OK
* checking S3 generic/method consistency ... OK
* checking replacement functions ... OK
* checking foreign function calls ... OK
* checking R code for possible problems ... OK
* checking Rd files ... OK
* checking Rd metadata ... OK
* checking Rd cross-references ... OK
* checking for missing documentation entries ... OK
* checking for code/documentation mismatches ... OK
* checking Rd \usage sections ... OK
* checking Rd contents ... OK
* checking for unstated dependencies in examples ... OK
* checking contents of ‘data’ directory ... OK
* checking data for non-ASCII characters ... OK
* checking data for ASCII and uncompressed saves ... OK
* checking line endings in C/C++/Fortran sources/headers ... OK
* checking compiled code ... NOTE
Note: information on .o files is not available
* checking files in ‘vignettes’ ... OK
* checking examples ... OK
Examples with CPU (user + system) or elapsed time > 5s
                user system elapsed
evaluateParams 8.187  0.099   8.291
* checking for unstated dependencies in ‘tests’ ... OK
* checking tests ...
  Running ‘testthat.R’
 OK
* checking for unstated dependencies in vignettes ... OK
* checking package vignettes in ‘inst/doc’ ... OK
* checking running R code from vignettes ... SKIPPED
* checking re-building of vignette outputs ... SKIPPED
* checking PDF version of manual ... OK
* DONE
Status: 1 NOTE
See
  ‘/Users/biocbuild/bbs-3.14-bioc/meat/metabCombiner.Rcheck/00check.log’
for details.
metabCombiner.Rcheck/00install.out
##############################################################################
##############################################################################
###
### Running command:
###
###   /Library/Frameworks/R.framework/Resources/bin/R CMD INSTALL metabCombiner
###
##############################################################################
##############################################################################
* installing to library ‘/Library/Frameworks/R.framework/Versions/4.1/Resources/library’
* installing *source* package ‘metabCombiner’ ...
** using staged installation
** libs
clang -mmacosx-version-min=10.13 -I"/Library/Frameworks/R.framework/Resources/include" -DNDEBUG   -I/usr/local/include   -fPIC  -Wall -g -O2  -c binByMZ.c -o binByMZ.o
clang -mmacosx-version-min=10.13 -I"/Library/Frameworks/R.framework/Resources/include" -DNDEBUG   -I/usr/local/include   -fPIC  -Wall -g -O2  -c findDuplicates.c -o findDuplicates.o
clang -mmacosx-version-min=10.13 -I"/Library/Frameworks/R.framework/Resources/include" -DNDEBUG   -I/usr/local/include   -fPIC  -Wall -g -O2  -c labelRows.c -o labelRows.o
clang -mmacosx-version-min=10.13 -I"/Library/Frameworks/R.framework/Resources/include" -DNDEBUG   -I/usr/local/include   -fPIC  -Wall -g -O2  -c metabCombiner_init.c -o metabCombiner_init.o
clang -mmacosx-version-min=10.13 -I"/Library/Frameworks/R.framework/Resources/include" -DNDEBUG   -I/usr/local/include   -fPIC  -Wall -g -O2  -c resolveRows.c -o resolveRows.o
resolveRows.c:249:14: warning: unused variable 'filename' [-Wunused-variable]
        const char *filename = "output.txt";
                    ^
1 warning generated.
clang -mmacosx-version-min=10.13 -I"/Library/Frameworks/R.framework/Resources/include" -DNDEBUG   -I/usr/local/include   -fPIC  -Wall -g -O2  -c selectAnchors.c -o selectAnchors.o
clang -mmacosx-version-min=10.13 -I"/Library/Frameworks/R.framework/Resources/include" -DNDEBUG   -I/usr/local/include   -fPIC  -Wall -g -O2  -c write2file.c -o write2file.o
clang -mmacosx-version-min=10.13 -dynamiclib -Wl,-headerpad_max_install_names -undefined dynamic_lookup -single_module -multiply_defined suppress -L/Library/Frameworks/R.framework/Resources/lib -L/usr/local/lib -o metabCombiner.so binByMZ.o findDuplicates.o labelRows.o metabCombiner_init.o resolveRows.o selectAnchors.o write2file.o -F/Library/Frameworks/R.framework/.. -framework R -Wl,-framework -Wl,CoreFoundation
installing to /Library/Frameworks/R.framework/Versions/4.1/Resources/library/00LOCK-metabCombiner/00new/metabCombiner/libs
** R
** data
** demo
** inst
** byte-compile and prepare package for lazy loading
** help
*** installing help indices
** building package indices
** installing vignettes
** testing if installed package can be loaded from temporary location
** checking absolute paths in shared objects and dynamic libraries
** testing if installed package can be loaded from final location
** testing if installed package keeps a record of temporary installation path
* DONE (metabCombiner)
metabCombiner.Rcheck/tests/testthat.Rout
R version 4.1.3 (2022-03-10) -- "One Push-Up"
Copyright (C) 2022 The R Foundation for Statistical Computing
Platform: x86_64-apple-darwin17.0 (64-bit)
R is free software and comes with ABSOLUTELY NO WARRANTY.
You are welcome to redistribute it under certain conditions.
Type 'license()' or 'licence()' for distribution details.
R is a collaborative project with many contributors.
Type 'contributors()' for more information and
'citation()' on how to cite R or R packages in publications.
Type 'demo()' for some demos, 'help()' for on-line help, or
'help.start()' for an HTML browser interface to help.
Type 'q()' to quit R.
> library(testthat)
> library(metabCombiner)
Loading required package: dplyr
Attaching package: 'dplyr'
The following object is masked from 'package:testthat':
    matches
The following objects are masked from 'package:stats':
    filter, lag
The following objects are masked from 'package:base':
    intersect, setdiff, setequal, union
> 
> test_check("metabCombiner")
[ FAIL 0 | WARN 0 | SKIP 0 | PASS 33 ]
> 
> proc.time()
   user  system elapsed 
 24.393   0.697  25.099 
metabCombiner.Rcheck/metabCombiner-Ex.timings
| name | user | system | elapsed | |
| adductdata | 0.424 | 0.009 | 0.434 | |
| batchCombine | 0.000 | 0.001 | 0.001 | |
| calcScores | 4.333 | 0.049 | 4.385 | |
| calcScoresParam | 0.000 | 0.000 | 0.001 | |
| combinedTable | 0.376 | 0.005 | 0.381 | |
| datasets | 0.341 | 0.005 | 0.346 | |
| evaluateParams | 8.187 | 0.099 | 8.291 | |
| featdata | 0.349 | 0.006 | 0.355 | |
| fit_gam | 4.242 | 0.092 | 4.336 | |
| fit_loess | 2.438 | 0.014 | 2.454 | |
| fitgamParam | 0.001 | 0.001 | 0.001 | |
| fitloessParam | 0.001 | 0.001 | 0.000 | |
| getAnchors | 1.102 | 0.007 | 1.110 | |
| getCoefficients | 3.691 | 0.022 | 3.717 | |
| getData | 0.111 | 0.002 | 0.113 | |
| getExtra | 0.126 | 0.003 | 0.129 | |
| getModel | 1.267 | 0.012 | 1.281 | |
| getSamples | 0.618 | 0.009 | 0.627 | |
| getStats | 1.919 | 0.027 | 1.948 | |
| iddata | 0.412 | 0.005 | 0.418 | |
| labelRows | 4.884 | 0.043 | 4.931 | |
| labelRowsParam | 0 | 0 | 0 | |
| metabCombine | 0.000 | 0.001 | 0.000 | |
| metabCombiner | 0.49 | 0.01 | 0.50 | |
| metabData | 0.246 | 0.005 | 0.250 | |
| nonmatched | 0.392 | 0.005 | 0.398 | |
| plot_fit | 1.392 | 0.019 | 1.415 | |
| rtdata | 0.380 | 0.005 | 0.385 | |
| selectAnchors | 1.537 | 0.013 | 1.552 | |
| selectAnchorsParam | 0.001 | 0.000 | 0.000 | |
| write2file | 4.539 | 0.032 | 4.578 | |