| Back to Multiple platform build/check report for BioC 3.14 |
|
This page was generated on 2022-04-13 12:08:53 -0400 (Wed, 13 Apr 2022).
| Hostname | OS | Arch (*) | R version | Installed pkgs |
|---|---|---|---|---|
| nebbiolo2 | Linux (Ubuntu 20.04.4 LTS) | x86_64 | 4.1.3 (2022-03-10) -- "One Push-Up" | 4324 |
| tokay2 | Windows Server 2012 R2 Standard | x64 | 4.1.3 (2022-03-10) -- "One Push-Up" | 4077 |
| machv2 | macOS 10.14.6 Mojave | x86_64 | 4.1.3 (2022-03-10) -- "One Push-Up" | 4137 |
| Click on any hostname to see more info about the system (e.g. compilers) (*) as reported by 'uname -p', except on Windows and Mac OS X | ||||
|
To the developers/maintainers of the systemPipeR package: - Please allow up to 24 hours (and sometimes 48 hours) for your latest push to git@git.bioconductor.org:packages/systemPipeR.git to reflect on this report. See How and When does the builder pull? When will my changes propagate? for more information. - Make sure to use the following settings in order to reproduce any error or warning you see on this page. |
| Package 1924/2083 | Hostname | OS / Arch | INSTALL | BUILD | CHECK | BUILD BIN | ||||||||
| systemPipeR 2.0.8 (landing page) Thomas Girke
| nebbiolo2 | Linux (Ubuntu 20.04.4 LTS) / x86_64 | OK | OK | OK | |||||||||
| tokay2 | Windows Server 2012 R2 Standard / x64 | OK | OK | OK | OK | |||||||||
| machv2 | macOS 10.14.6 Mojave / x86_64 | OK | OK | OK | OK | |||||||||
| Package: systemPipeR |
| Version: 2.0.8 |
| Command: /Library/Frameworks/R.framework/Resources/bin/R CMD check --install=check:systemPipeR.install-out.txt --library=/Library/Frameworks/R.framework/Resources/library --no-vignettes --timings systemPipeR_2.0.8.tar.gz |
| StartedAt: 2022-04-12 19:14:26 -0400 (Tue, 12 Apr 2022) |
| EndedAt: 2022-04-12 19:22:32 -0400 (Tue, 12 Apr 2022) |
| EllapsedTime: 486.1 seconds |
| RetCode: 0 |
| Status: OK |
| CheckDir: systemPipeR.Rcheck |
| Warnings: 0 |
##############################################################################
##############################################################################
###
### Running command:
###
### /Library/Frameworks/R.framework/Resources/bin/R CMD check --install=check:systemPipeR.install-out.txt --library=/Library/Frameworks/R.framework/Resources/library --no-vignettes --timings systemPipeR_2.0.8.tar.gz
###
##############################################################################
##############################################################################
* using log directory ‘/Users/biocbuild/bbs-3.14-bioc/meat/systemPipeR.Rcheck’
* using R version 4.1.3 (2022-03-10)
* using platform: x86_64-apple-darwin17.0 (64-bit)
* using session charset: UTF-8
* using option ‘--no-vignettes’
* checking for file ‘systemPipeR/DESCRIPTION’ ... OK
* checking extension type ... Package
* this is package ‘systemPipeR’ version ‘2.0.8’
* checking package namespace information ... OK
* checking package dependencies ... OK
* checking if this is a source package ... OK
* checking if there is a namespace ... OK
* checking for hidden files and directories ... NOTE
Found the following hidden files and directories:
inst/extdata/.batchtools.conf.R
inst/extdata/.batchtools.conf.R.sge
inst/extdata/.batchtools.conf.R.torque
These were most likely included in error. See section ‘Package
structure’ in the ‘Writing R Extensions’ manual.
* checking for portable file names ... OK
* checking for sufficient/correct file permissions ... OK
* checking whether package ‘systemPipeR’ can be installed ... OK
* checking installed package size ... NOTE
installed size is 7.1Mb
sub-directories of 1Mb or more:
R 2.0Mb
extdata 2.7Mb
htmlwidgets 2.0Mb
* checking package directory ... OK
* checking ‘build’ directory ... OK
* checking DESCRIPTION meta-information ... OK
* checking top-level files ... OK
* checking for left-over files ... OK
* checking index information ... OK
* checking package subdirectories ... OK
* checking R files for non-ASCII characters ... OK
* checking R files for syntax errors ... OK
* checking whether the package can be loaded ... OK
* checking whether the package can be loaded with stated dependencies ... OK
* checking whether the package can be unloaded cleanly ... OK
* checking whether the namespace can be loaded with stated dependencies ... OK
* checking whether the namespace can be unloaded cleanly ... OK
* checking dependencies in R code ... OK
* checking S3 generic/method consistency ... OK
* checking replacement functions ... OK
* checking foreign function calls ... OK
* checking R code for possible problems ... OK
* checking Rd files ... OK
* checking Rd metadata ... OK
* checking Rd cross-references ... OK
* checking for missing documentation entries ... OK
* checking for code/documentation mismatches ... OK
* checking Rd \usage sections ... OK
* checking Rd contents ... OK
* checking for unstated dependencies in examples ... OK
* checking line endings in Makefiles ... OK
* checking for GNU extensions in Makefiles ... OK
* checking include directives in Makefiles ... OK
* checking files in ‘vignettes’ ... OK
* checking examples ... OK
Examples with CPU (user + system) or elapsed time > 5s
user system elapsed
genFeatures 33.386 0.841 34.251
run_DESeq2 30.984 0.089 31.091
renderLogs 7.618 0.812 8.653
loadWorkflow 7.481 0.043 7.527
* checking for unstated dependencies in ‘tests’ ... OK
* checking tests ...
Running ‘testthat.R’
OK
* checking for unstated dependencies in vignettes ... OK
* checking package vignettes in ‘inst/doc’ ... OK
* checking running R code from vignettes ... SKIPPED
* checking re-building of vignette outputs ... SKIPPED
* checking PDF version of manual ... OK
* DONE
Status: 2 NOTEs
See
‘/Users/biocbuild/bbs-3.14-bioc/meat/systemPipeR.Rcheck/00check.log’
for details.
systemPipeR.Rcheck/00install.out
############################################################################## ############################################################################## ### ### Running command: ### ### /Library/Frameworks/R.framework/Resources/bin/R CMD INSTALL systemPipeR ### ############################################################################## ############################################################################## * installing to library ‘/Library/Frameworks/R.framework/Versions/4.1/Resources/library’ * installing *source* package ‘systemPipeR’ ... ** using staged installation ** R ** inst ** byte-compile and prepare package for lazy loading ** help *** installing help indices ** building package indices ** installing vignettes ** testing if installed package can be loaded from temporary location ** testing if installed package can be loaded from final location ** testing if installed package keeps a record of temporary installation path * DONE (systemPipeR)
systemPipeR.Rcheck/tests/testthat.Rout
R version 4.1.3 (2022-03-10) -- "One Push-Up"
Copyright (C) 2022 The R Foundation for Statistical Computing
Platform: x86_64-apple-darwin17.0 (64-bit)
R is free software and comes with ABSOLUTELY NO WARRANTY.
You are welcome to redistribute it under certain conditions.
Type 'license()' or 'licence()' for distribution details.
R is a collaborative project with many contributors.
Type 'contributors()' for more information and
'citation()' on how to cite R or R packages in publications.
Type 'demo()' for some demos, 'help()' for on-line help, or
'help.start()' for an HTML browser interface to help.
Type 'q()' to quit R.
> library(testthat)
> library(systemPipeR)
Loading required package: Rsamtools
Loading required package: GenomeInfoDb
Loading required package: BiocGenerics
Attaching package: 'BiocGenerics'
The following objects are masked from 'package:stats':
IQR, mad, sd, var, xtabs
The following objects are masked from 'package:base':
Filter, Find, Map, Position, Reduce, anyDuplicated, append,
as.data.frame, basename, cbind, colnames, dirname, do.call,
duplicated, eval, evalq, get, grep, grepl, intersect, is.unsorted,
lapply, mapply, match, mget, order, paste, pmax, pmax.int, pmin,
pmin.int, rank, rbind, rownames, sapply, setdiff, sort, table,
tapply, union, unique, unsplit, which.max, which.min
Loading required package: S4Vectors
Loading required package: stats4
Attaching package: 'S4Vectors'
The following objects are masked from 'package:base':
I, expand.grid, unname
Loading required package: IRanges
Loading required package: GenomicRanges
Loading required package: Biostrings
Loading required package: XVector
Attaching package: 'Biostrings'
The following object is masked from 'package:base':
strsplit
Loading required package: ShortRead
Loading required package: BiocParallel
Loading required package: GenomicAlignments
Loading required package: SummarizedExperiment
Loading required package: MatrixGenerics
Loading required package: matrixStats
Attaching package: 'MatrixGenerics'
The following objects are masked from 'package:matrixStats':
colAlls, colAnyNAs, colAnys, colAvgsPerRowSet, colCollapse,
colCounts, colCummaxs, colCummins, colCumprods, colCumsums,
colDiffs, colIQRDiffs, colIQRs, colLogSumExps, colMadDiffs,
colMads, colMaxs, colMeans2, colMedians, colMins, colOrderStats,
colProds, colQuantiles, colRanges, colRanks, colSdDiffs, colSds,
colSums2, colTabulates, colVarDiffs, colVars, colWeightedMads,
colWeightedMeans, colWeightedMedians, colWeightedSds,
colWeightedVars, rowAlls, rowAnyNAs, rowAnys, rowAvgsPerColSet,
rowCollapse, rowCounts, rowCummaxs, rowCummins, rowCumprods,
rowCumsums, rowDiffs, rowIQRDiffs, rowIQRs, rowLogSumExps,
rowMadDiffs, rowMads, rowMaxs, rowMeans2, rowMedians, rowMins,
rowOrderStats, rowProds, rowQuantiles, rowRanges, rowRanks,
rowSdDiffs, rowSds, rowSums2, rowTabulates, rowVarDiffs, rowVars,
rowWeightedMads, rowWeightedMeans, rowWeightedMedians,
rowWeightedSds, rowWeightedVars
Loading required package: Biobase
Welcome to Bioconductor
Vignettes contain introductory material; view with
'browseVignettes()'. To cite Bioconductor, see
'citation("Biobase")', and for packages 'citation("pkgname")'.
Attaching package: 'Biobase'
The following object is masked from 'package:MatrixGenerics':
rowMedians
The following objects are masked from 'package:matrixStats':
anyMissing, rowMedians
>
> test_check("systemPipeR")
[1] "Generated /tmp/RtmpS7jvCw/rnaseq directory. Next run in rnaseq directory, the R code from *.Rmd template interactively. Alternatively, workflows can be exectued with a single command as instructed in the vignette."
[1] "Generated /tmp/RtmpS7jvCw/rnaseq2 directory. Next run in rnaseq directory, the R code from *.Rmd template interactively. Alternatively, workflows can be exectued with a single command as instructed in the vignette."
Creating directory '/private/tmp/RtmpS7jvCw/rnaseq2/.SPRproject'
Creating file '/private/tmp/RtmpS7jvCw/rnaseq2/.SPRproject/SYSargsList.yml'
Running Step: example
Running Session: Management
|
| | 0%
|
|======================= | 33%
|
|=============================================== | 67%
|
|======================================================================| 100%
---- Summary ----
Targets Total_Files Existing_Files Missing_Files example
M1 M1 1 1 0 Success
M2 M2 1 1 0 Success
M3 M3 1 1 0 Success
Step Status: Success
Running Step: newStep
Running Session: Management
|
| | 0%
|
|======================= | 33%
|
|=============================================== | 67%
|
|======================================================================| 100%
---- Summary ----
Targets Total_Files Existing_Files Missing_Files example
M1 M1 1 1 0 Success
M2 M2 1 1 0 Success
M3 M3 1 1 0 Success
Step Status: Success
Running Step: R_code
Running Session: Management
|
| | 0%
|
|======================================================================| 100%
Step Status: Warning
[1] "Generated /tmp/RtmpS7jvCw/newtest directory. Next run in new directory, the R code from *.Rmd template interactively. Alternatively, workflows can be exectued with a single command as instructed in the vignette."
Creating directory '/private/tmp/RtmpS7jvCw/newtest/.SPRproject'
Creating file '/private/tmp/RtmpS7jvCw/newtest/.SPRproject/SYSargsList.yml'
Reading Rmd fileNow importing step 'load_library'
Now importing step 'export_iris'
Now importing step 'gzip'
Now importing step 'gunzip'
Now importing step 'stats'
Instance of 'LineWise'
Code Chunk length: 1
mapply(function(x, y) write.csv(x, y), split(iris, factor(iris$Species)), file.path("results", paste0(names(split(iris, factor(iris$Species))), ".csv")))
load_library
5 + 5
load_library
5 + 5
66 + 55
Running Step: load_library
Running Session: Management
|
| | 0%
|
|======================================================================| 100%
Step Status: Success
Running Step: export_iris
Running Session: Management
|
| | 0%
|
|======================================================================| 100%
Step Status: Success
Skipping Step: gzip
Skipping Step: gunzip
Skipping Step: stats
[ FAIL 0 | WARN 0 | SKIP 10 | PASS 47 ]
══ Skipped tests ═══════════════════════════════════════════════════════════════
• On Bioconductor (10)
[ FAIL 0 | WARN 0 | SKIP 10 | PASS 47 ]
>
> proc.time()
user system elapsed
18.218 6.411 25.127
systemPipeR.Rcheck/systemPipeR-Ex.timings
| name | user | system | elapsed | |
| EnvModules-class | 0.002 | 0.001 | 0.003 | |
| GOHyperGAll | 0.001 | 0.002 | 0.003 | |
| INTERSECTset-class | 0.011 | 0.014 | 0.025 | |
| LineWise-class | 0.334 | 0.024 | 0.358 | |
| ParamFiles | 0.167 | 0.005 | 0.174 | |
| SPRproject | 0.004 | 0.001 | 0.005 | |
| SYSargs-class | 0.033 | 0.010 | 0.044 | |
| SYSargs2-class | 0.214 | 0.010 | 0.224 | |
| SYSargsList-class | 0.783 | 0.034 | 0.818 | |
| SYSargsList | 0.197 | 0.027 | 0.224 | |
| VENNset-class | 0.011 | 0.011 | 0.022 | |
| alignStats | 3.179 | 0.114 | 3.296 | |
| catDB-class | 0.001 | 0.001 | 0.001 | |
| catmap | 0.000 | 0.001 | 0.001 | |
| check.output | 2.255 | 0.044 | 2.300 | |
| clusterRun | 2.130 | 0.012 | 2.145 | |
| config.param | 0.000 | 0.000 | 0.001 | |
| configWF | 0.000 | 0.000 | 0.001 | |
| countRangeset | 0.109 | 0.004 | 0.114 | |
| createParamFiles | 0.137 | 0.002 | 0.139 | |
| cwlFilesUpdate | 0.000 | 0.000 | 0.001 | |
| evalCode | 0.078 | 0.005 | 0.084 | |
| featureCoverage | 2.169 | 0.006 | 2.178 | |
| featuretypeCounts | 0.013 | 0.002 | 0.016 | |
| filterDEGs | 1.551 | 0.040 | 1.591 | |
| filterVars | 0.013 | 0.004 | 0.017 | |
| genFeatures | 33.386 | 0.841 | 34.251 | |
| importWF | 0.054 | 0.006 | 0.060 | |
| loadWorkflow | 7.481 | 0.043 | 7.527 | |
| mergeBamByFactor | 0.013 | 0.003 | 0.017 | |
| moduleload | 0.000 | 0.001 | 0.001 | |
| olBarplot | 0.583 | 0.073 | 0.676 | |
| olRanges | 0.178 | 0.006 | 0.184 | |
| output_update | 2.196 | 0.008 | 2.204 | |
| overLapper | 0.848 | 0.039 | 0.890 | |
| plotfeatureCoverage | 0.012 | 0.003 | 0.016 | |
| plotfeaturetypeCounts | 0.010 | 0.002 | 0.013 | |
| predORF | 0.349 | 0.006 | 0.356 | |
| preprocessReads | 0.710 | 0.004 | 0.717 | |
| readComp | 0.025 | 0.006 | 0.031 | |
| renderLogs | 7.618 | 0.812 | 8.653 | |
| renderReport | 2.768 | 0.164 | 2.964 | |
| returnRPKM | 0.000 | 0.000 | 0.001 | |
| runCommandline | 2.091 | 0.012 | 2.104 | |
| runDiff | 0.059 | 0.004 | 0.062 | |
| runWF | 0.191 | 0.009 | 0.200 | |
| run_DESeq2 | 30.984 | 0.089 | 31.091 | |
| run_edgeR | 0.900 | 0.012 | 0.912 | |
| sal2bash | 0.923 | 0.025 | 0.949 | |
| sal2rmd | 0.874 | 0.025 | 0.900 | |
| scaleRanges | 0.771 | 0.005 | 0.776 | |
| seeFastq | 0.000 | 0.000 | 0.001 | |
| showDF | 0.083 | 0.024 | 0.106 | |
| subsetWF | 1.592 | 0.004 | 1.598 | |
| symLink2bam | 0.016 | 0.004 | 0.019 | |
| sysargs | 0.015 | 0.005 | 0.021 | |
| systemArgs | 0.017 | 0.007 | 0.024 | |
| targets.as.df | 0.007 | 0.003 | 0.009 | |
| tryCMD | 0.000 | 0.001 | 0.001 | |
| tryPath | 0.001 | 0.001 | 0.002 | |
| variantReport | 0.014 | 0.006 | 0.020 | |
| vennPlot | 0.551 | 0.046 | 0.598 | |
| writeTargets | 0.202 | 0.009 | 0.211 | |
| writeTargetsRef | 0.001 | 0.000 | 0.001 | |
| writeTargetsout | 2.692 | 0.008 | 2.703 | |
| write_SYSargsList | 0.211 | 0.008 | 0.220 | |