| Back to Build/check report for BioC 3.14 experimental data | 
 | 
This page was generated on 2022-04-13 14:50:22 -0400 (Wed, 13 Apr 2022).
| Hostname | OS | Arch (*) | R version | Installed pkgs | 
|---|---|---|---|---|
| nebbiolo2 | Linux (Ubuntu 20.04.4 LTS) | x86_64 | 4.1.3 (2022-03-10) -- "One Push-Up" | 4324 | 
| Click on any hostname to see more info about the system (e.g. compilers) (*) as reported by 'uname -p', except on Windows and Mac OS X | ||||
| To the developers/maintainers of the etec16s package: Make sure to use the following settings in order to reproduce any error or warning you see on this page. | 
| Package 114/408 | Hostname | OS / Arch | INSTALL | BUILD | CHECK | ||||||||
| etec16s 1.22.0  (landing page) Joseph N. Paulson 
 | nebbiolo2 | Linux (Ubuntu 20.04.4 LTS) / x86_64 | OK | OK | OK |  | |||||||
| Package: etec16s | 
| Version: 1.22.0 | 
| Command: /home/biocbuild/bbs-3.14-bioc/R/bin/R CMD INSTALL etec16s | 
| StartedAt: 2022-04-13 10:03:03 -0400 (Wed, 13 Apr 2022) | 
| EndedAt: 2022-04-13 10:03:08 -0400 (Wed, 13 Apr 2022) | 
| EllapsedTime: 5.0 seconds | 
| RetCode: 0 | 
| Status: OK | 
############################################################################## ############################################################################## ### ### Running command: ### ### /home/biocbuild/bbs-3.14-bioc/R/bin/R CMD INSTALL etec16s ### ############################################################################## ############################################################################## * installing to library ‘/home/biocbuild/bbs-3.14-bioc/R/library’ * installing *source* package ‘etec16s’ ... ** using staged installation ** data *** moving datasets to lazyload DB ** inst ** help *** installing help indices ** building package indices ** installing vignettes ** testing if installed package can be loaded from temporary location ** testing if installed package can be loaded from final location ** testing if installed package keeps a record of temporary installation path * DONE (etec16s)