| Back to Multiple platform build/check report for BioC 3.15 | 
  | 
This page was generated on 2022-10-19 13:20:10 -0400 (Wed, 19 Oct 2022).
| Hostname | OS | Arch (*) | R version | Installed pkgs | 
|---|---|---|---|---|
| nebbiolo1 | Linux (Ubuntu 20.04.5 LTS) | x86_64 | 4.2.1 (2022-06-23) -- "Funny-Looking Kid" | 4386 | 
| palomino3 | Windows Server 2022 Datacenter | x64 | 4.2.1 (2022-06-23 ucrt) -- "Funny-Looking Kid" | 4138 | 
| merida1 | macOS 10.14.6 Mojave | x86_64 | 4.2.1 (2022-06-23) -- "Funny-Looking Kid" | 4205 | 
| Click on any hostname to see more info about the system (e.g. compilers) (*) as reported by 'uname -p', except on Windows and Mac OS X | ||||
| 
To the developers/maintainers of the DelayedArray package: - Please allow up to 24 hours (and sometimes 48 hours) for your latest push to git@git.bioconductor.org:packages/DelayedArray.git to reflect on this report. See How and When does the builder pull? When will my changes propagate? for more information. - Make sure to use the following settings in order to reproduce any error or warning you see on this page.  | 
| Package 496/2140 | Hostname | OS / Arch | INSTALL | BUILD | CHECK | BUILD BIN | ||||||||
| DelayedArray 0.22.0  (landing page) Hervé Pagès 
  | nebbiolo1 | Linux (Ubuntu 20.04.5 LTS) / x86_64 | OK | OK | WARNINGS | |||||||||
| palomino3 | Windows Server 2022 Datacenter / x64 | OK | OK | WARNINGS | OK | |||||||||
| merida1 | macOS 10.14.6 Mojave / x86_64 | OK | OK | WARNINGS | OK | |||||||||
| Package: DelayedArray | 
| Version: 0.22.0 | 
| Command: /home/biocbuild/bbs-3.15-bioc/R/bin/R CMD build --keep-empty-dirs --no-resave-data DelayedArray | 
| StartedAt: 2022-10-18 16:25:57 -0400 (Tue, 18 Oct 2022) | 
| EndedAt: 2022-10-18 16:26:48 -0400 (Tue, 18 Oct 2022) | 
| EllapsedTime: 51.5 seconds | 
| RetCode: 0 | 
| Status: OK | 
| PackageFile: DelayedArray_0.22.0.tar.gz | 
| PackageFileSize: 627.9 KiB | 
############################################################################## ############################################################################## ### ### Running command: ### ### /home/biocbuild/bbs-3.15-bioc/R/bin/R CMD build --keep-empty-dirs --no-resave-data DelayedArray ### ############################################################################## ############################################################################## * checking for file ‘DelayedArray/DESCRIPTION’ ... OK * preparing ‘DelayedArray’: * checking DESCRIPTION meta-information ... OK * cleaning src * installing the package to build vignettes * creating vignettes ... OK * cleaning src * excluding invalid files Subdirectory 'inst/doc' contains invalid file names: ‘02-Implementing_a_backend.Rmd’ ‘01-Working_with_large_arrays.Rnw’ ‘03-DelayedArray_HDF5Array_update.Rnw’ ‘02-Implementing_a_backend.html’ ‘01-Working_with_large_arrays.pdf’ ‘03-DelayedArray_HDF5Array_update.pdf’ * checking for LF line-endings in source and make files and shell scripts * checking for empty or unneeded directories * building ‘DelayedArray_0.22.0.tar.gz’