| Back to Multiple platform build/check report for BioC 3.15 |
|
This page was generated on 2022-03-18 11:07:41 -0400 (Fri, 18 Mar 2022).
| Hostname | OS | Arch (*) | R version | Installed pkgs |
|---|---|---|---|---|
| nebbiolo1 | Linux (Ubuntu 20.04.4 LTS) | x86_64 | R Under development (unstable) (2022-02-17 r81757) -- "Unsuffered Consequences" | 4334 |
| riesling1 | Windows Server 2019 Standard | x64 | R Under development (unstable) (2021-11-21 r81221) -- "Unsuffered Consequences" | 4097 |
| palomino3 | Windows Server 2022 Datacenter | x64 | R Under development (unstable) (2022-02-17 r81757 ucrt) -- "Unsuffered Consequences" | 4083 |
| merida1 | macOS 10.14.6 Mojave | x86_64 | R Under development (unstable) (2022-03-02 r81842) -- "Unsuffered Consequences" | 4134 |
| Click on any hostname to see more info about the system (e.g. compilers) (*) as reported by 'uname -p', except on Windows and Mac OS X | ||||
|
To the developers/maintainers of the GraphAlignment package: - Please allow up to 24 hours (and sometimes 48 hours) for your latest push to git@git.bioconductor.org:packages/GraphAlignment.git to reflect on this report. See How and When does the builder pull? When will my changes propagate? here for more information. - Make sure to use the following settings in order to reproduce any error or warning you see on this page. |
| Package 821/2090 | Hostname | OS / Arch | INSTALL | BUILD | CHECK | BUILD BIN | ||||||||
| GraphAlignment 1.59.0 (landing page) Joern P. Meier
| nebbiolo1 | Linux (Ubuntu 20.04.4 LTS) / x86_64 | OK | OK | WARNINGS | |||||||||
| riesling1 | Windows Server 2019 Standard / x64 | OK | OK | OK | OK | |||||||||
| palomino3 | Windows Server 2022 Datacenter / x64 | OK | OK | OK | OK | |||||||||
| merida1 | macOS 10.14.6 Mojave / x86_64 | OK | OK | OK | OK | |||||||||
| Package: GraphAlignment |
| Version: 1.59.0 |
| Command: rm -rf GraphAlignment.buildbin-libdir && mkdir GraphAlignment.buildbin-libdir && D:\biocbuild\bbs-3.15-bioc\R\bin\R.exe CMD INSTALL --build --library=GraphAlignment.buildbin-libdir GraphAlignment_1.59.0.tar.gz |
| StartedAt: 2022-03-17 21:13:04 -0400 (Thu, 17 Mar 2022) |
| EndedAt: 2022-03-17 21:14:01 -0400 (Thu, 17 Mar 2022) |
| EllapsedTime: 56.8 seconds |
| RetCode: 0 |
| Status: OK |
| PackageFile: GraphAlignment_1.59.0.zip |
| PackageFileSize: 458.9 KiB |
##############################################################################
##############################################################################
###
### Running command:
###
### rm -rf GraphAlignment.buildbin-libdir && mkdir GraphAlignment.buildbin-libdir && D:\biocbuild\bbs-3.15-bioc\R\bin\R.exe CMD INSTALL --build --library=GraphAlignment.buildbin-libdir GraphAlignment_1.59.0.tar.gz
###
##############################################################################
##############################################################################
* installing *source* package 'GraphAlignment' ...
** using staged installation
** libs
"C:/rtools40/mingw64/bin/"gcc -I"D:/biocbuild/bbs-3.15-bioc/R/include" -DNDEBUG -I"C:/extsoft/include" -O2 -Wall -std=gnu99 -mfpmath=sse -msse2 -mstackrealign -fno-reorder-blocks-and-partition -c GA_alloc.c -o GA_alloc.o
"C:/rtools40/mingw64/bin/"gcc -I"D:/biocbuild/bbs-3.15-bioc/R/include" -DNDEBUG -I"C:/extsoft/include" -O2 -Wall -std=gnu99 -mfpmath=sse -msse2 -mstackrealign -fno-reorder-blocks-and-partition -c GA_matrix.c -o GA_matrix.o
"C:/rtools40/mingw64/bin/"gcc -I"D:/biocbuild/bbs-3.15-bioc/R/include" -DNDEBUG -I"C:/extsoft/include" -O2 -Wall -std=gnu99 -mfpmath=sse -msse2 -mstackrealign -fno-reorder-blocks-and-partition -c GA_matrix_R.c -o GA_matrix_R.o
"C:/rtools40/mingw64/bin/"gcc -I"D:/biocbuild/bbs-3.15-bioc/R/include" -DNDEBUG -I"C:/extsoft/include" -O2 -Wall -std=gnu99 -mfpmath=sse -msse2 -mstackrealign -fno-reorder-blocks-and-partition -c GA_message.c -o GA_message.o
"C:/rtools40/mingw64/bin/"gcc -I"D:/biocbuild/bbs-3.15-bioc/R/include" -DNDEBUG -I"C:/extsoft/include" -O2 -Wall -std=gnu99 -mfpmath=sse -msse2 -mstackrealign -fno-reorder-blocks-and-partition -c GA_vector.c -o GA_vector.o
"C:/rtools40/mingw64/bin/"gcc -I"D:/biocbuild/bbs-3.15-bioc/R/include" -DNDEBUG -I"C:/extsoft/include" -O2 -Wall -std=gnu99 -mfpmath=sse -msse2 -mstackrealign -fno-reorder-blocks-and-partition -c GA_vector_R.c -o GA_vector_R.o
GA_vector_R.c: In function 'GA_clamp_mode_from_R':
GA_vector_R.c:139:9: warning: unused variable 'size' [-Wunused-variable]
int size = LENGTH(robj);
^~~~
"C:/rtools40/mingw64/bin/"gcc -I"D:/biocbuild/bbs-3.15-bioc/R/include" -DNDEBUG -I"C:/extsoft/include" -O2 -Wall -std=gnu99 -mfpmath=sse -msse2 -mstackrealign -fno-reorder-blocks-and-partition -c GraphAlignment.c -o GraphAlignment.o
GraphAlignment.c: In function 'GA_encode_directed_graph':
GraphAlignment.c:138:20: warning: suggest explicit braces to avoid ambiguous 'else' [-Wdangling-else]
if (matrix->elts[i][j] == 1)
^
GraphAlignment.c:159:20: warning: suggest explicit braces to avoid ambiguous 'else' [-Wdangling-else]
if (matrix->elts[i][j] == 1)
^
GraphAlignment.c: In function 'GA_directed_mode_from_R':
GraphAlignment.c:264:9: warning: unused variable 'size' [-Wunused-variable]
int size = LENGTH(robj);
^~~~
"C:/rtools40/mingw64/bin/"gcc -I"D:/biocbuild/bbs-3.15-bioc/R/include" -DNDEBUG -I"C:/extsoft/include" -O2 -Wall -std=gnu99 -mfpmath=sse -msse2 -mstackrealign -fno-reorder-blocks-and-partition -c lap.c -o lap.o
lap.c: In function 'LAP_lap':
lap.c:64:30: warning: 'last' may be used uninitialized in this function [-Wmaybe-uninitialized]
col j, j1, j2, endofpath, last, low, up, *collist, *matches;
^~~~
C:/rtools40/mingw64/bin/gcc -shared -s -static-libgcc -o GraphAlignment.dll tmp.def GA_alloc.o GA_matrix.o GA_matrix_R.o GA_message.o GA_vector.o GA_vector_R.o GraphAlignment.o lap.o -LC:/extsoft/lib/x64 -LC:/extsoft/lib -LD:/biocbuild/bbs-3.15-bioc/R/bin/x64 -lR
installing to D:/biocbuild/bbs-3.15-bioc/meat/GraphAlignment.buildbin-libdir/00LOCK-GraphAlignment/00new/GraphAlignment/libs/x64
** R
** inst
** byte-compile and prepare package for lazy loading
** help
*** installing help indices
converting help for package 'GraphAlignment'
finding HTML links ... done
AlignNetworks html
AlignedPairs html
AnalyzeAlignment html
ComputeLinkParameters html
ComputeM html
ComputeNodeParameters html
ComputeScores html
CreateScoreMatrix html
EncodeDirectedGraph html
GenerateExample html
GetBinNumber html
InitialAlignment html
InvertPermutation html
LinearAssignment html
MatrixToBin html
Permute html
Trace html
VectorToBin html
** building package indices
** installing vignettes
** testing if installed package can be loaded from temporary location
** testing if installed package can be loaded from final location
** testing if installed package keeps a record of temporary installation path
* MD5 sums
packaged installation of 'GraphAlignment' as GraphAlignment_1.59.0.zip
* DONE (GraphAlignment)