| Back to Multiple platform build/check report for BioC 3.15 |
|
This page was generated on 2022-03-18 11:08:57 -0400 (Fri, 18 Mar 2022).
| Hostname | OS | Arch (*) | R version | Installed pkgs |
|---|---|---|---|---|
| nebbiolo1 | Linux (Ubuntu 20.04.4 LTS) | x86_64 | R Under development (unstable) (2022-02-17 r81757) -- "Unsuffered Consequences" | 4334 |
| riesling1 | Windows Server 2019 Standard | x64 | R Under development (unstable) (2021-11-21 r81221) -- "Unsuffered Consequences" | 4097 |
| palomino3 | Windows Server 2022 Datacenter | x64 | R Under development (unstable) (2022-02-17 r81757 ucrt) -- "Unsuffered Consequences" | 4083 |
| merida1 | macOS 10.14.6 Mojave | x86_64 | R Under development (unstable) (2022-03-02 r81842) -- "Unsuffered Consequences" | 4134 |
| Click on any hostname to see more info about the system (e.g. compilers) (*) as reported by 'uname -p', except on Windows and Mac OS X | ||||
|
To the developers/maintainers of the VariantAnnotation package: - Please allow up to 24 hours (and sometimes 48 hours) for your latest push to git@git.bioconductor.org:packages/VariantAnnotation.git to reflect on this report. See How and When does the builder pull? When will my changes propagate? here for more information. - Make sure to use the following settings in order to reproduce any error or warning you see on this page. |
| Package 2045/2090 | Hostname | OS / Arch | INSTALL | BUILD | CHECK | BUILD BIN | ||||||||
| VariantAnnotation 1.41.3 (landing page) Bioconductor Package Maintainer
| nebbiolo1 | Linux (Ubuntu 20.04.4 LTS) / x86_64 | OK | OK | OK | |||||||||
| riesling1 | Windows Server 2019 Standard / x64 | OK | OK | OK | OK | |||||||||
| palomino3 | Windows Server 2022 Datacenter / x64 | OK | OK | OK | OK | |||||||||
| merida1 | macOS 10.14.6 Mojave / x86_64 | OK | OK | OK | OK | |||||||||
| Package: VariantAnnotation |
| Version: 1.41.3 |
| Command: D:\biocbuild\bbs-3.15-bioc\R\bin\R.exe CMD check --no-multiarch --install=check:VariantAnnotation.install-out.txt --library=D:\biocbuild\bbs-3.15-bioc\R\library --no-vignettes --timings VariantAnnotation_1.41.3.tar.gz |
| StartedAt: 2022-03-17 20:34:48 -0400 (Thu, 17 Mar 2022) |
| EndedAt: 2022-03-17 20:40:47 -0400 (Thu, 17 Mar 2022) |
| EllapsedTime: 359.1 seconds |
| RetCode: 0 |
| Status: OK |
| CheckDir: VariantAnnotation.Rcheck |
| Warnings: 0 |
##############################################################################
##############################################################################
###
### Running command:
###
### D:\biocbuild\bbs-3.15-bioc\R\bin\R.exe CMD check --no-multiarch --install=check:VariantAnnotation.install-out.txt --library=D:\biocbuild\bbs-3.15-bioc\R\library --no-vignettes --timings VariantAnnotation_1.41.3.tar.gz
###
##############################################################################
##############################################################################
* using log directory 'D:/biocbuild/bbs-3.15-bioc/meat/VariantAnnotation.Rcheck'
* using R Under development (unstable) (2021-11-21 r81221)
* using platform: x86_64-w64-mingw32 (64-bit)
* using session charset: ISO8859-1
* using option '--no-vignettes'
* checking for file 'VariantAnnotation/DESCRIPTION' ... OK
* checking extension type ... Package
* this is package 'VariantAnnotation' version '1.41.3'
* checking package namespace information ... OK
* checking package dependencies ... NOTE
Depends: includes the non-default packages:
'BiocGenerics', 'MatrixGenerics', 'GenomeInfoDb', 'GenomicRanges',
'SummarizedExperiment', 'Rsamtools'
Adding so many packages to the search path is excessive and importing
selectively is preferable.
* checking if this is a source package ... OK
* checking if there is a namespace ... OK
* checking for hidden files and directories ... OK
* checking for portable file names ... OK
* checking whether package 'VariantAnnotation' can be installed ... OK
* checking installed package size ... NOTE
installed size is 6.8Mb
sub-directories of 1Mb or more:
R 1.9Mb
extdata 1.2Mb
libs 2.4Mb
* checking package directory ... OK
* checking 'build' directory ... OK
* checking DESCRIPTION meta-information ... OK
* checking top-level files ... OK
* checking for left-over files ... OK
* checking index information ... OK
* checking package subdirectories ... OK
* checking R files for non-ASCII characters ... OK
* checking R files for syntax errors ... OK
* checking whether the package can be loaded ... OK
* checking whether the package can be loaded with stated dependencies ... OK
* checking whether the package can be unloaded cleanly ... OK
* checking whether the namespace can be loaded with stated dependencies ... OK
* checking whether the namespace can be unloaded cleanly ... OK
* checking dependencies in R code ... NOTE
Unexported objects imported by ':::' calls:
'Rsamtools:::.RsamtoolsFile' 'Rsamtools:::.RsamtoolsFileList'
'Rsamtools:::.io_check_exists' 'rtracklayer:::checkArgFormat'
See the note in ?`:::` about the use of this operator.
* checking S3 generic/method consistency ... OK
* checking replacement functions ... OK
* checking foreign function calls ... OK
* checking R code for possible problems ... NOTE
VRangesForMatching: no visible binding for global variable 'REF'
VRangesForMatching: no visible binding for global variable 'ALT'
Undefined global functions or variables:
ALT REF
* checking Rd files ... OK
* checking Rd metadata ... OK
* checking Rd cross-references ... OK
* checking for missing documentation entries ... OK
* checking for code/documentation mismatches ... OK
* checking Rd \usage sections ... OK
* checking Rd contents ... OK
* checking for unstated dependencies in examples ... OK
* checking line endings in C/C++/Fortran sources/headers ... OK
* checking line endings in Makefiles ... OK
* checking compilation flags in Makevars ... OK
* checking for GNU extensions in Makefiles ... NOTE
GNU make is a SystemRequirements.
* checking for portable use of $(BLAS_LIBS) and $(LAPACK_LIBS) ... OK
* checking use of PKG_*FLAGS in Makefiles ... OK
* checking compiled code ... NOTE
Note: information on .o files for x64 is not available
File 'D:/biocbuild/bbs-3.15-bioc/R/library/VariantAnnotation/libs/x64/VariantAnnotation.dll':
Found '_exit', possibly from '_exit' (C)
Found 'abort', possibly from 'abort' (C), 'runtime' (Fortran)
Found 'exit', possibly from 'exit' (C), 'stop' (Fortran)
Found 'printf', possibly from 'printf' (C)
Found 'putchar', possibly from 'putchar' (C)
Found 'puts', possibly from 'printf' (C), 'puts' (C)
Found 'rand', possibly from 'rand' (C)
File 'VariantAnnotation/libs/x64/VariantAnnotation.dll':
Found non-API calls to R: 'R_GetConnection', 'R_WriteConnection'
Compiled code should not call entry points which might terminate R nor
write to stdout/stderr instead of to the console, nor use Fortran I/O
nor system RNGs. The detected symbols are linked into the code but
might come from libraries and not actually be called.
Compiled code should not call non-API entry points in R.
See 'Writing portable packages' in the 'Writing R Extensions' manual.
* checking files in 'vignettes' ... OK
* checking examples ... OK
Examples with CPU (user + system) or elapsed time > 5s
user system elapsed
locateVariants-methods 16.41 1.07 17.47
predictCoding-methods 13.39 1.04 14.44
filterVcf-methods 3.09 0.15 5.76
* checking for unstated dependencies in 'tests' ... OK
* checking tests ...
Running 'VariantAnnotation_unit_tests.R'
OK
* checking for unstated dependencies in vignettes ... OK
* checking package vignettes in 'inst/doc' ... OK
* checking running R code from vignettes ... SKIPPED
* checking re-building of vignette outputs ... SKIPPED
* checking PDF version of manual ... OK
* DONE
Status: 6 NOTEs
See
'D:/biocbuild/bbs-3.15-bioc/meat/VariantAnnotation.Rcheck/00check.log'
for details.
VariantAnnotation.Rcheck/00install.out
##############################################################################
##############################################################################
###
### Running command:
###
### D:\biocbuild\bbs-3.15-bioc\R\bin\R.exe CMD INSTALL VariantAnnotation
###
##############################################################################
##############################################################################
* installing to library 'D:/biocbuild/bbs-3.15-bioc/R/library'
* installing *source* package 'VariantAnnotation' ...
** using staged installation
** libs
"C:/rtools40/mingw64/bin/"gcc -I"D:/biocbuild/bbs-3.15-bioc/R/include" -DNDEBUG -D_FILE_OFFSET_BITS=64 -I'D:/biocbuild/bbs-3.15-bioc/R/library/S4Vectors/include' -I'D:/biocbuild/bbs-3.15-bioc/R/library/IRanges/include' -I'D:/biocbuild/bbs-3.15-bioc/R/library/XVector/include' -I'D:/biocbuild/bbs-3.15-bioc/R/library/Biostrings/include' -I'D:/biocbuild/bbs-3.15-bioc/R/library/Rhtslib/include' -I"C:/extsoft/include" -O2 -Wall -std=gnu99 -mfpmath=sse -msse2 -mstackrealign -fno-reorder-blocks-and-partition -c Biostrings_stubs.c -o Biostrings_stubs.o
"C:/rtools40/mingw64/bin/"gcc -I"D:/biocbuild/bbs-3.15-bioc/R/include" -DNDEBUG -D_FILE_OFFSET_BITS=64 -I'D:/biocbuild/bbs-3.15-bioc/R/library/S4Vectors/include' -I'D:/biocbuild/bbs-3.15-bioc/R/library/IRanges/include' -I'D:/biocbuild/bbs-3.15-bioc/R/library/XVector/include' -I'D:/biocbuild/bbs-3.15-bioc/R/library/Biostrings/include' -I'D:/biocbuild/bbs-3.15-bioc/R/library/Rhtslib/include' -I"C:/extsoft/include" -O2 -Wall -std=gnu99 -mfpmath=sse -msse2 -mstackrealign -fno-reorder-blocks-and-partition -c IRanges_stubs.c -o IRanges_stubs.o
"C:/rtools40/mingw64/bin/"gcc -I"D:/biocbuild/bbs-3.15-bioc/R/include" -DNDEBUG -D_FILE_OFFSET_BITS=64 -I'D:/biocbuild/bbs-3.15-bioc/R/library/S4Vectors/include' -I'D:/biocbuild/bbs-3.15-bioc/R/library/IRanges/include' -I'D:/biocbuild/bbs-3.15-bioc/R/library/XVector/include' -I'D:/biocbuild/bbs-3.15-bioc/R/library/Biostrings/include' -I'D:/biocbuild/bbs-3.15-bioc/R/library/Rhtslib/include' -I"C:/extsoft/include" -O2 -Wall -std=gnu99 -mfpmath=sse -msse2 -mstackrealign -fno-reorder-blocks-and-partition -c R_init_VariantAnnotation.c -o R_init_VariantAnnotation.o
"C:/rtools40/mingw64/bin/"gcc -I"D:/biocbuild/bbs-3.15-bioc/R/include" -DNDEBUG -D_FILE_OFFSET_BITS=64 -I'D:/biocbuild/bbs-3.15-bioc/R/library/S4Vectors/include' -I'D:/biocbuild/bbs-3.15-bioc/R/library/IRanges/include' -I'D:/biocbuild/bbs-3.15-bioc/R/library/XVector/include' -I'D:/biocbuild/bbs-3.15-bioc/R/library/Biostrings/include' -I'D:/biocbuild/bbs-3.15-bioc/R/library/Rhtslib/include' -I"C:/extsoft/include" -O2 -Wall -std=gnu99 -mfpmath=sse -msse2 -mstackrealign -fno-reorder-blocks-and-partition -c XVector_stubs.c -o XVector_stubs.o
"C:/rtools40/mingw64/bin/"gcc -I"D:/biocbuild/bbs-3.15-bioc/R/include" -DNDEBUG -D_FILE_OFFSET_BITS=64 -I'D:/biocbuild/bbs-3.15-bioc/R/library/S4Vectors/include' -I'D:/biocbuild/bbs-3.15-bioc/R/library/IRanges/include' -I'D:/biocbuild/bbs-3.15-bioc/R/library/XVector/include' -I'D:/biocbuild/bbs-3.15-bioc/R/library/Biostrings/include' -I'D:/biocbuild/bbs-3.15-bioc/R/library/Rhtslib/include' -I"C:/extsoft/include" -O2 -Wall -std=gnu99 -mfpmath=sse -msse2 -mstackrealign -fno-reorder-blocks-and-partition -c dna_hash.c -o dna_hash.o
"C:/rtools40/mingw64/bin/"gcc -I"D:/biocbuild/bbs-3.15-bioc/R/include" -DNDEBUG -D_FILE_OFFSET_BITS=64 -I'D:/biocbuild/bbs-3.15-bioc/R/library/S4Vectors/include' -I'D:/biocbuild/bbs-3.15-bioc/R/library/IRanges/include' -I'D:/biocbuild/bbs-3.15-bioc/R/library/XVector/include' -I'D:/biocbuild/bbs-3.15-bioc/R/library/Biostrings/include' -I'D:/biocbuild/bbs-3.15-bioc/R/library/Rhtslib/include' -I"C:/extsoft/include" -O2 -Wall -std=gnu99 -mfpmath=sse -msse2 -mstackrealign -fno-reorder-blocks-and-partition -c rle.c -o rle.o
"C:/rtools40/mingw64/bin/"gcc -I"D:/biocbuild/bbs-3.15-bioc/R/include" -DNDEBUG -D_FILE_OFFSET_BITS=64 -I'D:/biocbuild/bbs-3.15-bioc/R/library/S4Vectors/include' -I'D:/biocbuild/bbs-3.15-bioc/R/library/IRanges/include' -I'D:/biocbuild/bbs-3.15-bioc/R/library/XVector/include' -I'D:/biocbuild/bbs-3.15-bioc/R/library/Biostrings/include' -I'D:/biocbuild/bbs-3.15-bioc/R/library/Rhtslib/include' -I"C:/extsoft/include" -O2 -Wall -std=gnu99 -mfpmath=sse -msse2 -mstackrealign -fno-reorder-blocks-and-partition -c strhash.c -o strhash.o
"C:/rtools40/mingw64/bin/"gcc -I"D:/biocbuild/bbs-3.15-bioc/R/include" -DNDEBUG -D_FILE_OFFSET_BITS=64 -I'D:/biocbuild/bbs-3.15-bioc/R/library/S4Vectors/include' -I'D:/biocbuild/bbs-3.15-bioc/R/library/IRanges/include' -I'D:/biocbuild/bbs-3.15-bioc/R/library/XVector/include' -I'D:/biocbuild/bbs-3.15-bioc/R/library/Biostrings/include' -I'D:/biocbuild/bbs-3.15-bioc/R/library/Rhtslib/include' -I"C:/extsoft/include" -O2 -Wall -std=gnu99 -mfpmath=sse -msse2 -mstackrealign -fno-reorder-blocks-and-partition -c utilities.c -o utilities.o
"C:/rtools40/mingw64/bin/"gcc -I"D:/biocbuild/bbs-3.15-bioc/R/include" -DNDEBUG -D_FILE_OFFSET_BITS=64 -I'D:/biocbuild/bbs-3.15-bioc/R/library/S4Vectors/include' -I'D:/biocbuild/bbs-3.15-bioc/R/library/IRanges/include' -I'D:/biocbuild/bbs-3.15-bioc/R/library/XVector/include' -I'D:/biocbuild/bbs-3.15-bioc/R/library/Biostrings/include' -I'D:/biocbuild/bbs-3.15-bioc/R/library/Rhtslib/include' -I"C:/extsoft/include" -O2 -Wall -std=gnu99 -mfpmath=sse -msse2 -mstackrealign -fno-reorder-blocks-and-partition -c vcffile.c -o vcffile.o
"C:/rtools40/mingw64/bin/"gcc -I"D:/biocbuild/bbs-3.15-bioc/R/include" -DNDEBUG -D_FILE_OFFSET_BITS=64 -I'D:/biocbuild/bbs-3.15-bioc/R/library/S4Vectors/include' -I'D:/biocbuild/bbs-3.15-bioc/R/library/IRanges/include' -I'D:/biocbuild/bbs-3.15-bioc/R/library/XVector/include' -I'D:/biocbuild/bbs-3.15-bioc/R/library/Biostrings/include' -I'D:/biocbuild/bbs-3.15-bioc/R/library/Rhtslib/include' -I"C:/extsoft/include" -O2 -Wall -std=gnu99 -mfpmath=sse -msse2 -mstackrealign -fno-reorder-blocks-and-partition -c vcftype.c -o vcftype.o
"C:/rtools40/mingw64/bin/"gcc -I"D:/biocbuild/bbs-3.15-bioc/R/include" -DNDEBUG -D_FILE_OFFSET_BITS=64 -I'D:/biocbuild/bbs-3.15-bioc/R/library/S4Vectors/include' -I'D:/biocbuild/bbs-3.15-bioc/R/library/IRanges/include' -I'D:/biocbuild/bbs-3.15-bioc/R/library/XVector/include' -I'D:/biocbuild/bbs-3.15-bioc/R/library/Biostrings/include' -I'D:/biocbuild/bbs-3.15-bioc/R/library/Rhtslib/include' -I"C:/extsoft/include" -O2 -Wall -std=gnu99 -mfpmath=sse -msse2 -mstackrealign -fno-reorder-blocks-and-partition -c writevcf.c -o writevcf.o
C:/rtools40/mingw64/bin/gcc -shared -s -static-libgcc -o VariantAnnotation.dll tmp.def Biostrings_stubs.o IRanges_stubs.o R_init_VariantAnnotation.o XVector_stubs.o dna_hash.o rle.o strhash.o utilities.o vcffile.o vcftype.o writevcf.o D:/biocbuild/bbs-3.15-bioc/R/library/Rhtslib/usrlib/x64/libhts.a -LC:/extsoft/lib/x64 -lcurl -lrtmp -lssl -lssh2 -lcrypto -lgdi32 -lz -lws2_32 -lwldap32 -lwinmm -LC:/extsoft/lib/x64 -LC:/extsoft/lib -LD:/biocbuild/bbs-3.15-bioc/R/bin/x64 -lR
installing to D:/biocbuild/bbs-3.15-bioc/R/library/00LOCK-VariantAnnotation/00new/VariantAnnotation/libs/x64
** R
** inst
** byte-compile and prepare package for lazy loading
Creating a new generic function for 'tabulate' in package 'VariantAnnotation'
** help
*** installing help indices
converting help for package 'VariantAnnotation'
finding HTML links ... done
GLtoGP html
PROVEANDb-class html
PolyPhenDb-class html
PolyPhenDbColumns html
SIFTDb-class html
SIFTDbColumns html
ScanVcfParam-class html
finding level-2 HTML links ... done
VCF-class html
VCFHeader-class html
VRanges-class html
VRangesList-class html
VariantType-class html
VcfFile-class html
defunct html
filterVcf-methods html
genotypeToSnpMatrix-methods html
getTranscriptSeqs-methods html
indexVcf-method html
isSNV-methods html
locateVariants-methods html
predictCoding-methods html
probabilityToSnpMatrix html
readVcf-methods html
scanVcf-methods html
seqinfo-method html
snpSummary html
summarizeVariants-methods html
writeVcf-methods html
** building package indices
** installing vignettes
** testing if installed package can be loaded from temporary location
** testing if installed package can be loaded from final location
** testing if installed package keeps a record of temporary installation path
* DONE (VariantAnnotation)
Making 'packages.html' ... done
VariantAnnotation.Rcheck/tests/VariantAnnotation_unit_tests.Rout
R Under development (unstable) (2021-11-21 r81221) -- "Unsuffered Consequences"
Copyright (C) 2021 The R Foundation for Statistical Computing
Platform: x86_64-w64-mingw32/x64 (64-bit)
R is free software and comes with ABSOLUTELY NO WARRANTY.
You are welcome to redistribute it under certain conditions.
Type 'license()' or 'licence()' for distribution details.
R is a collaborative project with many contributors.
Type 'contributors()' for more information and
'citation()' on how to cite R or R packages in publications.
Type 'demo()' for some demos, 'help()' for on-line help, or
'help.start()' for an HTML browser interface to help.
Type 'q()' to quit R.
> require("VariantAnnotation") || stop("unable to load VariantAnnotation package")
Loading required package: VariantAnnotation
Loading required package: BiocGenerics
Attaching package: 'BiocGenerics'
The following objects are masked from 'package:stats':
IQR, mad, sd, var, xtabs
The following objects are masked from 'package:base':
Filter, Find, Map, Position, Reduce, anyDuplicated, append,
as.data.frame, basename, cbind, colnames, dirname, do.call,
duplicated, eval, evalq, get, grep, grepl, intersect, is.unsorted,
lapply, mapply, match, mget, order, paste, pmax, pmax.int, pmin,
pmin.int, rank, rbind, rownames, sapply, setdiff, sort, table,
tapply, union, unique, unsplit, which.max, which.min
Loading required package: MatrixGenerics
Loading required package: matrixStats
Attaching package: 'MatrixGenerics'
The following objects are masked from 'package:matrixStats':
colAlls, colAnyNAs, colAnys, colAvgsPerRowSet, colCollapse,
colCounts, colCummaxs, colCummins, colCumprods, colCumsums,
colDiffs, colIQRDiffs, colIQRs, colLogSumExps, colMadDiffs,
colMads, colMaxs, colMeans2, colMedians, colMins, colOrderStats,
colProds, colQuantiles, colRanges, colRanks, colSdDiffs, colSds,
colSums2, colTabulates, colVarDiffs, colVars, colWeightedMads,
colWeightedMeans, colWeightedMedians, colWeightedSds,
colWeightedVars, rowAlls, rowAnyNAs, rowAnys, rowAvgsPerColSet,
rowCollapse, rowCounts, rowCummaxs, rowCummins, rowCumprods,
rowCumsums, rowDiffs, rowIQRDiffs, rowIQRs, rowLogSumExps,
rowMadDiffs, rowMads, rowMaxs, rowMeans2, rowMedians, rowMins,
rowOrderStats, rowProds, rowQuantiles, rowRanges, rowRanks,
rowSdDiffs, rowSds, rowSums2, rowTabulates, rowVarDiffs, rowVars,
rowWeightedMads, rowWeightedMeans, rowWeightedMedians,
rowWeightedSds, rowWeightedVars
Loading required package: GenomeInfoDb
Loading required package: S4Vectors
Loading required package: stats4
Attaching package: 'S4Vectors'
The following objects are masked from 'package:base':
I, expand.grid, unname
Loading required package: IRanges
Attaching package: 'IRanges'
The following object is masked from 'package:grDevices':
windows
Loading required package: GenomicRanges
Loading required package: SummarizedExperiment
Loading required package: Biobase
Welcome to Bioconductor
Vignettes contain introductory material; view with
'browseVignettes()'. To cite Bioconductor, see
'citation("Biobase")', and for packages 'citation("pkgname")'.
Attaching package: 'Biobase'
The following object is masked from 'package:MatrixGenerics':
rowMedians
The following objects are masked from 'package:matrixStats':
anyMissing, rowMedians
Loading required package: Rsamtools
Loading required package: Biostrings
Loading required package: XVector
Attaching package: 'Biostrings'
The following object is masked from 'package:base':
strsplit
Attaching package: 'VariantAnnotation'
The following object is masked from 'package:base':
tabulate
[1] TRUE
> VariantAnnotation:::.test()
Loading required package: RSQLite
starting prefilter
prefiltering 10376 records
prefiltered to D:\biocbuild\bbs-3.15-bioc\tmpdir\RtmpYf6cXC\file1f39036ba1806
compressing and indexing 'D:\biocbuild\bbs-3.15-bioc\tmpdir\RtmpYf6cXC\file1f39036ba1806'
starting filter
filtering 10376 records
completed filtering
compressing and indexing 'D:\biocbuild\bbs-3.15-bioc\tmpdir\RtmpYf6cXC\file1f39076914ad5'
Loading required package: survival
Loading required package: Matrix
Attaching package: 'Matrix'
The following object is masked from 'package:VariantAnnotation':
expand
The following object is masked from 'package:S4Vectors':
expand
[W::bcf_hdr_check_sanity] GL should be declared as Number=G
non-single nucleotide variations are set to NA
non-single nucleotide variations are set to NA
non-single nucleotide variations are set to NA
non-single nucleotide variations are set to NA
non-single nucleotide variations are set to NA
non-single nucleotide variations are set to NA
Loading required package: GenomicFeatures
Loading required package: AnnotationDbi
'select()' returned 1:1 mapping between keys and columns
Loading required package: BSgenome
Loading required package: rtracklayer
'select()' returned many:1 mapping between keys and columns
RUNIT TEST PROTOCOL -- Thu Mar 17 20:40:36 2022
***********************************************
Number of test functions: 100
Number of errors: 0
Number of failures: 0
1 Test Suite :
VariantAnnotation RUnit Tests - 100 test functions, 0 errors, 0 failures
Number of test functions: 100
Number of errors: 0
Number of failures: 0
[W::bcf_hdr_check_sanity] PL should be declared as Number=G
Warning messages:
1: info fields with no header: noMatch
2: In .bcfHeaderAsSimpleList(header) :
duplicate keys in header will be forced to unique rownames
3: In DataFrame(..., check.names = FALSE) : NAs introduced by coercion
4: In valid.GenomicRanges.seqinfo(x, suggest.trim = TRUE) :
GRanges object contains 7 out-of-bound ranges located on sequence
70477. Note that ranges located on a sequence whose length is unknown
(NA) or on a circular sequence are not considered out-of-bound (use
seqlengths() and isCircular() to get the lengths and circularity flags
of the underlying sequences). You can use trim() to trim these ranges.
See ?`trim,GenomicRanges-method` for more information.
5: In valid.GenomicRanges.seqinfo(x, suggest.trim = TRUE) :
GRanges object contains 6 out-of-bound ranges located on sequence
70477. Note that ranges located on a sequence whose length is unknown
(NA) or on a circular sequence are not considered out-of-bound (use
seqlengths() and isCircular() to get the lengths and circularity flags
of the underlying sequences). You can use trim() to trim these ranges.
See ?`trim,GenomicRanges-method` for more information.
>
> proc.time()
user system elapsed
74.96 2.56 78.53
VariantAnnotation.Rcheck/VariantAnnotation-Ex.timings
| name | user | system | elapsed | |
| GLtoGP | 0.96 | 0.22 | 1.19 | |
| PROVEANDb-class | 3.47 | 0.25 | 3.72 | |
| PolyPhenDb-class | 0.69 | 0.10 | 0.78 | |
| SIFTDb-class | 0 | 0 | 0 | |
| ScanVcfParam-class | 0.70 | 0.03 | 0.74 | |
| VCF-class | 1.24 | 0.12 | 1.36 | |
| VCFHeader-class | 0.06 | 0.00 | 0.06 | |
| VRanges-class | 0.30 | 0.00 | 0.29 | |
| VRangesList-class | 0.40 | 0.02 | 0.44 | |
| VariantType-class | 0 | 0 | 0 | |
| VcfFile-class | 0.6 | 0.0 | 0.6 | |
| filterVcf-methods | 3.09 | 0.15 | 5.76 | |
| genotypeToSnpMatrix-methods | 0.99 | 0.14 | 1.13 | |
| getTranscriptSeqs-methods | 0 | 0 | 0 | |
| indexVcf-method | 0 | 0 | 0 | |
| isSNV-methods | 0.89 | 0.00 | 0.89 | |
| locateVariants-methods | 16.41 | 1.07 | 17.47 | |
| predictCoding-methods | 13.39 | 1.04 | 14.44 | |
| probabilityToSnpMatrix | 0 | 0 | 0 | |
| readVcf-methods | 2.36 | 0.02 | 2.37 | |
| scanVcf-methods | 0.17 | 0.00 | 0.18 | |
| seqinfo-method | 0.06 | 0.00 | 0.06 | |
| snpSummary | 0.21 | 0.00 | 0.20 | |
| summarizeVariants-methods | 4.31 | 0.08 | 4.39 | |
| writeVcf-methods | 1.19 | 0.01 | 1.22 | |