| Back to Multiple platform build/check report for BioC 3.15 |
|
This page was generated on 2022-10-19 13:20:06 -0400 (Wed, 19 Oct 2022).
| Hostname | OS | Arch (*) | R version | Installed pkgs |
|---|---|---|---|---|
| nebbiolo1 | Linux (Ubuntu 20.04.5 LTS) | x86_64 | 4.2.1 (2022-06-23) -- "Funny-Looking Kid" | 4386 |
| palomino3 | Windows Server 2022 Datacenter | x64 | 4.2.1 (2022-06-23 ucrt) -- "Funny-Looking Kid" | 4138 |
| merida1 | macOS 10.14.6 Mojave | x86_64 | 4.2.1 (2022-06-23) -- "Funny-Looking Kid" | 4205 |
| Click on any hostname to see more info about the system (e.g. compilers) (*) as reported by 'uname -p', except on Windows and Mac OS X | ||||
|
To the developers/maintainers of the clustifyr package: - Please allow up to 24 hours (and sometimes 48 hours) for your latest push to git@git.bioconductor.org:packages/clustifyr.git to reflect on this report. See How and When does the builder pull? When will my changes propagate? for more information. - Make sure to use the following settings in order to reproduce any error or warning you see on this page. |
| Package 352/2140 | Hostname | OS / Arch | INSTALL | BUILD | CHECK | BUILD BIN | ||||||||
| clustifyr 1.8.0 (landing page) Kent Riemondy
| nebbiolo1 | Linux (Ubuntu 20.04.5 LTS) / x86_64 | OK | OK | OK | |||||||||
| palomino3 | Windows Server 2022 Datacenter / x64 | OK | OK | OK | OK | |||||||||
| merida1 | macOS 10.14.6 Mojave / x86_64 | OK | OK | OK | OK | |||||||||
| Package: clustifyr |
| Version: 1.8.0 |
| Command: /home/biocbuild/bbs-3.15-bioc/R/bin/R CMD check --install=check:clustifyr.install-out.txt --library=/home/biocbuild/bbs-3.15-bioc/R/library --no-vignettes --timings clustifyr_1.8.0.tar.gz |
| StartedAt: 2022-10-18 19:05:37 -0400 (Tue, 18 Oct 2022) |
| EndedAt: 2022-10-18 19:10:45 -0400 (Tue, 18 Oct 2022) |
| EllapsedTime: 307.7 seconds |
| RetCode: 0 |
| Status: OK |
| CheckDir: clustifyr.Rcheck |
| Warnings: 0 |
############################################################################## ############################################################################## ### ### Running command: ### ### /home/biocbuild/bbs-3.15-bioc/R/bin/R CMD check --install=check:clustifyr.install-out.txt --library=/home/biocbuild/bbs-3.15-bioc/R/library --no-vignettes --timings clustifyr_1.8.0.tar.gz ### ############################################################################## ############################################################################## * using log directory ‘/home/biocbuild/bbs-3.15-bioc/meat/clustifyr.Rcheck’ * using R version 4.2.1 (2022-06-23) * using platform: x86_64-pc-linux-gnu (64-bit) * using session charset: UTF-8 * using option ‘--no-vignettes’ * checking for file ‘clustifyr/DESCRIPTION’ ... OK * this is package ‘clustifyr’ version ‘1.8.0’ * package encoding: UTF-8 * checking package namespace information ... OK * checking package dependencies ... OK * checking if this is a source package ... OK * checking if there is a namespace ... OK * checking for hidden files and directories ... OK * checking for portable file names ... OK * checking for sufficient/correct file permissions ... OK * checking whether package ‘clustifyr’ can be installed ... OK * checking installed package size ... OK * checking package directory ... OK * checking ‘build’ directory ... OK * checking DESCRIPTION meta-information ... OK * checking top-level files ... OK * checking for left-over files ... OK * checking index information ... OK * checking package subdirectories ... OK * checking R files for non-ASCII characters ... OK * checking R files for syntax errors ... OK * checking whether the package can be loaded ... OK * checking whether the package can be loaded with stated dependencies ... OK * checking whether the package can be unloaded cleanly ... OK * checking whether the namespace can be loaded with stated dependencies ... OK * checking whether the namespace can be unloaded cleanly ... OK * checking dependencies in R code ... OK * checking S3 generic/method consistency ... OK * checking replacement functions ... OK * checking foreign function calls ... OK * checking R code for possible problems ... NOTE assess_rank_bias : <anonymous>: no visible binding for '<<-' assignment to ‘res3’ assess_rank_bias: no visible binding for global variable ‘res3’ average_clusters : <anonymous>: no visible binding for global variable ‘pbmc_matrix_small’ Undefined global functions or variables: pbmc_matrix_small res3 * checking Rd files ... OK * checking Rd metadata ... OK * checking Rd cross-references ... OK * checking for missing documentation entries ... OK * checking for code/documentation mismatches ... OK * checking Rd \usage sections ... OK * checking Rd contents ... OK * checking for unstated dependencies in examples ... OK * checking contents of ‘data’ directory ... OK * checking data for non-ASCII characters ... OK * checking LazyData ... OK * checking data for ASCII and uncompressed saves ... OK * checking files in ‘vignettes’ ... OK * checking examples ... OK * checking for unstated dependencies in ‘tests’ ... OK * checking tests ... Running ‘testthat.R’ OK * checking for unstated dependencies in vignettes ... OK * checking package vignettes in ‘inst/doc’ ... OK * checking running R code from vignettes ... SKIPPED * checking re-building of vignette outputs ... SKIPPED * checking PDF version of manual ... OK * DONE Status: 1 NOTE See ‘/home/biocbuild/bbs-3.15-bioc/meat/clustifyr.Rcheck/00check.log’ for details.
clustifyr.Rcheck/00install.out
############################################################################## ############################################################################## ### ### Running command: ### ### /home/biocbuild/bbs-3.15-bioc/R/bin/R CMD INSTALL clustifyr ### ############################################################################## ############################################################################## * installing to library ‘/home/biocbuild/bbs-3.15-bioc/R/library’ * installing *source* package ‘clustifyr’ ... ** using staged installation ** R ** data *** moving datasets to lazyload DB ** inst ** byte-compile and prepare package for lazy loading ** help *** installing help indices *** copying figures ** building package indices ** installing vignettes ** testing if installed package can be loaded from temporary location ** testing if installed package can be loaded from final location ** testing if installed package keeps a record of temporary installation path * DONE (clustifyr)
clustifyr.Rcheck/tests/testthat.Rout
R version 4.2.1 (2022-06-23) -- "Funny-Looking Kid"
Copyright (C) 2022 The R Foundation for Statistical Computing
Platform: x86_64-pc-linux-gnu (64-bit)
R is free software and comes with ABSOLUTELY NO WARRANTY.
You are welcome to redistribute it under certain conditions.
Type 'license()' or 'licence()' for distribution details.
R is a collaborative project with many contributors.
Type 'contributors()' for more information and
'citation()' on how to cite R or R packages in publications.
Type 'demo()' for some demos, 'help()' for on-line help, or
'help.start()' for an HTML browser interface to help.
Type 'q()' to quit R.
> library(testthat)
> library(clustifyr)
>
> test_check("clustifyr")
[ FAIL 0 | WARN 0 | SKIP 0 | PASS 175 ]
>
> proc.time()
user system elapsed
117.933 3.651 121.587
clustifyr.Rcheck/clustifyr-Ex.timings
| name | user | system | elapsed | |
| append_genes | 0.650 | 0.028 | 0.679 | |
| assess_rank_bias | 0.001 | 0.000 | 0.000 | |
| average_clusters | 0.066 | 0.016 | 0.082 | |
| binarize_expr | 0.041 | 0.004 | 0.044 | |
| build_atlas | 0.072 | 0.004 | 0.077 | |
| calc_distance | 0.004 | 0.000 | 0.004 | |
| calculate_pathway_gsea | 2.645 | 0.028 | 2.674 | |
| call_consensus | 0.311 | 0.004 | 0.316 | |
| call_to_metadata | 0.178 | 0.228 | 0.406 | |
| check_raw_counts | 1.415 | 0.076 | 1.491 | |
| clustify | 0.167 | 0.032 | 0.199 | |
| clustify_lists | 0.067 | 0.008 | 0.074 | |
| clustify_nudge | 0.553 | 0.028 | 0.581 | |
| clustifyr_methods | 0.001 | 0.000 | 0.000 | |
| collapse_to_cluster | 1.133 | 0.104 | 1.237 | |
| compare_lists | 0.126 | 0.016 | 0.143 | |
| cor_to_call | 0.064 | 0.000 | 0.065 | |
| cor_to_call_rank | 0.069 | 0.000 | 0.069 | |
| cor_to_call_topn | 0.069 | 0.000 | 0.069 | |
| downsample_matrix | 0.1 | 0.0 | 0.1 | |
| feature_select_PCA | 0.007 | 0.004 | 0.010 | |
| file_marker_parse | 0.002 | 0.000 | 0.002 | |
| find_rank_bias | 0.038 | 0.000 | 0.038 | |
| gene_pct_markerm | 0.351 | 0.000 | 0.352 | |
| get_ucsc_reference | 0 | 0 | 0 | |
| get_vargenes | 0.000 | 0.001 | 0.001 | |
| gmt_to_list | 0.312 | 0.010 | 0.338 | |
| insert_meta_object | 0 | 0 | 0 | |
| make_comb_ref | 0.009 | 0.003 | 0.012 | |
| marker_select | 0.022 | 0.000 | 0.021 | |
| matrixize_markers | 0.027 | 0.012 | 0.039 | |
| object_data | 0.027 | 0.016 | 0.043 | |
| object_ref | 0.006 | 0.004 | 0.009 | |
| overcluster | 1.595 | 0.128 | 1.723 | |
| overcluster_test | 0.998 | 0.044 | 1.042 | |
| parse_loc_object | 0.000 | 0.000 | 0.001 | |
| plot_best_call | 0.507 | 0.026 | 0.533 | |
| plot_cor | 0.510 | 0.012 | 0.522 | |
| plot_cor_heatmap | 0.890 | 0.012 | 0.902 | |
| plot_dims | 0.254 | 0.004 | 0.257 | |
| plot_gene | 0.469 | 0.004 | 0.473 | |
| plot_pathway_gsea | 4.181 | 0.032 | 4.217 | |
| plot_rank_bias | 0 | 0 | 0 | |
| pos_neg_marker | 0.008 | 0.000 | 0.008 | |
| pos_neg_select | 0.069 | 0.004 | 0.073 | |
| query_rank_bias | 0.045 | 0.000 | 0.045 | |
| ref_feature_select | 0.040 | 0.003 | 0.043 | |
| ref_marker_select | 0.169 | 0.004 | 0.173 | |
| reverse_marker_matrix | 0.007 | 0.000 | 0.007 | |
| run_clustifyr_app | 0.001 | 0.000 | 0.000 | |
| seurat_meta | 0.001 | 0.000 | 0.001 | |
| seurat_ref | 0.003 | 0.000 | 0.003 | |
| write_meta | 0.087 | 0.000 | 0.087 | |