| Back to Multiple platform build/check report for BioC 3.15 |
|
This page was generated on 2022-03-18 11:08:16 -0400 (Fri, 18 Mar 2022).
| Hostname | OS | Arch (*) | R version | Installed pkgs |
|---|---|---|---|---|
| nebbiolo1 | Linux (Ubuntu 20.04.4 LTS) | x86_64 | R Under development (unstable) (2022-02-17 r81757) -- "Unsuffered Consequences" | 4334 |
| riesling1 | Windows Server 2019 Standard | x64 | R Under development (unstable) (2021-11-21 r81221) -- "Unsuffered Consequences" | 4097 |
| palomino3 | Windows Server 2022 Datacenter | x64 | R Under development (unstable) (2022-02-17 r81757 ucrt) -- "Unsuffered Consequences" | 4083 |
| merida1 | macOS 10.14.6 Mojave | x86_64 | R Under development (unstable) (2022-03-02 r81842) -- "Unsuffered Consequences" | 4134 |
| Click on any hostname to see more info about the system (e.g. compilers) (*) as reported by 'uname -p', except on Windows and Mac OS X | ||||
|
To the developers/maintainers of the pcaMethods package: - Please allow up to 24 hours (and sometimes 48 hours) for your latest push to git@git.bioconductor.org:packages/pcaMethods.git to reflect on this report. See How and When does the builder pull? When will my changes propagate? here for more information. - Make sure to use the following settings in order to reproduce any error or warning you see on this page. |
| Package 1392/2090 | Hostname | OS / Arch | INSTALL | BUILD | CHECK | BUILD BIN | ||||||||
| pcaMethods 1.87.0 (landing page) Henning Redestig
| nebbiolo1 | Linux (Ubuntu 20.04.4 LTS) / x86_64 | OK | OK | OK | |||||||||
| riesling1 | Windows Server 2019 Standard / x64 | OK | OK | OK | OK | |||||||||
| palomino3 | Windows Server 2022 Datacenter / x64 | OK | OK | OK | OK | |||||||||
| merida1 | macOS 10.14.6 Mojave / x86_64 | OK | OK | OK | OK | |||||||||
| Package: pcaMethods |
| Version: 1.87.0 |
| Command: rm -rf pcaMethods.buildbin-libdir && mkdir pcaMethods.buildbin-libdir && D:\biocbuild\bbs-3.15-bioc\R\bin\R.exe CMD INSTALL --build --library=pcaMethods.buildbin-libdir pcaMethods_1.87.0.tar.gz |
| StartedAt: 2022-03-17 21:27:32 -0400 (Thu, 17 Mar 2022) |
| EndedAt: 2022-03-17 21:28:56 -0400 (Thu, 17 Mar 2022) |
| EllapsedTime: 83.9 seconds |
| RetCode: 0 |
| Status: OK |
| PackageFile: pcaMethods_1.87.0.zip |
| PackageFileSize: 1.572 MiB |
##############################################################################
##############################################################################
###
### Running command:
###
### rm -rf pcaMethods.buildbin-libdir && mkdir pcaMethods.buildbin-libdir && D:\biocbuild\bbs-3.15-bioc\R\bin\R.exe CMD INSTALL --build --library=pcaMethods.buildbin-libdir pcaMethods_1.87.0.tar.gz
###
##############################################################################
##############################################################################
* installing *source* package 'pcaMethods' ...
** using staged installation
** libs
"C:/rtools40/mingw64/bin/"g++ -std=gnu++11 -I"D:/biocbuild/bbs-3.15-bioc/R/include" -DNDEBUG -I'D:/biocbuild/bbs-3.15-bioc/R/library/Rcpp/include' -I"C:/extsoft/include" -O2 -Wall -mfpmath=sse -msse2 -mstackrealign -fno-reorder-blocks-and-partition -c RcppExports.cpp -o RcppExports.o
"C:/rtools40/mingw64/bin/"g++ -std=gnu++11 -I"D:/biocbuild/bbs-3.15-bioc/R/include" -DNDEBUG -I'D:/biocbuild/bbs-3.15-bioc/R/library/Rcpp/include' -I"C:/extsoft/include" -O2 -Wall -mfpmath=sse -msse2 -mstackrealign -fno-reorder-blocks-and-partition -c nipals.cpp -o nipals.o
C:/rtools40/mingw64/bin/g++ -std=gnu++11 -shared -s -static-libgcc -o pcaMethods.dll tmp.def RcppExports.o nipals.o -LC:/extsoft/lib/x64 -LC:/extsoft/lib -LD:/biocbuild/bbs-3.15-bioc/R/bin/x64 -lR
installing to D:/biocbuild/bbs-3.15-bioc/meat/pcaMethods.buildbin-libdir/00LOCK-pcaMethods/00new/pcaMethods/libs/x64
** R
** data
** inst
** byte-compile and prepare package for lazy loading
Creating a new generic function for 'loadings' in package 'pcaMethods'
** help
*** installing help indices
converting help for package 'pcaMethods'
finding HTML links ... done
BPCA_dostep html
BPCA_initmodel html
DModX-pcaRes-method html
Q2 html
R2VX-pcaRes-method html
R2cum-pcaRes-method html
RnipalsPca html
asExprSet html
biplot-methods html
bpca html
center-pcaRes-method html
centered-pcaRes-method html
checkData html
completeObs-nniRes-method html
cvseg html
cvstat-pcaRes-method html
deletediagonals html
derrorHierarchic html
dim.pcaRes html
errorHierarchic html
fitted-methods html
forkNlpcaNet html
getHierarchicIdx html
helix html
kEstimate html
kEstimateFast html
leverage-pcaRes-method html
lineSearch html
linr html
listPcaMethods html
llsImpute html
loadings-ANY-method html
loadings-pcaRes-method html
loadings.pcaRes html
metaboliteData html
metaboliteDataComplete html
method-pcaRes-method html
nObs-pcaRes-method html
nP-pcaRes-method html
nPcs-pcaRes-method html
nVar-pcaRes-method html
nipalsPca html
nlpca html
nmissing-pcaRes-method html
nni html
nniRes html
optiAlgCgd html
orth html
pca html
pcaMethods-deprecated html
pcaMethods html
pcaNet html
pcaRes html
plot.pcaRes html
plotPcs html
ppca html
predict-methods html
prep html
rediduals-methods html
repmat html
robustPca html
robustSvd html
sDev-pcaRes-method html
scaled-pcaRes-method html
scl-pcaRes-method html
scores-pcaRes-method html
scores.pcaRes html
show-methods html
showNniRes html
simpleEllipse html
slplot-pcaRes-method html
sortFeatures html
summary html
svdImpute html
svdPca html
tempFixNas html
vector2matrices-matrix-method html
vector2matrices-nlpcaNet-method html
wasna-pcaRes-method html
weightsAccount html
** building package indices
** installing vignettes
** testing if installed package can be loaded from temporary location
** testing if installed package can be loaded from final location
** testing if installed package keeps a record of temporary installation path
* MD5 sums
packaged installation of 'pcaMethods' as pcaMethods_1.87.0.zip
* DONE (pcaMethods)