| Back to Workflows build report for BioC 3.15 |
This page was generated on 2022-10-18 14:00:09 -0400 (Tue, 18 Oct 2022).
| Hostname | OS | Arch (*) | R version | Installed pkgs |
|---|---|---|---|---|
| nebbiolo1 | Linux (Ubuntu 20.04.5 LTS) | x86_64 | 4.2.1 (2022-06-23) -- "Funny-Looking Kid" | 4386 |
| merida1 | macOS 10.14.6 Mojave | x86_64 | 4.2.1 (2022-06-23) -- "Funny-Looking Kid" | 4205 |
| Click on any hostname to see more info about the system (e.g. compilers) (*) as reported by 'uname -p', except on Windows and Mac OS X | ||||
|
To the developers/maintainers of the BiocMetaWorkflow package: Make sure to use the following settings in order to reproduce any error or warning you see on this page. |
| Package 3/29 | Hostname | OS / Arch | INSTALL | BUILD | ||||||||
| BiocMetaWorkflow 1.18.0 (landing page) Mike Smith
| nebbiolo1 | Linux (Ubuntu 20.04.5 LTS) / x86_64 | OK | OK | ||||||||
| merida1 | macOS 10.14.6 Mojave / x86_64 | OK | OK | |||||||||
| Package: BiocMetaWorkflow |
| Version: 1.18.0 |
| Command: /home/biocbuild/bbs-3.15-bioc/R/bin/R CMD build --keep-empty-dirs --no-resave-data BiocMetaWorkflow |
| StartedAt: 2022-10-18 08:02:13 -0400 (Tue, 18 Oct 2022) |
| EndedAt: 2022-10-18 08:02:19 -0400 (Tue, 18 Oct 2022) |
| EllapsedTime: 6.0 seconds |
| RetCode: 0 |
| Status: OK |
| PackageFile: BiocMetaWorkflow_1.18.0.tar.gz |
| PackageFileSize: 401.1 KiB |
############################################################################## ############################################################################## ### ### Running command: ### ### /home/biocbuild/bbs-3.15-bioc/R/bin/R CMD build --keep-empty-dirs --no-resave-data BiocMetaWorkflow ### ############################################################################## ############################################################################## * checking for file ‘BiocMetaWorkflow/DESCRIPTION’ ... OK * preparing ‘BiocMetaWorkflow’: * checking DESCRIPTION meta-information ... OK * installing the package to build vignettes * creating vignettes ... OK * checking for LF line-endings in source and make files and shell scripts * checking for empty or unneeded directories * creating default NAMESPACE file * building ‘BiocMetaWorkflow_1.18.0.tar.gz’