| Back to Build/check report for BioC 3.16 experimental data |
|
This page was generated on 2023-04-11 14:50:27 -0400 (Tue, 11 Apr 2023).
| Hostname | OS | Arch (*) | R version | Installed pkgs |
|---|---|---|---|---|
| nebbiolo2 | Linux (Ubuntu 20.04.5 LTS) | x86_64 | 4.2.3 (2023-03-15) -- "Shortstop Beagle" | 4502 |
| Click on any hostname to see more info about the system (e.g. compilers) (*) as reported by 'uname -p', except on Windows and Mac OS X | ||||
|
To the developers/maintainers of the sampleClassifierData package: Make sure to use the following settings in order to reproduce any error or warning you see on this page. |
| Package 338/416 | Hostname | OS / Arch | INSTALL | BUILD | CHECK | ||||||||
| sampleClassifierData 1.22.0 (landing page) Khadija El Amrani
| nebbiolo2 | Linux (Ubuntu 20.04.5 LTS) / x86_64 | OK | OK | OK | ||||||||
| Package: sampleClassifierData |
| Version: 1.22.0 |
| Command: /home/biocbuild/bbs-3.16-bioc/R/bin/R CMD build --keep-empty-dirs --no-resave-data sampleClassifierData |
| StartedAt: 2023-04-11 10:51:43 -0400 (Tue, 11 Apr 2023) |
| EndedAt: 2023-04-11 10:52:01 -0400 (Tue, 11 Apr 2023) |
| EllapsedTime: 18.8 seconds |
| RetCode: 0 |
| Status: OK |
| PackageFile: sampleClassifierData_1.22.0.tar.gz |
| PackageFileSize: 15.5 MiB |
##############################################################################
##############################################################################
###
### Running command:
###
### /home/biocbuild/bbs-3.16-bioc/R/bin/R CMD build --keep-empty-dirs --no-resave-data sampleClassifierData
###
##############################################################################
##############################################################################
* checking for file ‘sampleClassifierData/DESCRIPTION’ ... OK
* preparing ‘sampleClassifierData’:
* checking DESCRIPTION meta-information ... OK
* installing the package to process help pages
* saving partial Rd database
* creating vignettes ... OK
* checking for LF line-endings in source and make files and shell scripts
* checking for empty or unneeded directories
* looking to see if a ‘data/datalist’ file should be added
NB: this package now depends on R (>= 3.5.0)
WARNING: Added dependency on R >= 3.5.0 because serialized objects in
serialize/load version 3 cannot be read in older versions of R.
File(s) containing such objects:
‘sampleClassifierData/data/se_micro_refmat.rda’
‘sampleClassifierData/data/se_micro_testmat.rda’
‘sampleClassifierData/data/se_rnaseq_refmat.rda’
‘sampleClassifierData/data/se_rnaseq_testmat.rda’
* building ‘sampleClassifierData_1.22.0.tar.gz’