| Back to Workflows build report for BioC 3.16 | 
This page was generated on 2023-04-11 14:00:08 -0400 (Tue, 11 Apr 2023).
| Hostname | OS | Arch (*) | R version | Installed pkgs | 
|---|---|---|---|---|
| nebbiolo2 | Linux (Ubuntu 20.04.5 LTS) | x86_64 | 4.2.3 (2023-03-15) -- "Shortstop Beagle" | 4502 | 
| palomino4 | Windows Server 2022 Datacenter | x64 | 4.2.3 (2023-03-15 ucrt) -- "Shortstop Beagle" | 4282 | 
| lconway | macOS 12.5.1 Monterey | x86_64 | 4.2.3 (2023-03-15) -- "Shortstop Beagle" | 4310 | 
| Click on any hostname to see more info about the system (e.g. compilers) (*) as reported by 'uname -p', except on Windows and Mac OS X | ||||
| 
To the developers/maintainers of the fluentGenomics package: Make sure to use the following settings in order to reproduce any error or warning you see on this page.  | 
| Package 12/28 | Hostname | OS / Arch | INSTALL | BUILD | ||||||||
| fluentGenomics 1.10.0  (landing page) Stuart Lee 
  | nebbiolo2 | Linux (Ubuntu 20.04.5 LTS) / x86_64 | OK | OK | ||||||||
| palomino4 | Windows Server 2022 Datacenter / x64 | OK | OK | |||||||||
| lconway | macOS 12.5.1 Monterey / x86_64 | OK | OK | |||||||||
| Package: fluentGenomics | 
| Version: 1.10.0 | 
| Command: /home/biocbuild/bbs-3.16-bioc/R/bin/R CMD build --keep-empty-dirs --no-resave-data fluentGenomics | 
| StartedAt: 2023-04-11 11:02:28 -0400 (Tue, 11 Apr 2023) | 
| EndedAt: 2023-04-11 11:05:26 -0400 (Tue, 11 Apr 2023) | 
| EllapsedTime: 178.2 seconds | 
| RetCode: 0 | 
| Status: OK | 
| PackageFile: fluentGenomics_1.10.0.tar.gz | 
| PackageFileSize: 5.39 MiB | 
############################################################################## ############################################################################## ### ### Running command: ### ### /home/biocbuild/bbs-3.16-bioc/R/bin/R CMD build --keep-empty-dirs --no-resave-data fluentGenomics ### ############################################################################## ############################################################################## * checking for file ‘fluentGenomics/DESCRIPTION’ ... OK * preparing ‘fluentGenomics’: * checking DESCRIPTION meta-information ... OK * installing the package to build vignettes * creating vignettes ... OK * checking for LF line-endings in source and make files and shell scripts * checking for empty or unneeded directories * building ‘fluentGenomics_1.10.0.tar.gz’