| Back to Multiple platform build/check report for BioC 3.18: simplified long |
|
This page was generated on 2023-11-29 11:37:29 -0500 (Wed, 29 Nov 2023).
| Hostname | OS | Arch (*) | R version | Installed pkgs |
|---|---|---|---|---|
| nebbiolo2 | Linux (Ubuntu 22.04.2 LTS) | x86_64 | 4.3.2 Patched (2023-11-13 r85521) -- "Eye Holes" | 4685 |
| palomino4 | Windows Server 2022 Datacenter | x64 | 4.3.2 (2023-10-31 ucrt) -- "Eye Holes" | 4420 |
| lconway | macOS 12.7.1 Monterey | x86_64 | 4.3.2 Patched (2023-11-01 r85457) -- "Eye Holes" | 4439 |
| Click on any hostname to see more info about the system (e.g. compilers) (*) as reported by 'uname -p', except on Windows and Mac OS X | ||||
| Package 194/2266 | Hostname | OS / Arch | INSTALL | BUILD | CHECK | BUILD BIN | ||||||||
| BiocWorkflowTools 1.28.0 (landing page) Mike Smith
| nebbiolo2 | Linux (Ubuntu 22.04.2 LTS) / x86_64 | OK | OK | OK | |||||||||
| palomino4 | Windows Server 2022 Datacenter / x64 | OK | OK | OK | OK | |||||||||
| lconway | macOS 12.7.1 Monterey / x86_64 | OK | OK | OK | OK | |||||||||
| kjohnson1 | macOS 13.6.1 Ventura / arm64 | see weekly results here | ||||||||||||
|
To the developers/maintainers of the BiocWorkflowTools package: - Allow up to 24 hours (and sometimes 48 hours) for your latest push to git@git.bioconductor.org:packages/BiocWorkflowTools.git to reflect on this report. See Troubleshooting Build Report for more information. - Use the following Renviron settings to reproduce errors and warnings. - If 'R CMD check' started to fail recently on the Linux builder(s) over a missing dependency, add the missing dependency to 'Suggests:' in your DESCRIPTION file. See Renviron.bioc for more information. |
| Package: BiocWorkflowTools |
| Version: 1.28.0 |
| Command: rm -rf BiocWorkflowTools.buildbin-libdir && mkdir BiocWorkflowTools.buildbin-libdir && /Users/biocbuild/BBS/utils/build-universal.sh BiocWorkflowTools_1.28.0.tar.gz /Library/Frameworks/R.framework/Resources/bin/R BiocWorkflowTools.buildbin-libdir |
| StartedAt: 2023-11-29 00:07:43 -0500 (Wed, 29 Nov 2023) |
| EndedAt: 2023-11-29 00:07:51 -0500 (Wed, 29 Nov 2023) |
| EllapsedTime: 7.9 seconds |
| RetCode: 0 |
| Status: OK |
| PackageFile: BiocWorkflowTools_1.28.0.tgz |
| PackageFileSize: 688.1 KiB |
############################################################################## ############################################################################## ### ### Running command: ### ### rm -rf BiocWorkflowTools.buildbin-libdir && mkdir BiocWorkflowTools.buildbin-libdir && /Users/biocbuild/BBS/utils/build-universal.sh BiocWorkflowTools_1.28.0.tar.gz /Library/Frameworks/R.framework/Resources/bin/R BiocWorkflowTools.buildbin-libdir ### ############################################################################## ############################################################################## >>>>>>> >>>>>>> INSTALLATION WITH 'R CMD INSTALL --preclean --no-multiarch --library=BiocWorkflowTools.buildbin-libdir BiocWorkflowTools_1.28.0.tar.gz' >>>>>>> * installing *source* package ‘BiocWorkflowTools’ ... ** using staged installation ** R ** inst ** byte-compile and prepare package for lazy loading ** help *** installing help indices ** building package indices ** installing vignettes ** testing if installed package can be loaded from temporary location ** testing if installed package can be loaded from final location ** testing if installed package keeps a record of temporary installation path * DONE (BiocWorkflowTools)