| Back to Multiple platform build/check report for BioC 3.18: simplified long |
|
This page was generated on 2024-04-17 11:35:49 -0400 (Wed, 17 Apr 2024).
| Hostname | OS | Arch (*) | R version | Installed pkgs |
|---|---|---|---|---|
| nebbiolo2 | Linux (Ubuntu 22.04.3 LTS) | x86_64 | 4.3.3 (2024-02-29) -- "Angel Food Cake" | 4676 |
| palomino4 | Windows Server 2022 Datacenter | x64 | 4.3.3 (2024-02-29 ucrt) -- "Angel Food Cake" | 4414 |
| merida1 | macOS 12.7.1 Monterey | x86_64 | 4.3.3 (2024-02-29) -- "Angel Food Cake" | 4437 |
| Click on any hostname to see more info about the system (e.g. compilers) (*) as reported by 'uname -p', except on Windows and Mac OS X | ||||
| Package 270/2266 | Hostname | OS / Arch | INSTALL | BUILD | CHECK | BUILD BIN | ||||||||
| CardinalIO 1.0.0 (landing page) Kylie Ariel Bemis
| nebbiolo2 | Linux (Ubuntu 22.04.3 LTS) / x86_64 | OK | OK | ERROR | |||||||||
| palomino4 | Windows Server 2022 Datacenter / x64 | OK | OK | OK | OK | |||||||||
| merida1 | macOS 12.7.1 Monterey / x86_64 | OK | OK | OK | OK | |||||||||
| kjohnson1 | macOS 13.6.1 Ventura / arm64 | see weekly results here | ||||||||||||
|
To the developers/maintainers of the CardinalIO package: - Allow up to 24 hours (and sometimes 48 hours) for your latest push to git@git.bioconductor.org:packages/CardinalIO.git to reflect on this report. See Troubleshooting Build Report for more information. - Use the following Renviron settings to reproduce errors and warnings. - If 'R CMD check' started to fail recently on the Linux builder(s) over a missing dependency, add the missing dependency to 'Suggests:' in your DESCRIPTION file. See Renviron.bioc for more information. |
| Package: CardinalIO |
| Version: 1.0.0 |
| Command: /home/biocbuild/bbs-3.18-bioc/R/bin/R CMD check --install=check:CardinalIO.install-out.txt --library=/home/biocbuild/bbs-3.18-bioc/R/site-library --timings CardinalIO_1.0.0.tar.gz |
| StartedAt: 2024-04-15 20:53:00 -0400 (Mon, 15 Apr 2024) |
| EndedAt: 2024-04-15 20:54:27 -0400 (Mon, 15 Apr 2024) |
| EllapsedTime: 87.3 seconds |
| RetCode: 1 |
| Status: ERROR |
| CheckDir: CardinalIO.Rcheck |
| Warnings: NA |
##############################################################################
##############################################################################
###
### Running command:
###
### /home/biocbuild/bbs-3.18-bioc/R/bin/R CMD check --install=check:CardinalIO.install-out.txt --library=/home/biocbuild/bbs-3.18-bioc/R/site-library --timings CardinalIO_1.0.0.tar.gz
###
##############################################################################
##############################################################################
* using log directory ‘/home/biocbuild/bbs-3.18-bioc/meat/CardinalIO.Rcheck’
* using R version 4.3.3 (2024-02-29)
* using platform: x86_64-pc-linux-gnu (64-bit)
* R was compiled by
gcc (Ubuntu 11.4.0-1ubuntu1~22.04) 11.4.0
GNU Fortran (Ubuntu 11.4.0-1ubuntu1~22.04) 11.4.0
* running under: Ubuntu 22.04.4 LTS
* using session charset: UTF-8
* checking for file ‘CardinalIO/DESCRIPTION’ ... OK
* checking extension type ... Package
* this is package ‘CardinalIO’ version ‘1.0.0’
* checking package namespace information ... OK
* checking package dependencies ... OK
* checking if this is a source package ... OK
* checking if there is a namespace ... OK
* checking for hidden files and directories ... OK
* checking for portable file names ... OK
* checking for sufficient/correct file permissions ... OK
* checking whether package ‘CardinalIO’ can be installed ... OK
* used C++ compiler: ‘g++ (Ubuntu 11.4.0-1ubuntu1~22.04) 11.4.0’
* checking installed package size ... OK
* checking package directory ... OK
* checking ‘build’ directory ... OK
* checking DESCRIPTION meta-information ... OK
* checking top-level files ... OK
* checking for left-over files ... OK
* checking index information ... OK
* checking package subdirectories ... OK
* checking R files for non-ASCII characters ... OK
* checking R files for syntax errors ... OK
* checking whether the package can be loaded ... OK
* checking whether the package can be loaded with stated dependencies ... OK
* checking whether the package can be unloaded cleanly ... OK
* checking whether the namespace can be loaded with stated dependencies ... OK
* checking whether the namespace can be unloaded cleanly ... OK
* checking loading without being on the library search path ... OK
* checking dependencies in R code ... OK
* checking S3 generic/method consistency ... OK
* checking replacement functions ... OK
* checking foreign function calls ... OK
* checking R code for possible problems ... OK
* checking Rd files ... OK
* checking Rd metadata ... OK
* checking Rd cross-references ... OK
* checking for missing documentation entries ... OK
* checking for code/documentation mismatches ... OK
* checking Rd \usage sections ... OK
* checking Rd contents ... OK
* checking for unstated dependencies in examples ... OK
* checking line endings in C/C++/Fortran sources/headers ... OK
* checking compiled code ... NOTE
Note: information on .o files is not available
* checking files in ‘vignettes’ ... OK
* checking examples ... OK
* checking for unstated dependencies in ‘tests’ ... OK
* checking tests ...
Running ‘testthat.R’
OK
* checking for unstated dependencies in vignettes ... OK
* checking package vignettes in ‘inst/doc’ ... OK
* checking running R code from vignettes ...
‘CardinalIO-guide.Rmd’ using ‘UTF-8’... failed
ERROR
Errors in running code in vignettes:
when running code in ‘CardinalIO-guide.Rmd’
...
$scanPattern(0):
$scanType(0):
$lineScanDirection(0):
$pixelSize(0):
> e$spectrumType <- "spectrum"
When sourcing ‘CardinalIO-guide.R’:
Error: invalid class “ImzMeta” object: spectrumType must be one of :‘mass spectrum’, ‘PDA spectrum’, ‘electromagnetic radiation spectrum’, ‘emission spectrum’, ‘absorption spectrum’, ‘calibration spectrum’, ‘charge inversion mass spectrum’, ‘constant neutral gain spectrum’, ‘constant neutral loss spectrum’, ‘e/2 mass spectrum’, ‘precursor ion spectrum’, ‘product ion spectrum’, ‘MS1 spectrum’, ‘MSn spectrum’, ‘CRM spectrum’, ‘SIM spectrum’, ‘SRM spectrum’, ‘enhanced multiply charged spectrum’, ‘time-delayed fragmentation spectrum’
Execution halted
* checking re-building of vignette outputs ... OK
* checking PDF version of manual ... OK
* DONE
Status: 1 ERROR, 1 NOTE
See
‘/home/biocbuild/bbs-3.18-bioc/meat/CardinalIO.Rcheck/00check.log’
for details.
CardinalIO.Rcheck/00install.out
##############################################################################
##############################################################################
###
### Running command:
###
### /home/biocbuild/bbs-3.18-bioc/R/bin/R CMD INSTALL CardinalIO
###
##############################################################################
##############################################################################
* installing to library ‘/home/biocbuild/bbs-3.18-bioc/R/site-library’
* installing *source* package ‘CardinalIO’ ...
** using staged installation
** libs
using C++ compiler: ‘g++ (Ubuntu 11.4.0-1ubuntu1~22.04) 11.4.0’
g++ -std=gnu++17 -I"/home/biocbuild/bbs-3.18-bioc/R/include" -DNDEBUG -I/usr/local/include -fpic -g -O2 -Wall -c CardinalIO.cpp -o CardinalIO.o
In file included from CardinalIO.h:5,
from CardinalIO.cpp:2:
imzML.h: In member function ‘int imzML::get_params(pugi::xml_node, int, SEXP, SEXP)’:
imzML.h:346:43: warning: comparison of integer expressions of different signedness: ‘size_t’ {aka ‘long unsigned int’} and ‘int’ [-Wsign-compare]
346 | while ( node && i < count ) {
| ~~^~~~~~~
imzML.h:367:32: warning: comparison of integer expressions of different signedness: ‘size_t’ {aka ‘long unsigned int’} and ‘int’ [-Wsign-compare]
367 | if ( i != count )
| ~~^~~~~~~~
g++ -std=gnu++17 -I"/home/biocbuild/bbs-3.18-bioc/R/include" -DNDEBUG -I/usr/local/include -fpic -g -O2 -Wall -c init.cpp -o init.o
In file included from CardinalIO.h:5,
from init.cpp:3:
imzML.h: In member function ‘int imzML::get_params(pugi::xml_node, int, SEXP, SEXP)’:
imzML.h:346:43: warning: comparison of integer expressions of different signedness: ‘size_t’ {aka ‘long unsigned int’} and ‘int’ [-Wsign-compare]
346 | while ( node && i < count ) {
| ~~^~~~~~~
imzML.h:367:32: warning: comparison of integer expressions of different signedness: ‘size_t’ {aka ‘long unsigned int’} and ‘int’ [-Wsign-compare]
367 | if ( i != count )
| ~~^~~~~~~~
g++ -std=gnu++17 -I"/home/biocbuild/bbs-3.18-bioc/R/include" -DNDEBUG -I/usr/local/include -fpic -g -O2 -Wall -c pugixml.cpp -o pugixml.o
g++ -std=gnu++17 -shared -L/home/biocbuild/bbs-3.18-bioc/R/lib -L/usr/local/lib -o CardinalIO.so CardinalIO.o init.o pugixml.o -L/home/biocbuild/bbs-3.18-bioc/R/lib -lR
installing to /home/biocbuild/bbs-3.18-bioc/R/site-library/00LOCK-CardinalIO/00new/CardinalIO/libs
** R
** inst
** byte-compile and prepare package for lazy loading
** help
*** installing help indices
** building package indices
** installing vignettes
** testing if installed package can be loaded from temporary location
** checking absolute paths in shared objects and dynamic libraries
** testing if installed package can be loaded from final location
** testing if installed package keeps a record of temporary installation path
* DONE (CardinalIO)
CardinalIO.Rcheck/tests/testthat.Rout
R version 4.3.3 (2024-02-29) -- "Angel Food Cake"
Copyright (C) 2024 The R Foundation for Statistical Computing
Platform: x86_64-pc-linux-gnu (64-bit)
R is free software and comes with ABSOLUTELY NO WARRANTY.
You are welcome to redistribute it under certain conditions.
Type 'license()' or 'licence()' for distribution details.
R is a collaborative project with many contributors.
Type 'contributors()' for more information and
'citation()' on how to cite R or R packages in publications.
Type 'demo()' for some demos, 'help()' for on-line help, or
'help.start()' for an HTML browser interface to help.
Type 'q()' to quit R.
> library(testthat)
> library(CardinalIO)
Loading required package: matter
Loading required package: BiocParallel
Loading required package: Matrix
Loading required package: ontologyIndex
>
> test_check("CardinalIO")
[ FAIL 0 | WARN 0 | SKIP 0 | PASS 136 ]
>
> proc.time()
user system elapsed
6.371 0.340 6.701
CardinalIO.Rcheck/CardinalIO-Ex.timings
| name | user | system | elapsed | |
| ImzMeta | 0.745 | 0.055 | 0.802 | |
| exampleImzMLFile | 0.002 | 0.002 | 0.004 | |
| get_obo | 0.005 | 0.001 | 0.006 | |
| parseAnalyze | 0.039 | 0.000 | 0.041 | |
| parseImzML | 0.081 | 0.000 | 0.086 | |
| writeImzML | 0.152 | 0.008 | 0.160 | |