| Back to Multiple platform build/check report for BioC 3.18: simplified long |
|
This page was generated on 2024-04-17 11:35:50 -0400 (Wed, 17 Apr 2024).
| Hostname | OS | Arch (*) | R version | Installed pkgs |
|---|---|---|---|---|
| nebbiolo2 | Linux (Ubuntu 22.04.3 LTS) | x86_64 | 4.3.3 (2024-02-29) -- "Angel Food Cake" | 4676 |
| palomino4 | Windows Server 2022 Datacenter | x64 | 4.3.3 (2024-02-29 ucrt) -- "Angel Food Cake" | 4414 |
| merida1 | macOS 12.7.1 Monterey | x86_64 | 4.3.3 (2024-02-29) -- "Angel Food Cake" | 4437 |
| Click on any hostname to see more info about the system (e.g. compilers) (*) as reported by 'uname -p', except on Windows and Mac OS X | ||||
| Package 338/2266 | Hostname | OS / Arch | INSTALL | BUILD | CHECK | BUILD BIN | ||||||||
| ChIPsim 1.56.0 (landing page) Peter Humburg
| nebbiolo2 | Linux (Ubuntu 22.04.3 LTS) / x86_64 | OK | OK | OK | |||||||||
| palomino4 | Windows Server 2022 Datacenter / x64 | OK | OK | OK | OK | |||||||||
| merida1 | macOS 12.7.1 Monterey / x86_64 | OK | OK | OK | OK | |||||||||
| kjohnson1 | macOS 13.6.1 Ventura / arm64 | see weekly results here | ||||||||||||
|
To the developers/maintainers of the ChIPsim package: - Allow up to 24 hours (and sometimes 48 hours) for your latest push to git@git.bioconductor.org:packages/ChIPsim.git to reflect on this report. See Troubleshooting Build Report for more information. - Use the following Renviron settings to reproduce errors and warnings. - If 'R CMD check' started to fail recently on the Linux builder(s) over a missing dependency, add the missing dependency to 'Suggests:' in your DESCRIPTION file. See Renviron.bioc for more information. |
| Package: ChIPsim |
| Version: 1.56.0 |
| Command: /home/biocbuild/bbs-3.18-bioc/R/bin/R CMD check --install=check:ChIPsim.install-out.txt --library=/home/biocbuild/bbs-3.18-bioc/R/site-library --timings ChIPsim_1.56.0.tar.gz |
| StartedAt: 2024-04-15 21:09:29 -0400 (Mon, 15 Apr 2024) |
| EndedAt: 2024-04-15 21:14:09 -0400 (Mon, 15 Apr 2024) |
| EllapsedTime: 279.7 seconds |
| RetCode: 0 |
| Status: OK |
| CheckDir: ChIPsim.Rcheck |
| Warnings: 0 |
##############################################################################
##############################################################################
###
### Running command:
###
### /home/biocbuild/bbs-3.18-bioc/R/bin/R CMD check --install=check:ChIPsim.install-out.txt --library=/home/biocbuild/bbs-3.18-bioc/R/site-library --timings ChIPsim_1.56.0.tar.gz
###
##############################################################################
##############################################################################
* using log directory ‘/home/biocbuild/bbs-3.18-bioc/meat/ChIPsim.Rcheck’
* using R version 4.3.3 (2024-02-29)
* using platform: x86_64-pc-linux-gnu (64-bit)
* R was compiled by
gcc (Ubuntu 11.4.0-1ubuntu1~22.04) 11.4.0
GNU Fortran (Ubuntu 11.4.0-1ubuntu1~22.04) 11.4.0
* running under: Ubuntu 22.04.4 LTS
* using session charset: UTF-8
* checking for file ‘ChIPsim/DESCRIPTION’ ... OK
* checking extension type ... Package
* this is package ‘ChIPsim’ version ‘1.56.0’
* checking package namespace information ... OK
* checking package dependencies ... OK
* checking if this is a source package ... OK
* checking if there is a namespace ... OK
* checking for hidden files and directories ... OK
* checking for portable file names ... OK
* checking for sufficient/correct file permissions ... OK
* checking whether package ‘ChIPsim’ can be installed ... OK
* checking installed package size ... OK
* checking package directory ... OK
* checking ‘build’ directory ... OK
* checking DESCRIPTION meta-information ... NOTE
Package listed in more than one of Depends, Imports, Suggests, Enhances:
‘Biostrings’
A package should be listed in only one of these fields.
* checking top-level files ... OK
* checking for left-over files ... OK
* checking index information ... OK
* checking package subdirectories ... OK
* checking R files for non-ASCII characters ... OK
* checking R files for syntax errors ... OK
* checking whether the package can be loaded ... OK
* checking whether the package can be loaded with stated dependencies ... OK
* checking whether the package can be unloaded cleanly ... OK
* checking whether the namespace can be loaded with stated dependencies ... OK
* checking whether the namespace can be unloaded cleanly ... OK
* checking loading without being on the library search path ... OK
* checking dependencies in R code ... OK
* checking S3 generic/method consistency ... OK
* checking replacement functions ... OK
* checking foreign function calls ... OK
* checking R code for possible problems ... NOTE
print.SimulatedFeature: no visible global function definition for ‘str’
Undefined global functions or variables:
str
Consider adding
importFrom("utils", "str")
to your NAMESPACE file.
* checking Rd files ... OK
* checking Rd metadata ... OK
* checking Rd cross-references ... OK
* checking for missing documentation entries ... OK
* checking for code/documentation mismatches ... OK
* checking Rd \usage sections ... OK
* checking Rd contents ... OK
* checking for unstated dependencies in examples ... OK
* checking files in ‘vignettes’ ... OK
* checking examples ... OK
* checking for unstated dependencies in vignettes ... OK
* checking package vignettes in ‘inst/doc’ ... OK
* checking running R code from vignettes ...
‘ChIPsimIntro.Rnw’... OK
OK
* checking re-building of vignette outputs ... OK
* checking PDF version of manual ... OK
* DONE
Status: 2 NOTEs
See
‘/home/biocbuild/bbs-3.18-bioc/meat/ChIPsim.Rcheck/00check.log’
for details.
ChIPsim.Rcheck/00install.out
############################################################################## ############################################################################## ### ### Running command: ### ### /home/biocbuild/bbs-3.18-bioc/R/bin/R CMD INSTALL ChIPsim ### ############################################################################## ############################################################################## * installing to library ‘/home/biocbuild/bbs-3.18-bioc/R/site-library’ * installing *source* package ‘ChIPsim’ ... ** using staged installation ** R ** byte-compile and prepare package for lazy loading ** help *** installing help indices ** building package indices ** installing vignettes ** testing if installed package can be loaded from temporary location ** testing if installed package can be loaded from final location ** testing if installed package keeps a record of temporary installation path * DONE (ChIPsim)
ChIPsim.Rcheck/ChIPsim-Ex.timings
| name | user | system | elapsed | |
| ChIPsim-package | 0 | 0 | 0 | |
| bindDens2readDens | 1.381 | 0.024 | 1.405 | |
| decodeQuality | 0.001 | 0.000 | 0.001 | |
| defaultControl | 0.001 | 0.000 | 0.001 | |
| defaultErrorProb | 0 | 0 | 0 | |
| defaultFunctions | 0.002 | 0.000 | 0.001 | |
| defaultGenerator | 0.043 | 0.000 | 0.044 | |
| extractQuality | 0 | 0 | 0 | |
| feat2dens | 1.368 | 0.035 | 1.403 | |
| featureDensity | 0.001 | 0.001 | 0.001 | |
| makeFeatures | 0.047 | 0.000 | 0.047 | |
| placeFeatures | 0.058 | 0.000 | 0.057 | |
| pos2fastq | 0.055 | 0.000 | 0.055 | |
| readError | 0.001 | 0.000 | 0.000 | |
| reconcileFeatures | 0.059 | 0.000 | 0.059 | |
| sampleReads | 0.696 | 0.000 | 0.696 | |
| simChIP | 0 | 0 | 0 | |
| simpleNames | 0.000 | 0.000 | 0.001 | |
| stableFeature | 0 | 0 | 0 | |
| writeFASTQ | 0.000 | 0.000 | 0.001 | |