| Back to Multiple platform build/check report for BioC 3.18: simplified long |
|
This page was generated on 2024-04-17 11:35:53 -0400 (Wed, 17 Apr 2024).
| Hostname | OS | Arch (*) | R version | Installed pkgs |
|---|---|---|---|---|
| nebbiolo2 | Linux (Ubuntu 22.04.3 LTS) | x86_64 | 4.3.3 (2024-02-29) -- "Angel Food Cake" | 4676 |
| palomino4 | Windows Server 2022 Datacenter | x64 | 4.3.3 (2024-02-29 ucrt) -- "Angel Food Cake" | 4414 |
| merida1 | macOS 12.7.1 Monterey | x86_64 | 4.3.3 (2024-02-29) -- "Angel Food Cake" | 4437 |
| Click on any hostname to see more info about the system (e.g. compilers) (*) as reported by 'uname -p', except on Windows and Mac OS X | ||||
| Package 477/2266 | Hostname | OS / Arch | INSTALL | BUILD | CHECK | BUILD BIN | ||||||||
| CuratedAtlasQueryR 1.0.1 (landing page) Stefano Mangiola
| nebbiolo2 | Linux (Ubuntu 22.04.3 LTS) / x86_64 | OK | OK | ERROR | |||||||||
| palomino4 | Windows Server 2022 Datacenter / x64 | OK | OK | OK | OK | |||||||||
| merida1 | macOS 12.7.1 Monterey / x86_64 | OK | OK | OK | OK | |||||||||
| kjohnson1 | macOS 13.6.1 Ventura / arm64 | see weekly results here | ||||||||||||
|
To the developers/maintainers of the CuratedAtlasQueryR package: - Allow up to 24 hours (and sometimes 48 hours) for your latest push to git@git.bioconductor.org:packages/CuratedAtlasQueryR.git to reflect on this report. See Troubleshooting Build Report for more information. - Use the following Renviron settings to reproduce errors and warnings. - If 'R CMD check' started to fail recently on the Linux builder(s) over a missing dependency, add the missing dependency to 'Suggests:' in your DESCRIPTION file. See Renviron.bioc for more information. |
| Package: CuratedAtlasQueryR |
| Version: 1.0.1 |
| Command: /home/biocbuild/bbs-3.18-bioc/R/bin/R CMD check --install=check:CuratedAtlasQueryR.install-out.txt --library=/home/biocbuild/bbs-3.18-bioc/R/site-library --timings CuratedAtlasQueryR_1.0.1.tar.gz |
| StartedAt: 2024-04-15 21:45:10 -0400 (Mon, 15 Apr 2024) |
| EndedAt: 2024-04-15 21:51:52 -0400 (Mon, 15 Apr 2024) |
| EllapsedTime: 402.1 seconds |
| RetCode: 1 |
| Status: ERROR |
| CheckDir: CuratedAtlasQueryR.Rcheck |
| Warnings: NA |
##############################################################################
##############################################################################
###
### Running command:
###
### /home/biocbuild/bbs-3.18-bioc/R/bin/R CMD check --install=check:CuratedAtlasQueryR.install-out.txt --library=/home/biocbuild/bbs-3.18-bioc/R/site-library --timings CuratedAtlasQueryR_1.0.1.tar.gz
###
##############################################################################
##############################################################################
* using log directory ‘/home/biocbuild/bbs-3.18-bioc/meat/CuratedAtlasQueryR.Rcheck’
* using R version 4.3.3 (2024-02-29)
* using platform: x86_64-pc-linux-gnu (64-bit)
* R was compiled by
gcc (Ubuntu 11.4.0-1ubuntu1~22.04) 11.4.0
GNU Fortran (Ubuntu 11.4.0-1ubuntu1~22.04) 11.4.0
* running under: Ubuntu 22.04.4 LTS
* using session charset: UTF-8
* checking for file ‘CuratedAtlasQueryR/DESCRIPTION’ ... OK
* checking extension type ... Package
* this is package ‘CuratedAtlasQueryR’ version ‘1.0.1’
* package encoding: UTF-8
* checking package namespace information ... OK
* checking package dependencies ... OK
* checking if this is a source package ... OK
* checking if there is a namespace ... OK
* checking for hidden files and directories ... OK
* checking for portable file names ... OK
* checking for sufficient/correct file permissions ... OK
* checking whether package ‘CuratedAtlasQueryR’ can be installed ... OK
* checking installed package size ... OK
* checking package directory ... OK
* checking ‘build’ directory ... OK
* checking DESCRIPTION meta-information ... OK
* checking top-level files ... OK
* checking for left-over files ... OK
* checking index information ... OK
* checking package subdirectories ... OK
* checking R files for non-ASCII characters ... OK
* checking R files for syntax errors ... OK
* checking whether the package can be loaded ... OK
* checking whether the package can be loaded with stated dependencies ... OK
* checking whether the package can be unloaded cleanly ... OK
* checking whether the namespace can be loaded with stated dependencies ... OK
* checking whether the namespace can be unloaded cleanly ... OK
* checking loading without being on the library search path ... OK
* checking dependencies in R code ... OK
* checking S3 generic/method consistency ... OK
* checking replacement functions ... OK
* checking foreign function calls ... OK
* checking R code for possible problems ... OK
* checking Rd files ... OK
* checking Rd metadata ... OK
* checking Rd cross-references ... OK
* checking for missing documentation entries ... OK
* checking for code/documentation mismatches ... OK
* checking Rd \usage sections ... OK
* checking Rd contents ... OK
* checking for unstated dependencies in examples ... OK
* checking files in ‘vignettes’ ... OK
* checking examples ... OK
* checking for unstated dependencies in ‘tests’ ... OK
* checking tests ...
Running ‘spelling.R’
Running ‘testthat.R’
OK
* checking for unstated dependencies in vignettes ... OK
* checking package vignettes in ‘inst/doc’ ... OK
* checking running R code from vignettes ...
‘Introduction.Rmd’ using ‘UTF-8’... failed
ERROR
Errors in running code in vignettes:
when running code in ‘Introduction.Rmd’
...
> if (!is.null(root_dir)) {
+ knitr::opts_knit$set(output.dir = root_dir)
+ }
> proj_root <- normalizePath(rprojroot::find_package_root_file())
When sourcing ‘Introduction.R’:
Error: No root directory found in /tmp/Rtmps5xTHq/file22811b44a47c62/vignettes or its parent directories. Root criterion: contains a file "DESCRIPTION" with contents matching "^Package: "
Execution halted
* checking re-building of vignette outputs ... OK
* checking PDF version of manual ... OK
* DONE
Status: 1 ERROR
See
‘/home/biocbuild/bbs-3.18-bioc/meat/CuratedAtlasQueryR.Rcheck/00check.log’
for details.
CuratedAtlasQueryR.Rcheck/00install.out
############################################################################## ############################################################################## ### ### Running command: ### ### /home/biocbuild/bbs-3.18-bioc/R/bin/R CMD INSTALL CuratedAtlasQueryR ### ############################################################################## ############################################################################## * installing to library ‘/home/biocbuild/bbs-3.18-bioc/R/site-library’ * installing *source* package ‘CuratedAtlasQueryR’ ... ** using staged installation ** R ** inst ** byte-compile and prepare package for lazy loading ** help *** installing help indices *** copying figures ** building package indices ** installing vignettes ** testing if installed package can be loaded from temporary location ** testing if installed package can be loaded from final location ** testing if installed package keeps a record of temporary installation path * DONE (CuratedAtlasQueryR)
CuratedAtlasQueryR.Rcheck/tests/spelling.Rout
R version 4.3.3 (2024-02-29) -- "Angel Food Cake"
Copyright (C) 2024 The R Foundation for Statistical Computing
Platform: x86_64-pc-linux-gnu (64-bit)
R is free software and comes with ABSOLUTELY NO WARRANTY.
You are welcome to redistribute it under certain conditions.
Type 'license()' or 'licence()' for distribution details.
R is a collaborative project with many contributors.
Type 'contributors()' for more information and
'citation()' on how to cite R or R packages in publications.
Type 'demo()' for some demos, 'help()' for on-line help, or
'help.start()' for an HTML browser interface to help.
Type 'q()' to quit R.
> if(requireNamespace('spelling', quietly = TRUE))
+ spelling::spell_check_test(
+ # We hit https://github.com/ropensci/spelling/issues/62 if the
+ # vignettes are checked
+ vignettes = FALSE,
+ error = FALSE,
+ skip_on_cran = TRUE
+ )
NULL
>
> proc.time()
user system elapsed
0.147 0.037 0.171
CuratedAtlasQueryR.Rcheck/tests/testthat.Rout
R version 4.3.3 (2024-02-29) -- "Angel Food Cake"
Copyright (C) 2024 The R Foundation for Statistical Computing
Platform: x86_64-pc-linux-gnu (64-bit)
R is free software and comes with ABSOLUTELY NO WARRANTY.
You are welcome to redistribute it under certain conditions.
Type 'license()' or 'licence()' for distribution details.
R is a collaborative project with many contributors.
Type 'contributors()' for more information and
'citation()' on how to cite R or R packages in publications.
Type 'demo()' for some demos, 'help()' for on-line help, or
'help.start()' for an HTML browser interface to help.
Type 'q()' to quit R.
> library(testthat)
> library(CuratedAtlasQueryR)
>
> test_check("CuratedAtlasQueryR")
[ FAIL 0 | WARN 1 | SKIP 0 | PASS 23 ]
[ FAIL 0 | WARN 1 | SKIP 0 | PASS 23 ]
Warning message:
Connection is garbage-collected, use dbDisconnect() to avoid this.
>
> proc.time()
user system elapsed
21.010 1.647 73.851
Warning message:
Connection is garbage-collected, use dbDisconnect() to avoid this.
CuratedAtlasQueryR.Rcheck/CuratedAtlasQueryR-Ex.timings
| name | user | system | elapsed | |
| DATABASE_URL | 0.157 | 0.023 | 0.211 | |
| SAMPLE_DATABASE_URL | 0.119 | 0.011 | 0.118 | |
| get_SingleCellExperiment | 1.223 | 0.004 | 1.217 | |
| get_metadata | 0.04 | 0.00 | 0.04 | |
| get_seurat | 1.452 | 0.100 | 1.552 | |
| get_single_cell_experiment | 0.291 | 0.004 | 0.294 | |
| get_unharmonised_dataset | 0 | 0 | 0 | |
| get_unharmonised_metadata | 0.15 | 0.00 | 0.15 | |
| hdf5_to_anndata | 0 | 0 | 0 | |
| update_database | 0 | 0 | 0 | |
| update_unharmonised | 0 | 0 | 0 | |