| Back to Multiple platform build/check report for BioC 3.18: simplified long |
|
This page was generated on 2023-11-02 11:40:37 -0400 (Thu, 02 Nov 2023).
| Hostname | OS | Arch (*) | R version | Installed pkgs |
|---|---|---|---|---|
| nebbiolo2 | Linux (Ubuntu 22.04.2 LTS) | x86_64 | 4.3.1 (2023-06-16) -- "Beagle Scouts" | 4729 |
| palomino4 | Windows Server 2022 Datacenter | x64 | 4.3.1 (2023-06-16 ucrt) -- "Beagle Scouts" | 4463 |
| lconway | macOS 12.6.5 Monterey | x86_64 | 4.3.1 Patched (2023-06-17 r84564) -- "Beagle Scouts" | 4478 |
| kunpeng2 | Linux (openEuler 22.03 LTS-SP1) | aarch64 | 4.3.1 (2023-06-16) -- "Beagle Scouts" | 4464 |
| Click on any hostname to see more info about the system (e.g. compilers) (*) as reported by 'uname -p', except on Windows and Mac OS X | ||||
| Package 563/2266 | Hostname | OS / Arch | INSTALL | BUILD | CHECK | BUILD BIN | ||||||||
| diffHic 1.34.0 (landing page) Aaron Lun
| nebbiolo2 | Linux (Ubuntu 22.04.2 LTS) / x86_64 | OK | OK | WARNINGS | |||||||||
| palomino4 | Windows Server 2022 Datacenter / x64 | OK | OK | WARNINGS | OK | |||||||||
| lconway | macOS 12.6.5 Monterey / x86_64 | OK | OK | WARNINGS | OK | |||||||||
| kjohnson1 | macOS 13.6.1 Ventura / arm64 | see weekly results here | ||||||||||||
| kunpeng2 | Linux (openEuler 22.03 LTS-SP1) / aarch64 | OK | OK | WARNINGS | ||||||||||
|
To the developers/maintainers of the diffHic package: - Allow up to 24 hours (and sometimes 48 hours) for your latest push to git@git.bioconductor.org:packages/diffHic.git to reflect on this report. See Troubleshooting Build Report for more information. - Use the following Renviron settings to reproduce errors and warnings. - If 'R CMD check' started to fail recently on the Linux builder(s) over a missing dependency, add the missing dependency to 'Suggests:' in your DESCRIPTION file. See Renviron.bioc for more information. - See Martin Grigorov's blog post for how to debug Linux ARM64 related issues on a x86_64 host. |
| Package: diffHic |
| Version: 1.34.0 |
| Command: /home/biocbuild/R/R-4.3.1/bin/R CMD INSTALL diffHic |
| StartedAt: 2023-11-01 20:25:33 -0000 (Wed, 01 Nov 2023) |
| EndedAt: 2023-11-01 20:28:31 -0000 (Wed, 01 Nov 2023) |
| EllapsedTime: 178.3 seconds |
| RetCode: 0 |
| Status: OK |
##############################################################################
##############################################################################
###
### Running command:
###
### /home/biocbuild/R/R-4.3.1/bin/R CMD INSTALL diffHic
###
##############################################################################
##############################################################################
* installing to library ‘/home/biocbuild/R/R-4.3.1/site-library’
* installing *source* package ‘diffHic’ ...
** using staged installation
** libs
using C++ compiler: ‘g++ (GCC) 10.3.1’
using C++11
g++ -std=gnu++11 -I"/home/biocbuild/R/R-4.3.1/include" -DNDEBUG -D_FILE_OFFSET_BITS=64 -I'/home/biocbuild/R/R-4.3.1/site-library/Rhtslib/include' -I'/home/biocbuild/R/R-4.3.1/site-library/zlibbioc/include' -I'/home/biocbuild/R/R-4.3.1/site-library/Rcpp/include' -I/usr/local/include -fPIC -g -O2 -Wall -c binner.cpp -o binner.o
g++ -std=gnu++11 -I"/home/biocbuild/R/R-4.3.1/include" -DNDEBUG -D_FILE_OFFSET_BITS=64 -I'/home/biocbuild/R/R-4.3.1/site-library/Rhtslib/include' -I'/home/biocbuild/R/R-4.3.1/site-library/zlibbioc/include' -I'/home/biocbuild/R/R-4.3.1/site-library/Rcpp/include' -I/usr/local/include -fPIC -g -O2 -Wall -c check_input.cpp -o check_input.o
g++ -std=gnu++11 -I"/home/biocbuild/R/R-4.3.1/include" -DNDEBUG -D_FILE_OFFSET_BITS=64 -I'/home/biocbuild/R/R-4.3.1/site-library/Rhtslib/include' -I'/home/biocbuild/R/R-4.3.1/site-library/zlibbioc/include' -I'/home/biocbuild/R/R-4.3.1/site-library/Rcpp/include' -I/usr/local/include -fPIC -g -O2 -Wall -c cluster_2d.cpp -o cluster_2d.o
g++ -std=gnu++11 -I"/home/biocbuild/R/R-4.3.1/include" -DNDEBUG -D_FILE_OFFSET_BITS=64 -I'/home/biocbuild/R/R-4.3.1/site-library/Rhtslib/include' -I'/home/biocbuild/R/R-4.3.1/site-library/zlibbioc/include' -I'/home/biocbuild/R/R-4.3.1/site-library/Rcpp/include' -I/usr/local/include -fPIC -g -O2 -Wall -c count_background.cpp -o count_background.o
g++ -std=gnu++11 -I"/home/biocbuild/R/R-4.3.1/include" -DNDEBUG -D_FILE_OFFSET_BITS=64 -I'/home/biocbuild/R/R-4.3.1/site-library/Rhtslib/include' -I'/home/biocbuild/R/R-4.3.1/site-library/zlibbioc/include' -I'/home/biocbuild/R/R-4.3.1/site-library/Rcpp/include' -I/usr/local/include -fPIC -g -O2 -Wall -c count_connect.cpp -o count_connect.o
count_connect.cpp: In function ‘SEXPREC* count_connect(SEXP, SEXP)’:
count_connect.cpp:57:30: warning: comparison of integer expressions of different signedness: ‘size_t’ {aka ‘long unsigned int’} and ‘const int’ [-Wsign-compare]
57 | for (size_t odex=0; odex < ncombos; ++odex) {
| ~~~~~^~~~~~~~~
g++ -std=gnu++11 -I"/home/biocbuild/R/R-4.3.1/include" -DNDEBUG -D_FILE_OFFSET_BITS=64 -I'/home/biocbuild/R/R-4.3.1/site-library/Rhtslib/include' -I'/home/biocbuild/R/R-4.3.1/site-library/zlibbioc/include' -I'/home/biocbuild/R/R-4.3.1/site-library/Rcpp/include' -I/usr/local/include -fPIC -g -O2 -Wall -c count_patch.cpp -o count_patch.o
count_patch.cpp: In function ‘SEXPREC* count_patch(SEXP, SEXP, SEXP, SEXP, SEXP)’:
count_patch.cpp:45:33: warning: comparison of integer expressions of different signedness: ‘size_t’ {aka ‘long unsigned int’} and ‘const int’ [-Wsign-compare]
45 | for (size_t vecdex=0; vecdex<ncombos; ++vecdex) {
| ~~~~~~^~~~~~~~
g++ -std=gnu++11 -I"/home/biocbuild/R/R-4.3.1/include" -DNDEBUG -D_FILE_OFFSET_BITS=64 -I'/home/biocbuild/R/R-4.3.1/site-library/Rhtslib/include' -I'/home/biocbuild/R/R-4.3.1/site-library/zlibbioc/include' -I'/home/biocbuild/R/R-4.3.1/site-library/Rcpp/include' -I/usr/local/include -fPIC -g -O2 -Wall -c directionality.cpp -o directionality.o
g++ -std=gnu++11 -I"/home/biocbuild/R/R-4.3.1/include" -DNDEBUG -D_FILE_OFFSET_BITS=64 -I'/home/biocbuild/R/R-4.3.1/site-library/Rhtslib/include' -I'/home/biocbuild/R/R-4.3.1/site-library/zlibbioc/include' -I'/home/biocbuild/R/R-4.3.1/site-library/Rcpp/include' -I/usr/local/include -fPIC -g -O2 -Wall -c init.cpp -o init.o
g++ -std=gnu++11 -I"/home/biocbuild/R/R-4.3.1/include" -DNDEBUG -D_FILE_OFFSET_BITS=64 -I'/home/biocbuild/R/R-4.3.1/site-library/Rhtslib/include' -I'/home/biocbuild/R/R-4.3.1/site-library/zlibbioc/include' -I'/home/biocbuild/R/R-4.3.1/site-library/Rcpp/include' -I/usr/local/include -fPIC -g -O2 -Wall -c iterative_correction.cpp -o iterative_correction.o
g++ -std=gnu++11 -I"/home/biocbuild/R/R-4.3.1/include" -DNDEBUG -D_FILE_OFFSET_BITS=64 -I'/home/biocbuild/R/R-4.3.1/site-library/Rhtslib/include' -I'/home/biocbuild/R/R-4.3.1/site-library/zlibbioc/include' -I'/home/biocbuild/R/R-4.3.1/site-library/Rcpp/include' -I/usr/local/include -fPIC -g -O2 -Wall -c neighbors.cpp -o neighbors.o
g++ -std=gnu++11 -I"/home/biocbuild/R/R-4.3.1/include" -DNDEBUG -D_FILE_OFFSET_BITS=64 -I'/home/biocbuild/R/R-4.3.1/site-library/Rhtslib/include' -I'/home/biocbuild/R/R-4.3.1/site-library/zlibbioc/include' -I'/home/biocbuild/R/R-4.3.1/site-library/Rcpp/include' -I/usr/local/include -fPIC -g -O2 -Wall -c pair_stats.cpp -o pair_stats.o
g++ -std=gnu++11 -I"/home/biocbuild/R/R-4.3.1/include" -DNDEBUG -D_FILE_OFFSET_BITS=64 -I'/home/biocbuild/R/R-4.3.1/site-library/Rhtslib/include' -I'/home/biocbuild/R/R-4.3.1/site-library/zlibbioc/include' -I'/home/biocbuild/R/R-4.3.1/site-library/Rcpp/include' -I/usr/local/include -fPIC -g -O2 -Wall -c quadrant_bg.cpp -o quadrant_bg.o
g++ -std=gnu++11 -I"/home/biocbuild/R/R-4.3.1/include" -DNDEBUG -D_FILE_OFFSET_BITS=64 -I'/home/biocbuild/R/R-4.3.1/site-library/Rhtslib/include' -I'/home/biocbuild/R/R-4.3.1/site-library/zlibbioc/include' -I'/home/biocbuild/R/R-4.3.1/site-library/Rcpp/include' -I/usr/local/include -fPIC -g -O2 -Wall -c report_hic_pairs.cpp -o report_hic_pairs.o
g++ -std=gnu++11 -I"/home/biocbuild/R/R-4.3.1/include" -DNDEBUG -D_FILE_OFFSET_BITS=64 -I'/home/biocbuild/R/R-4.3.1/site-library/Rhtslib/include' -I'/home/biocbuild/R/R-4.3.1/site-library/zlibbioc/include' -I'/home/biocbuild/R/R-4.3.1/site-library/Rcpp/include' -I/usr/local/include -fPIC -g -O2 -Wall -c trended_filter.cpp -o trended_filter.o
g++ -std=gnu++11 -I"/home/biocbuild/R/R-4.3.1/include" -DNDEBUG -D_FILE_OFFSET_BITS=64 -I'/home/biocbuild/R/R-4.3.1/site-library/Rhtslib/include' -I'/home/biocbuild/R/R-4.3.1/site-library/zlibbioc/include' -I'/home/biocbuild/R/R-4.3.1/site-library/Rcpp/include' -I/usr/local/include -fPIC -g -O2 -Wall -c utils.cpp -o utils.o
g++ -std=gnu++11 -shared -L/home/biocbuild/R/R-4.3.1/lib -L/usr/local/lib -o diffHic.so binner.o check_input.o cluster_2d.o count_background.o count_connect.o count_patch.o directionality.o init.o iterative_correction.o neighbors.o pair_stats.o quadrant_bg.o report_hic_pairs.o trended_filter.o utils.o /home/biocbuild/R/R-4.3.1/site-library/Rhtslib/usrlib/libhts.a -lcurl -L/home/biocbuild/R/R-4.3.1/lib -lR
installing to /home/biocbuild/R/R-4.3.1/site-library/00LOCK-diffHic/00new/diffHic/libs
** R
** inst
** byte-compile and prepare package for lazy loading
** help
*** installing help indices
** building package indices
** installing vignettes
** testing if installed package can be loaded from temporary location
** checking absolute paths in shared objects and dynamic libraries
** testing if installed package can be loaded from final location
** testing if installed package keeps a record of temporary installation path
* DONE (diffHic)