| Back to Mac ARM64 build report for BioC 3.18 | 
 | 
This page was generated on 2024-04-18 11:32:11 -0400 (Thu, 18 Apr 2024).
| Hostname | OS | Arch (*) | R version | Installed pkgs | 
|---|---|---|---|---|
| kjohnson1 | macOS 13.6.1 Ventura | arm64 | 4.3.3 (2024-02-29) -- "Angel Food Cake" | 4388 | 
| Click on any hostname to see more info about the system (e.g. compilers) (*) as reported by 'uname -p', except on Windows and Mac OS X | ||||
| Package 857/2266 | Hostname | OS / Arch | INSTALL | BUILD | CHECK | BUILD BIN | ||||||||
| ggtree 3.10.1  (landing page) Guangchuang Yu 
 | kjohnson1 | macOS 13.6.1 Ventura / arm64 | OK | OK | OK | OK |  | |||||||
| To the developers/maintainers of the ggtree package: - Use the following Renviron settings to reproduce errors and warnings. - If 'R CMD check' started to fail recently on the Linux builder(s) over a missing dependency, add the missing dependency to 'Suggests:' in your DESCRIPTION file. See Renviron.bioc for more information. | 
| Package: ggtree | 
| Version: 3.10.1 | 
| Command: /Library/Frameworks/R.framework/Resources/bin/R CMD check --install=check:ggtree.install-out.txt --library=/Library/Frameworks/R.framework/Resources/library --no-vignettes --timings ggtree_3.10.1.tar.gz | 
| StartedAt: 2024-04-17 15:13:31 -0400 (Wed, 17 Apr 2024) | 
| EndedAt: 2024-04-17 15:14:48 -0400 (Wed, 17 Apr 2024) | 
| EllapsedTime: 76.5 seconds | 
| RetCode: 0 | 
| Status: OK | 
| CheckDir: ggtree.Rcheck | 
| Warnings: 0 | 
##############################################################################
##############################################################################
###
### Running command:
###
###   /Library/Frameworks/R.framework/Resources/bin/R CMD check --install=check:ggtree.install-out.txt --library=/Library/Frameworks/R.framework/Resources/library --no-vignettes --timings ggtree_3.10.1.tar.gz
###
##############################################################################
##############################################################################
* using log directory ‘/Users/biocbuild/bbs-3.18-bioc-mac-arm64/meat/ggtree.Rcheck’
* using R version 4.3.3 (2024-02-29)
* using platform: aarch64-apple-darwin20 (64-bit)
* R was compiled by
    Apple clang version 14.0.0 (clang-1400.0.29.202)
    GNU Fortran (GCC) 12.2.0
* running under: macOS Ventura 13.6.1
* using session charset: UTF-8
* using option ‘--no-vignettes’
* checking for file ‘ggtree/DESCRIPTION’ ... OK
* checking extension type ... Package
* this is package ‘ggtree’ version ‘3.10.1’
* package encoding: UTF-8
* checking package namespace information ... OK
* checking package dependencies ... OK
* checking if this is a source package ... OK
* checking if there is a namespace ... OK
* checking for hidden files and directories ... OK
* checking for portable file names ... OK
* checking for sufficient/correct file permissions ... OK
* checking whether package ‘ggtree’ can be installed ... OK
* checking installed package size ... OK
* checking package directory ... OK
* checking ‘build’ directory ... OK
* checking DESCRIPTION meta-information ... OK
* checking top-level files ... OK
* checking for left-over files ... OK
* checking index information ... OK
* checking package subdirectories ... OK
* checking R files for non-ASCII characters ... OK
* checking R files for syntax errors ... OK
* checking whether the package can be loaded ... OK
* checking whether the package can be loaded with stated dependencies ... OK
* checking whether the package can be unloaded cleanly ... OK
* checking whether the namespace can be loaded with stated dependencies ... OK
* checking whether the namespace can be unloaded cleanly ... OK
* checking startup messages can be suppressed ... OK
* checking dependencies in R code ... OK
* checking S3 generic/method consistency ... OK
* checking replacement functions ... OK
* checking foreign function calls ... OK
* checking R code for possible problems ... OK
* checking Rd files ... OK
* checking Rd metadata ... OK
* checking Rd cross-references ... OK
* checking for missing documentation entries ... OK
* checking for code/documentation mismatches ... OK
* checking Rd \usage sections ... OK
* checking Rd contents ... OK
* checking for unstated dependencies in examples ... OK
* checking files in ‘vignettes’ ... OK
* checking examples ... OK
* checking for unstated dependencies in ‘tests’ ... OK
* checking tests ...
  Running ‘testthat.R’
 OK
* checking for unstated dependencies in vignettes ... OK
* checking package vignettes in ‘inst/doc’ ... OK
* checking running R code from vignettes ... SKIPPED
* checking re-building of vignette outputs ... SKIPPED
* checking PDF version of manual ... OK
* DONE
Status: OK
ggtree.Rcheck/00install.out
############################################################################## ############################################################################## ### ### Running command: ### ### /Library/Frameworks/R.framework/Resources/bin/R CMD INSTALL ggtree ### ############################################################################## ############################################################################## * installing to library ‘/Library/Frameworks/R.framework/Versions/4.3-arm64/Resources/library’ * installing *source* package ‘ggtree’ ... ** using staged installation ** R ** inst ** byte-compile and prepare package for lazy loading ** help *** installing help indices ** building package indices ** installing vignettes ** testing if installed package can be loaded from temporary location ** testing if installed package can be loaded from final location ** testing if installed package keeps a record of temporary installation path * DONE (ggtree)
ggtree.Rcheck/tests/testthat.Rout
R version 4.3.3 (2024-02-29) -- "Angel Food Cake"
Copyright (C) 2024 The R Foundation for Statistical Computing
Platform: aarch64-apple-darwin20 (64-bit)
R is free software and comes with ABSOLUTELY NO WARRANTY.
You are welcome to redistribute it under certain conditions.
Type 'license()' or 'licence()' for distribution details.
R is a collaborative project with many contributors.
Type 'contributors()' for more information and
'citation()' on how to cite R or R packages in publications.
Type 'demo()' for some demos, 'help()' for on-line help, or
'help.start()' for an HTML browser interface to help.
Type 'q()' to quit R.
> library(testthat)
> library(ggtree)
ggtree v3.10.1 For help: https://yulab-smu.top/treedata-book/
If you use the ggtree package suite in published research, please cite
the appropriate paper(s):
Guangchuang Yu, David Smith, Huachen Zhu, Yi Guan, Tommy Tsan-Yuk Lam.
ggtree: an R package for visualization and annotation of phylogenetic
trees with their covariates and other associated data. Methods in
Ecology and Evolution. 2017, 8(1):28-36. doi:10.1111/2041-210X.12628
Shuangbin Xu, Lin Li, Xiao Luo, Meijun Chen, Wenli Tang, Li Zhan, Zehan
Dai, Tommy T. Lam, Yi Guan, Guangchuang Yu. Ggtree: A serialized data
object for visualization of a phylogenetic tree and annotation data.
iMeta 2022, 1(4):e56. doi:10.1002/imt2.56
G Yu. Data Integration, Manipulation and Visualization of Phylogenetic
Trees (1st ed.). Chapman and Hall/CRC. 2022. ISBN: 9781032233574
> 
> test_check("ggtree")
[ FAIL 0 | WARN 3 | SKIP 0 | PASS 14 ]
[ FAIL 0 | WARN 3 | SKIP 0 | PASS 14 ]
> 
> proc.time()
   user  system elapsed 
  2.372   0.195   2.654 
ggtree.Rcheck/ggtree-Ex.timings
| name | user | system | elapsed | |
| attacher | 0.457 | 0.013 | 0.472 | |
| collapse | 0.427 | 0.004 | 0.434 | |
| expand | 0.141 | 0.010 | 0.153 | |
| facet-plot | 0.214 | 0.015 | 0.228 | |
| flip | 0.170 | 0.010 | 0.183 | |
| geom-hilight | 1.619 | 0.018 | 1.668 | |
| geom_balance | 0.219 | 0.003 | 0.224 | |
| geom_cladelab | 0.401 | 0.005 | 0.411 | |
| geom_label2 | 0.203 | 0.003 | 0.209 | |
| geom_point2 | 0.887 | 0.011 | 0.909 | |
| geom_rootedge | 0.675 | 0.006 | 0.682 | |
| geom_rootpoint | 0.265 | 0.003 | 0.268 | |
| geom_strip | 0.155 | 0.002 | 0.156 | |
| geom_striplab | 0.207 | 0.002 | 0.209 | |
| geom_tiplab | 0.166 | 0.003 | 0.168 | |
| geom_tiplab2 | 0.219 | 0.002 | 0.222 | |
| geom_tippoint | 0.140 | 0.001 | 0.142 | |
| geom_tree | 0.131 | 0.001 | 0.134 | |
| get_taxa_name | 0.031 | 0.000 | 0.031 | |
| ggdensitree | 1.494 | 0.014 | 1.514 | |
| ggexpand | 0.204 | 0.002 | 0.206 | |
| ggtree-format-painter | 0.166 | 0.003 | 0.169 | |
| ggtree | 0.136 | 0.002 | 0.139 | |
| label_pad | 0.001 | 0.000 | 0.002 | |
| open_tree | 0.194 | 0.002 | 0.197 | |
| revts | 0.348 | 0.006 | 0.367 | |
| rotate | 0.134 | 0.007 | 0.141 | |
| rotate_tree | 0.199 | 0.002 | 0.203 | |
| scaleClade | 0.158 | 0.002 | 0.162 | |
| td_filter | 0.122 | 0.001 | 0.124 | |
| theme_tree | 0.139 | 0.002 | 0.142 | |
| theme_tree2 | 0.141 | 0.002 | 0.142 | |
| tree-layout | 0.834 | 0.008 | 0.844 | |
| viewClade | 0.185 | 0.002 | 0.186 | |
| xlim_expand | 0.221 | 0.002 | 0.222 | |
| xlim_tree | 0.233 | 0.003 | 0.237 | |
| zoomClade | 0 | 0 | 0 | |