| Back to Mac ARM64 build report for BioC 3.18 | 
 | 
This page was generated on 2024-04-18 11:32:18 -0400 (Thu, 18 Apr 2024).
| Hostname | OS | Arch (*) | R version | Installed pkgs | 
|---|---|---|---|---|
| kjohnson1 | macOS 13.6.1 Ventura | arm64 | 4.3.3 (2024-02-29) -- "Angel Food Cake" | 4388 | 
| Click on any hostname to see more info about the system (e.g. compilers) (*) as reported by 'uname -p', except on Windows and Mac OS X | ||||
| Package 1836/2266 | Hostname | OS / Arch | INSTALL | BUILD | CHECK | BUILD BIN | ||||||||
| sampleClassifier 1.26.0  (landing page) Khadija El Amrani 
 | kjohnson1 | macOS 13.6.1 Ventura / arm64 | OK | OK | OK | OK |  | |||||||
| To the developers/maintainers of the sampleClassifier package: - Use the following Renviron settings to reproduce errors and warnings. - If 'R CMD check' started to fail recently on the Linux builder(s) over a missing dependency, add the missing dependency to 'Suggests:' in your DESCRIPTION file. See Renviron.bioc for more information. | 
| Package: sampleClassifier | 
| Version: 1.26.0 | 
| Command: /Library/Frameworks/R.framework/Resources/bin/R CMD check --install=check:sampleClassifier.install-out.txt --library=/Library/Frameworks/R.framework/Resources/library --no-vignettes --timings sampleClassifier_1.26.0.tar.gz | 
| StartedAt: 2024-04-18 02:24:10 -0400 (Thu, 18 Apr 2024) | 
| EndedAt: 2024-04-18 02:29:02 -0400 (Thu, 18 Apr 2024) | 
| EllapsedTime: 291.3 seconds | 
| RetCode: 0 | 
| Status: OK | 
| CheckDir: sampleClassifier.Rcheck | 
| Warnings: 0 | 
##############################################################################
##############################################################################
###
### Running command:
###
###   /Library/Frameworks/R.framework/Resources/bin/R CMD check --install=check:sampleClassifier.install-out.txt --library=/Library/Frameworks/R.framework/Resources/library --no-vignettes --timings sampleClassifier_1.26.0.tar.gz
###
##############################################################################
##############################################################################
* using log directory ‘/Users/biocbuild/bbs-3.18-bioc-mac-arm64/meat/sampleClassifier.Rcheck’
* using R version 4.3.3 (2024-02-29)
* using platform: aarch64-apple-darwin20 (64-bit)
* R was compiled by
    Apple clang version 14.0.0 (clang-1400.0.29.202)
    GNU Fortran (GCC) 12.2.0
* running under: macOS Ventura 13.6.1
* using session charset: UTF-8
* using option ‘--no-vignettes’
* checking for file ‘sampleClassifier/DESCRIPTION’ ... OK
* checking extension type ... Package
* this is package ‘sampleClassifier’ version ‘1.26.0’
* checking package namespace information ... OK
* checking package dependencies ... OK
* checking if this is a source package ... OK
* checking if there is a namespace ... OK
* checking for hidden files and directories ... OK
* checking for portable file names ... OK
* checking for sufficient/correct file permissions ... OK
* checking whether package ‘sampleClassifier’ can be installed ... OK
* checking installed package size ... OK
* checking package directory ... OK
* checking ‘build’ directory ... OK
* checking DESCRIPTION meta-information ... OK
* checking top-level files ... OK
* checking for left-over files ... OK
* checking index information ... OK
* checking package subdirectories ... OK
* checking R files for non-ASCII characters ... OK
* checking R files for syntax errors ... OK
* checking whether the package can be loaded ... OK
* checking whether the package can be loaded with stated dependencies ... OK
* checking whether the package can be unloaded cleanly ... OK
* checking whether the namespace can be loaded with stated dependencies ... OK
* checking whether the namespace can be unloaded cleanly ... OK
* checking dependencies in R code ... OK
* checking S3 generic/method consistency ... OK
* checking replacement functions ... OK
* checking foreign function calls ... OK
* checking R code for possible problems ... OK
* checking Rd files ... OK
* checking Rd metadata ... OK
* checking Rd cross-references ... OK
* checking for missing documentation entries ... OK
* checking for code/documentation mismatches ... OK
* checking Rd \usage sections ... OK
* checking Rd contents ... OK
* checking for unstated dependencies in examples ... OK
* checking sizes of PDF files under ‘inst/doc’ ... OK
* checking files in ‘vignettes’ ... OK
* checking examples ... OK
Examples with CPU (user + system) or elapsed time > 5s
                             user system elapsed
classifyProfile.rnaseq     67.460  0.793  68.426
classifyProfile            31.712  0.733  32.781
get.heatmap                23.953  0.688  24.703
classifyProfile.svm        22.230  0.435  22.733
classifyProfile.rnaseq.svm 12.076  0.437  12.553
* checking for unstated dependencies in vignettes ... OK
* checking package vignettes in ‘inst/doc’ ... OK
* checking running R code from vignettes ... SKIPPED
* checking re-building of vignette outputs ... SKIPPED
* checking PDF version of manual ... OK
* DONE
Status: OK
sampleClassifier.Rcheck/00install.out
############################################################################## ############################################################################## ### ### Running command: ### ### /Library/Frameworks/R.framework/Resources/bin/R CMD INSTALL sampleClassifier ### ############################################################################## ############################################################################## * installing to library ‘/Library/Frameworks/R.framework/Versions/4.3-arm64/Resources/library’ * installing *source* package ‘sampleClassifier’ ... ** using staged installation ** R ** byte-compile and prepare package for lazy loading ** help *** installing help indices ** building package indices ** installing vignettes ** testing if installed package can be loaded from temporary location ** testing if installed package can be loaded from final location ** testing if installed package keeps a record of temporary installation path * DONE (sampleClassifier)
sampleClassifier.Rcheck/sampleClassifier-Ex.timings
| name | user | system | elapsed | |
| classifyProfile | 31.712 | 0.733 | 32.781 | |
| classifyProfile.rnaseq | 67.460 | 0.793 | 68.426 | |
| classifyProfile.rnaseq.svm | 12.076 | 0.437 | 12.553 | |
| classifyProfile.svm | 22.230 | 0.435 | 22.733 | |
| get.heatmap | 23.953 | 0.688 | 24.703 | |
| sampleClassifier-package | 0 | 0 | 0 | |