| Back to Mac ARM64 build report for BioC 3.18 |
|
This page was generated on 2024-04-18 11:32:19 -0400 (Thu, 18 Apr 2024).
| Hostname | OS | Arch (*) | R version | Installed pkgs |
|---|---|---|---|---|
| kjohnson1 | macOS 13.6.1 Ventura | arm64 | 4.3.3 (2024-02-29) -- "Angel Food Cake" | 4388 |
| Click on any hostname to see more info about the system (e.g. compilers) (*) as reported by 'uname -p', except on Windows and Mac OS X | ||||
| Package 2028/2266 | Hostname | OS / Arch | INSTALL | BUILD | CHECK | BUILD BIN | ||||||||
| spkTools 1.58.0 (landing page) Matthew N McCall
| kjohnson1 | macOS 13.6.1 Ventura / arm64 | OK | OK | OK | OK | ||||||||
|
To the developers/maintainers of the spkTools package: - Use the following Renviron settings to reproduce errors and warnings. - If 'R CMD check' started to fail recently on the Linux builder(s) over a missing dependency, add the missing dependency to 'Suggests:' in your DESCRIPTION file. See Renviron.bioc for more information. |
| Package: spkTools |
| Version: 1.58.0 |
| Command: /Library/Frameworks/R.framework/Resources/bin/R CMD check --install=check:spkTools.install-out.txt --library=/Library/Frameworks/R.framework/Resources/library --no-vignettes --timings spkTools_1.58.0.tar.gz |
| StartedAt: 2024-04-18 05:01:46 -0400 (Thu, 18 Apr 2024) |
| EndedAt: 2024-04-18 05:04:00 -0400 (Thu, 18 Apr 2024) |
| EllapsedTime: 134.6 seconds |
| RetCode: 0 |
| Status: OK |
| CheckDir: spkTools.Rcheck |
| Warnings: 0 |
##############################################################################
##############################################################################
###
### Running command:
###
### /Library/Frameworks/R.framework/Resources/bin/R CMD check --install=check:spkTools.install-out.txt --library=/Library/Frameworks/R.framework/Resources/library --no-vignettes --timings spkTools_1.58.0.tar.gz
###
##############################################################################
##############################################################################
* using log directory ‘/Users/biocbuild/bbs-3.18-bioc-mac-arm64/meat/spkTools.Rcheck’
* using R version 4.3.3 (2024-02-29)
* using platform: aarch64-apple-darwin20 (64-bit)
* R was compiled by
Apple clang version 14.0.0 (clang-1400.0.29.202)
GNU Fortran (GCC) 12.2.0
* running under: macOS Ventura 13.6.1
* using session charset: UTF-8
* using option ‘--no-vignettes’
* checking for file ‘spkTools/DESCRIPTION’ ... OK
* this is package ‘spkTools’ version ‘1.58.0’
* checking package namespace information ... OK
* checking package dependencies ... OK
* checking if this is a source package ... OK
* checking if there is a namespace ... OK
* checking for hidden files and directories ... OK
* checking for portable file names ... OK
* checking for sufficient/correct file permissions ... OK
* checking whether package ‘spkTools’ can be installed ... OK
* checking installed package size ... OK
* checking package directory ... OK
* checking ‘build’ directory ... OK
* checking DESCRIPTION meta-information ... NOTE
Package listed in more than one of Depends, Imports, Suggests, Enhances:
‘Biobase’
A package should be listed in only one of these fields.
* checking top-level files ... OK
* checking for left-over files ... OK
* checking index information ... OK
* checking package subdirectories ... OK
* checking R files for non-ASCII characters ... OK
* checking R files for syntax errors ... OK
* checking whether the package can be loaded ... OK
* checking whether the package can be loaded with stated dependencies ... OK
* checking whether the package can be unloaded cleanly ... OK
* checking whether the namespace can be loaded with stated dependencies ... OK
* checking whether the namespace can be unloaded cleanly ... OK
* checking dependencies in R code ... OK
* checking S3 generic/method consistency ... OK
* checking replacement functions ... OK
* checking foreign function calls ... OK
* checking R code for possible problems ... OK
* checking Rd files ... OK
* checking Rd metadata ... OK
* checking Rd cross-references ... OK
* checking for missing documentation entries ... OK
* checking for code/documentation mismatches ... OK
* checking Rd \usage sections ... OK
* checking Rd contents ... OK
* checking for unstated dependencies in examples ... OK
* checking contents of ‘data’ directory ... OK
* checking data for non-ASCII characters ... OK
* checking data for ASCII and uncompressed saves ... OK
* checking sizes of PDF files under ‘inst/doc’ ... OK
* checking files in ‘vignettes’ ... OK
* checking examples ... OK
Examples with CPU (user + system) or elapsed time > 5s
user system elapsed
spkTools 36.412 1.967 39.308
spkAll 35.476 1.657 37.883
spkGNN 11.683 0.533 12.414
* checking for unstated dependencies in vignettes ... OK
* checking package vignettes in ‘inst/doc’ ... OK
* checking running R code from vignettes ... SKIPPED
* checking re-building of vignette outputs ... SKIPPED
* checking PDF version of manual ... OK
* DONE
Status: 1 NOTE
See
‘/Users/biocbuild/bbs-3.18-bioc-mac-arm64/meat/spkTools.Rcheck/00check.log’
for details.
spkTools.Rcheck/00install.out
############################################################################## ############################################################################## ### ### Running command: ### ### /Library/Frameworks/R.framework/Resources/bin/R CMD INSTALL spkTools ### ############################################################################## ############################################################################## * installing to library ‘/Library/Frameworks/R.framework/Versions/4.3-arm64/Resources/library’ * installing *source* package ‘spkTools’ ... ** using staged installation ** R ** data ** byte-compile and prepare package for lazy loading ** help *** installing help indices ** building package indices ** installing vignettes ** testing if installed package can be loaded from temporary location ** testing if installed package can be loaded from final location ** testing if installed package keeps a record of temporary installation path * DONE (spkTools)
spkTools.Rcheck/spkTools-Ex.timings
| name | user | system | elapsed | |
| SpikeInExpressSet-class | 0.188 | 0.016 | 0.206 | |
| plotSpkBox | 0.824 | 0.032 | 0.861 | |
| spkAccSD | 0.163 | 0.013 | 0.178 | |
| spkAll | 35.476 | 1.657 | 37.883 | |
| spkAnova | 0.085 | 0.005 | 0.091 | |
| spkBal | 0.060 | 0.003 | 0.063 | |
| spkBox | 0.843 | 0.239 | 1.090 | |
| spkDensity | 0.236 | 0.016 | 0.256 | |
| spkGNN | 11.683 | 0.533 | 12.414 | |
| spkMA | 1.519 | 0.088 | 1.751 | |
| spkPair | 0.070 | 0.007 | 0.080 | |
| spkPairNS | 0.082 | 0.015 | 0.104 | |
| spkPot | 0.915 | 0.045 | 1.004 | |
| spkQuantile | 0.124 | 0.007 | 0.136 | |
| spkSlope | 0.123 | 0.007 | 0.136 | |
| spkTools | 36.412 | 1.967 | 39.308 | |
| spkVar | 0.061 | 0.004 | 0.066 | |
| summarySpkBox | 0.860 | 0.038 | 0.905 | |