| Back to Multiple platform build/check report for BioC 3.19: simplified long |
|
This page was generated on 2024-05-09 11:40:45 -0400 (Thu, 09 May 2024).
| Hostname | OS | Arch (*) | R version | Installed pkgs |
|---|---|---|---|---|
| nebbiolo1 | Linux (Ubuntu 22.04.3 LTS) | x86_64 | 4.4.0 (2024-04-24) -- "Puppy Cup" | 4748 |
| palomino3 | Windows Server 2022 Datacenter | x64 | 4.4.0 (2024-04-24 ucrt) -- "Puppy Cup" | 4484 |
| lconway | macOS 12.7.1 Monterey | x86_64 | 4.4.0 (2024-04-24) -- "Puppy Cup" | 4514 |
| kunpeng2 | Linux (openEuler 22.03 LTS-SP1) | aarch64 | 4.4.0 beta (2024-04-15 r86425) -- "Puppy Cup" | 4480 |
| Click on any hostname to see more info about the system (e.g. compilers) (*) as reported by 'uname -p', except on Windows and Mac OS X | ||||
| Package 539/2300 | Hostname | OS / Arch | INSTALL | BUILD | CHECK | BUILD BIN | ||||||||
| DelayedRandomArray 1.12.0 (landing page) Aaron Lun
| nebbiolo1 | Linux (Ubuntu 22.04.3 LTS) / x86_64 | OK | OK | OK | |||||||||
| palomino3 | Windows Server 2022 Datacenter / x64 | OK | OK | OK | OK | |||||||||
| lconway | macOS 12.7.1 Monterey / x86_64 | OK | OK | OK | OK | |||||||||
| kunpeng2 | Linux (openEuler 22.03 LTS-SP1) / aarch64 | OK | OK | OK | ||||||||||
| kjohnson3 | macOS 13.6.5 Ventura / arm64 | see weekly results here | ||||||||||||
|
To the developers/maintainers of the DelayedRandomArray package: - Allow up to 24 hours (and sometimes 48 hours) for your latest push to git@git.bioconductor.org:packages/DelayedRandomArray.git to reflect on this report. See Troubleshooting Build Report for more information. - Use the following Renviron settings to reproduce errors and warnings. - If 'R CMD check' started to fail recently on the Linux builder(s) over a missing dependency, add the missing dependency to 'Suggests:' in your DESCRIPTION file. See Renviron.bioc for more information. - See Martin Grigorov's blog post for how to debug Linux ARM64 related issues on a x86_64 host. |
| Package: DelayedRandomArray |
| Version: 1.12.0 |
| Command: /home/biocbuild/R/R-beta-2024-04-15_r86425/bin/R CMD INSTALL DelayedRandomArray |
| StartedAt: 2024-05-08 20:10:14 -0000 (Wed, 08 May 2024) |
| EndedAt: 2024-05-08 20:11:09 -0000 (Wed, 08 May 2024) |
| EllapsedTime: 54.9 seconds |
| RetCode: 0 |
| Status: OK |
##############################################################################
##############################################################################
###
### Running command:
###
### /home/biocbuild/R/R-beta-2024-04-15_r86425/bin/R CMD INSTALL DelayedRandomArray
###
##############################################################################
##############################################################################
* installing to library ‘/home/biocbuild/R/R-beta-2024-04-15_r86425/site-library’
* installing *source* package ‘DelayedRandomArray’ ...
** using staged installation
** libs
using C++ compiler: ‘g++ (GCC) 10.3.1’
using C++11
g++ -std=gnu++11 -I"/home/biocbuild/R/R-beta-2024-04-15_r86425/include" -DNDEBUG -I'/home/biocbuild/R/R-beta-2024-04-15_r86425/site-library/dqrng/include' -I'/home/biocbuild/R/R-beta-2024-04-15_r86425/site-library/BH/include' -I'/home/biocbuild/R/R-beta-2024-04-15_r86425/site-library/Rcpp/include' -I/usr/local/include -fPIC -g -O2 -Wall -c RcppExports.cpp -o RcppExports.o
g++ -std=gnu++11 -I"/home/biocbuild/R/R-beta-2024-04-15_r86425/include" -DNDEBUG -I'/home/biocbuild/R/R-beta-2024-04-15_r86425/site-library/dqrng/include' -I'/home/biocbuild/R/R-beta-2024-04-15_r86425/site-library/BH/include' -I'/home/biocbuild/R/R-beta-2024-04-15_r86425/site-library/Rcpp/include' -I/usr/local/include -fPIC -g -O2 -Wall -c index_server.cpp -o index_server.o
g++ -std=gnu++11 -I"/home/biocbuild/R/R-beta-2024-04-15_r86425/include" -DNDEBUG -I'/home/biocbuild/R/R-beta-2024-04-15_r86425/site-library/dqrng/include' -I'/home/biocbuild/R/R-beta-2024-04-15_r86425/site-library/BH/include' -I'/home/biocbuild/R/R-beta-2024-04-15_r86425/site-library/Rcpp/include' -I/usr/local/include -fPIC -g -O2 -Wall -c recycle_vector.cpp -o recycle_vector.o
recycle_vector.cpp: In function ‘Rcpp::NumericVector recycle_vector(Rcpp::NumericVector, Rcpp::IntegerVector, Rcpp::List)’:
recycle_vector.cpp:12:23: warning: comparison of integer expressions of different signedness: ‘int’ and ‘size_t’ {aka ‘long unsigned int’} [-Wsign-compare]
12 | for (int i = 0; i < ndims; ++i){
| ~~^~~~~~~
recycle_vector.cpp:21:28: warning: comparison of integer expressions of different signedness: ‘size_t’ {aka ‘long unsigned int’} and ‘const int’ [-Wsign-compare]
21 | while (current_pos < limit) {
| ~~~~~~~~~~~~^~~~~~~
recycle_vector.cpp:37:23: warning: comparison of integer expressions of different signedness: ‘int’ and ‘size_t’ {aka ‘long unsigned int’} [-Wsign-compare]
37 | for (int i = 0; i < ndims; ++i) {
| ~~^~~~~~~
recycle_vector.cpp:48:27: warning: comparison of integer expressions of different signedness: ‘int’ and ‘size_t’ {aka ‘long unsigned int’} [-Wsign-compare]
48 | for (int i = 0; i < ndims; ++i) {
| ~~^~~~~~~
g++ -std=gnu++11 -I"/home/biocbuild/R/R-beta-2024-04-15_r86425/include" -DNDEBUG -I'/home/biocbuild/R/R-beta-2024-04-15_r86425/site-library/dqrng/include' -I'/home/biocbuild/R/R-beta-2024-04-15_r86425/site-library/BH/include' -I'/home/biocbuild/R/R-beta-2024-04-15_r86425/site-library/Rcpp/include' -I/usr/local/include -fPIC -g -O2 -Wall -c sample_standard_uniform.cpp -o sample_standard_uniform.o
In file included from /home/biocbuild/R/R-beta-2024-04-15_r86425/site-library/BH/include/boost/mpl/aux_/na_assert.hpp:23,
from /home/biocbuild/R/R-beta-2024-04-15_r86425/site-library/BH/include/boost/mpl/arg.hpp:25,
from /home/biocbuild/R/R-beta-2024-04-15_r86425/site-library/BH/include/boost/mpl/placeholders.hpp:24,
from /home/biocbuild/R/R-beta-2024-04-15_r86425/site-library/BH/include/boost/iterator/iterator_categories.hpp:16,
from /home/biocbuild/R/R-beta-2024-04-15_r86425/site-library/BH/include/boost/iterator/iterator_concepts.hpp:10,
from /home/biocbuild/R/R-beta-2024-04-15_r86425/site-library/BH/include/boost/range/concepts.hpp:20,
from /home/biocbuild/R/R-beta-2024-04-15_r86425/site-library/BH/include/boost/range/size_type.hpp:20,
from /home/biocbuild/R/R-beta-2024-04-15_r86425/site-library/BH/include/boost/range/size.hpp:21,
from /home/biocbuild/R/R-beta-2024-04-15_r86425/site-library/BH/include/boost/random/hyperexponential_distribution.hpp:29,
from /home/biocbuild/R/R-beta-2024-04-15_r86425/site-library/BH/include/boost/random.hpp:70,
from sample_standard_uniform.cpp:4:
/home/biocbuild/R/R-beta-2024-04-15_r86425/site-library/BH/include/boost/mpl/assert.hpp:194:21: warning: unnecessary parentheses in declaration of ‘assert_arg’ [-Wparentheses]
194 | failed ************ (Pred::************
| ^
/home/biocbuild/R/R-beta-2024-04-15_r86425/site-library/BH/include/boost/mpl/assert.hpp:199:21: warning: unnecessary parentheses in declaration of ‘assert_not_arg’ [-Wparentheses]
199 | failed ************ (boost::mpl::not_<Pred>::************
| ^
g++ -std=gnu++11 -shared -L/home/biocbuild/R/R-beta-2024-04-15_r86425/lib -L/usr/local/lib -o DelayedRandomArray.so RcppExports.o index_server.o recycle_vector.o sample_standard_uniform.o -L/home/biocbuild/R/R-beta-2024-04-15_r86425/lib -lR
installing to /home/biocbuild/R/R-beta-2024-04-15_r86425/site-library/00LOCK-DelayedRandomArray/00new/DelayedRandomArray/libs
** R
** inst
** byte-compile and prepare package for lazy loading
** help
*** installing help indices
** building package indices
** installing vignettes
** testing if installed package can be loaded from temporary location
** checking absolute paths in shared objects and dynamic libraries
** testing if installed package can be loaded from final location
** testing if installed package keeps a record of temporary installation path
* DONE (DelayedRandomArray)