| Back to Multiple platform build/check report for BioC 3.19: simplified long |
|
This page was generated on 2024-06-11 14:42 -0400 (Tue, 11 Jun 2024).
| Hostname | OS | Arch (*) | R version | Installed pkgs |
|---|---|---|---|---|
| nebbiolo1 | Linux (Ubuntu 22.04.3 LTS) | x86_64 | 4.4.0 (2024-04-24) -- "Puppy Cup" | 4757 |
| palomino3 | Windows Server 2022 Datacenter | x64 | 4.4.0 (2024-04-24 ucrt) -- "Puppy Cup" | 4491 |
| lconway | macOS 12.7.1 Monterey | x86_64 | 4.4.0 (2024-04-24) -- "Puppy Cup" | 4522 |
| kjohnson3 | macOS 13.6.5 Ventura | arm64 | 4.4.0 (2024-04-24) -- "Puppy Cup" | 4468 |
| Click on any hostname to see more info about the system (e.g. compilers) (*) as reported by 'uname -p', except on Windows and Mac OS X | ||||
| Package 817/2300 | Hostname | OS / Arch | INSTALL | BUILD | CHECK | BUILD BIN | ||||||||
| GeneStructureTools 1.24.0 (landing page) Beth Signal
| nebbiolo1 | Linux (Ubuntu 22.04.3 LTS) / x86_64 | OK | OK | OK | |||||||||
| palomino3 | Windows Server 2022 Datacenter / x64 | OK | OK | OK | OK | |||||||||
| lconway | macOS 12.7.1 Monterey / x86_64 | OK | OK | OK | OK | |||||||||
| kjohnson3 | macOS 13.6.5 Ventura / arm64 | OK | OK | OK | OK | |||||||||
|
To the developers/maintainers of the GeneStructureTools package: - Allow up to 24 hours (and sometimes 48 hours) for your latest push to git@git.bioconductor.org:packages/GeneStructureTools.git to reflect on this report. See Troubleshooting Build Report for more information. - Use the following Renviron settings to reproduce errors and warnings. - If 'R CMD check' started to fail recently on the Linux builder(s) over a missing dependency, add the missing dependency to 'Suggests:' in your DESCRIPTION file. See Renviron.bioc for more information. |
| Package: GeneStructureTools |
| Version: 1.24.0 |
| Command: /Library/Frameworks/R.framework/Resources/bin/R CMD check --install=check:GeneStructureTools.install-out.txt --library=/Library/Frameworks/R.framework/Resources/library --no-vignettes --timings GeneStructureTools_1.24.0.tar.gz |
| StartedAt: 2024-06-09 20:33:10 -0400 (Sun, 09 Jun 2024) |
| EndedAt: 2024-06-09 20:40:28 -0400 (Sun, 09 Jun 2024) |
| EllapsedTime: 437.4 seconds |
| RetCode: 0 |
| Status: OK |
| CheckDir: GeneStructureTools.Rcheck |
| Warnings: 0 |
##############################################################################
##############################################################################
###
### Running command:
###
### /Library/Frameworks/R.framework/Resources/bin/R CMD check --install=check:GeneStructureTools.install-out.txt --library=/Library/Frameworks/R.framework/Resources/library --no-vignettes --timings GeneStructureTools_1.24.0.tar.gz
###
##############################################################################
##############################################################################
* using log directory ‘/Users/biocbuild/bbs-3.19-bioc/meat/GeneStructureTools.Rcheck’
* using R version 4.4.0 (2024-04-24)
* using platform: x86_64-apple-darwin20
* R was compiled by
Apple clang version 14.0.0 (clang-1400.0.29.202)
GNU Fortran (GCC) 12.2.0
* running under: macOS Monterey 12.7.1
* using session charset: UTF-8
* using option ‘--no-vignettes’
* checking for file ‘GeneStructureTools/DESCRIPTION’ ... OK
* checking extension type ... Package
* this is package ‘GeneStructureTools’ version ‘1.24.0’
* package encoding: UTF-8
* checking package namespace information ... OK
* checking package dependencies ... OK
* checking if this is a source package ... OK
* checking if there is a namespace ... OK
* checking for hidden files and directories ... OK
* checking for portable file names ... OK
* checking for sufficient/correct file permissions ... OK
* checking whether package ‘GeneStructureTools’ can be installed ... OK
* checking installed package size ... OK
* checking package directory ... OK
* checking ‘build’ directory ... OK
* checking DESCRIPTION meta-information ... OK
* checking top-level files ... OK
* checking for left-over files ... OK
* checking index information ... OK
* checking package subdirectories ... OK
* checking code files for non-ASCII characters ... OK
* checking R files for syntax errors ... OK
* checking whether the package can be loaded ... OK
* checking whether the package can be loaded with stated dependencies ... OK
* checking whether the package can be unloaded cleanly ... OK
* checking whether the namespace can be loaded with stated dependencies ... OK
* checking whether the namespace can be unloaded cleanly ... OK
* checking dependencies in R code ... OK
* checking S3 generic/method consistency ... OK
* checking replacement functions ... OK
* checking foreign function calls ... OK
* checking R code for possible problems ... OK
* checking Rd files ... OK
* checking Rd metadata ... OK
* checking Rd cross-references ... OK
* checking for missing documentation entries ... OK
* checking for code/documentation mismatches ... OK
* checking Rd \usage sections ... OK
* checking Rd contents ... OK
* checking for unstated dependencies in examples ... OK
* checking files in ‘vignettes’ ... OK
* checking examples ... OK
Examples with CPU (user + system) or elapsed time > 5s
user system elapsed
leafcutterTranscriptChangeSummary 26.551 1.072 27.692
whippetTranscriptChangeSummary 13.487 0.222 13.840
* checking for unstated dependencies in vignettes ... OK
* checking package vignettes ... OK
* checking running R code from vignettes ... SKIPPED
* checking re-building of vignette outputs ... SKIPPED
* checking PDF version of manual ... OK
* DONE
Status: OK
GeneStructureTools.Rcheck/00install.out
############################################################################## ############################################################################## ### ### Running command: ### ### /Library/Frameworks/R.framework/Resources/bin/R CMD INSTALL GeneStructureTools ### ############################################################################## ############################################################################## * installing to library ‘/Library/Frameworks/R.framework/Versions/4.4-x86_64/Resources/library’ * installing *source* package ‘GeneStructureTools’ ... ** using staged installation ** R ** inst ** byte-compile and prepare package for lazy loading ** help *** installing help indices ** building package indices ** installing vignettes ** testing if installed package can be loaded from temporary location ** testing if installed package can be loaded from final location ** testing if installed package keeps a record of temporary installation path * DONE (GeneStructureTools)
GeneStructureTools.Rcheck/GeneStructureTools-Ex.timings
| name | user | system | elapsed | |
| DEXSeqIdsToGeneIds | 0.004 | 0.001 | 0.005 | |
| UTR2UTR53 | 2.270 | 0.080 | 2.357 | |
| addBroadTypes | 0.226 | 0.006 | 0.233 | |
| addIntronInTranscript | 2.071 | 0.094 | 2.308 | |
| alternativeIntronUsage | 4.925 | 0.025 | 4.964 | |
| annotateGeneModel | 0.994 | 0.014 | 1.012 | |
| attrChangeAltSpliced | 1.417 | 0.105 | 1.652 | |
| coordinates-methods | 0.081 | 0.077 | 0.262 | |
| diffSplicingResults-methods | 0.084 | 0.081 | 0.274 | |
| exonsToTranscripts | 0.347 | 0.010 | 0.358 | |
| filterGtfOverlap | 0.246 | 0.006 | 0.254 | |
| filterWhippetEvents | 0.087 | 0.075 | 0.266 | |
| findDEXexonType | 2.816 | 0.020 | 2.844 | |
| findExonContainingTranscripts | 0.449 | 0.080 | 0.635 | |
| findIntronContainingTranscripts | 0.722 | 0.077 | 0.898 | |
| findJunctionPairs | 1.392 | 0.086 | 1.575 | |
| formatWhippetEvents | 0.017 | 0.009 | 0.037 | |
| getOrfs | 0.779 | 0.017 | 0.800 | |
| getUOrfs | 0.651 | 0.012 | 0.666 | |
| junctions-methods | 0.077 | 0.073 | 0.249 | |
| leafcutterTranscriptChangeSummary | 26.551 | 1.072 | 27.692 | |
| makeGeneModel | 0.188 | 0.007 | 0.198 | |
| maxLocation | 0.004 | 0.001 | 0.005 | |
| orfDiff | 1.802 | 0.101 | 2.035 | |
| orfSimilarity | 0.001 | 0.001 | 0.001 | |
| overlapTypes | 2.623 | 0.016 | 2.644 | |
| readCounts-methods | 0.077 | 0.071 | 0.252 | |
| readWhippetDIFFfiles | 0.008 | 0.013 | 0.037 | |
| readWhippetDataSet | 0.076 | 0.070 | 0.259 | |
| readWhippetJNCfiles | 0.037 | 0.032 | 0.119 | |
| readWhippetPSIfiles | 0.021 | 0.033 | 0.106 | |
| removeDuplicateTranscripts | 0.256 | 0.005 | 0.263 | |
| removeSameExon | 0.225 | 0.004 | 0.230 | |
| removeVersion | 0.000 | 0.000 | 0.001 | |
| reorderExonNumbers | 0.175 | 0.006 | 0.182 | |
| replaceJunction | 4.118 | 0.094 | 4.341 | |
| skipExonInTranscript | 1.248 | 0.081 | 1.463 | |
| summariseExonTypes | 2.342 | 0.014 | 2.359 | |
| transcriptChangeSummary | 1.720 | 0.091 | 1.916 | |
| whippetTranscriptChangeSummary | 13.487 | 0.222 | 13.840 | |