| Back to Multiple platform build/check report for BioC 3.19: simplified long |
|
This page was generated on 2024-06-11 14:42 -0400 (Tue, 11 Jun 2024).
| Hostname | OS | Arch (*) | R version | Installed pkgs |
|---|---|---|---|---|
| nebbiolo1 | Linux (Ubuntu 22.04.3 LTS) | x86_64 | 4.4.0 (2024-04-24) -- "Puppy Cup" | 4757 |
| palomino3 | Windows Server 2022 Datacenter | x64 | 4.4.0 (2024-04-24 ucrt) -- "Puppy Cup" | 4491 |
| lconway | macOS 12.7.1 Monterey | x86_64 | 4.4.0 (2024-04-24) -- "Puppy Cup" | 4522 |
| kjohnson3 | macOS 13.6.5 Ventura | arm64 | 4.4.0 (2024-04-24) -- "Puppy Cup" | 4468 |
| Click on any hostname to see more info about the system (e.g. compilers) (*) as reported by 'uname -p', except on Windows and Mac OS X | ||||
| Package 1343/2300 | Hostname | OS / Arch | INSTALL | BUILD | CHECK | BUILD BIN | ||||||||
| MsBackendRawFileReader 1.10.0 (landing page) Christian Panse
| nebbiolo1 | Linux (Ubuntu 22.04.3 LTS) / x86_64 | OK | OK | OK | |||||||||
| palomino3 | Windows Server 2022 Datacenter / x64 | OK | OK | OK | OK | |||||||||
| lconway | macOS 12.7.1 Monterey / x86_64 | OK | OK | OK | OK | |||||||||
| kjohnson3 | macOS 13.6.5 Ventura / arm64 | ERROR | ERROR | skipped | skipped | |||||||||
|
To the developers/maintainers of the MsBackendRawFileReader package: - Allow up to 24 hours (and sometimes 48 hours) for your latest push to git@git.bioconductor.org:packages/MsBackendRawFileReader.git to reflect on this report. See Troubleshooting Build Report for more information. - Use the following Renviron settings to reproduce errors and warnings. - If 'R CMD check' started to fail recently on the Linux builder(s) over a missing dependency, add the missing dependency to 'Suggests:' in your DESCRIPTION file. See Renviron.bioc for more information. |
| Package: MsBackendRawFileReader |
| Version: 1.10.0 |
| Command: /Library/Frameworks/R.framework/Resources/bin/R CMD check --install=check:MsBackendRawFileReader.install-out.txt --library=/Library/Frameworks/R.framework/Resources/library --no-vignettes --timings MsBackendRawFileReader_1.10.0.tar.gz |
| StartedAt: 2024-06-09 21:42:23 -0400 (Sun, 09 Jun 2024) |
| EndedAt: 2024-06-09 21:46:28 -0400 (Sun, 09 Jun 2024) |
| EllapsedTime: 244.2 seconds |
| RetCode: 0 |
| Status: OK |
| CheckDir: MsBackendRawFileReader.Rcheck |
| Warnings: 0 |
##############################################################################
##############################################################################
###
### Running command:
###
### /Library/Frameworks/R.framework/Resources/bin/R CMD check --install=check:MsBackendRawFileReader.install-out.txt --library=/Library/Frameworks/R.framework/Resources/library --no-vignettes --timings MsBackendRawFileReader_1.10.0.tar.gz
###
##############################################################################
##############################################################################
* using log directory ‘/Users/biocbuild/bbs-3.19-bioc/meat/MsBackendRawFileReader.Rcheck’
* using R version 4.4.0 (2024-04-24)
* using platform: x86_64-apple-darwin20
* R was compiled by
Apple clang version 14.0.0 (clang-1400.0.29.202)
GNU Fortran (GCC) 12.2.0
* running under: macOS Monterey 12.7.1
* using session charset: UTF-8
* using option ‘--no-vignettes’
* checking for file ‘MsBackendRawFileReader/DESCRIPTION’ ... OK
* checking extension type ... Package
* this is package ‘MsBackendRawFileReader’ version ‘1.10.0’
* package encoding: UTF-8
* checking package namespace information ... OK
* checking package dependencies ... OK
* checking if this is a source package ... OK
* checking if there is a namespace ... OK
* checking for hidden files and directories ... OK
* checking for portable file names ... OK
* checking for sufficient/correct file permissions ... OK
* checking whether package ‘MsBackendRawFileReader’ can be installed ... OK
* checking installed package size ... OK
* checking package directory ... OK
* checking ‘build’ directory ... OK
* checking DESCRIPTION meta-information ... OK
* checking top-level files ... OK
* checking for left-over files ... OK
* checking index information ... OK
* checking package subdirectories ... OK
* checking code files for non-ASCII characters ... OK
* checking R files for syntax errors ... OK
* checking whether the package can be loaded ... OK
* checking whether the package can be loaded with stated dependencies ... OK
* checking whether the package can be unloaded cleanly ... OK
* checking whether the namespace can be loaded with stated dependencies ... OK
* checking whether the namespace can be unloaded cleanly ... OK
* checking whether startup messages can be suppressed ... OK
* checking dependencies in R code ... OK
* checking S3 generic/method consistency ... OK
* checking replacement functions ... OK
* checking foreign function calls ... OK
* checking R code for possible problems ... NOTE
filterScan,MsBackendRawFileReader : <anonymous>: no visible global
function definition for ‘scanIndex’
peaksData,MsBackendRawFileReader: no visible global function definition
for ‘scanIndex’
Undefined global functions or variables:
scanIndex
* checking Rd files ... OK
* checking Rd metadata ... OK
* checking Rd cross-references ... OK
* checking for missing documentation entries ... OK
* checking for code/documentation mismatches ... OK
* checking Rd \usage sections ... OK
* checking Rd contents ... OK
* checking for unstated dependencies in examples ... OK
* checking files in ‘vignettes’ ... OK
* checking examples ... OK
Examples with CPU (user + system) or elapsed time > 5s
user system elapsed
ioBenchmark 47.614 9.660 24.348
MsBackendRawFileReader 6.482 2.665 10.020
MsBackendRawFileReader-class 4.213 1.355 6.062
* checking for unstated dependencies in ‘tests’ ... OK
* checking tests ...
Running ‘testthat.R’
OK
* checking for unstated dependencies in vignettes ... OK
* checking package vignettes ... OK
* checking running R code from vignettes ... SKIPPED
* checking re-building of vignette outputs ... SKIPPED
* checking PDF version of manual ... OK
* DONE
Status: 1 NOTE
See
‘/Users/biocbuild/bbs-3.19-bioc/meat/MsBackendRawFileReader.Rcheck/00check.log’
for details.
MsBackendRawFileReader.Rcheck/00install.out
############################################################################## ############################################################################## ### ### Running command: ### ### /Library/Frameworks/R.framework/Resources/bin/R CMD INSTALL MsBackendRawFileReader ### ############################################################################## ############################################################################## * installing to library ‘/Library/Frameworks/R.framework/Versions/4.4-x86_64/Resources/library’ * installing *source* package ‘MsBackendRawFileReader’ ... ** using staged installation ** R ** inst ** byte-compile and prepare package for lazy loading ** help *** installing help indices ** building package indices ** installing vignettes ** testing if installed package can be loaded from temporary location ** testing if installed package can be loaded from final location ** testing if installed package keeps a record of temporary installation path * DONE (MsBackendRawFileReader)
MsBackendRawFileReader.Rcheck/tests/testthat.Rout
R version 4.4.0 (2024-04-24) -- "Puppy Cup"
Copyright (C) 2024 The R Foundation for Statistical Computing
Platform: x86_64-apple-darwin20
R is free software and comes with ABSOLUTELY NO WARRANTY.
You are welcome to redistribute it under certain conditions.
Type 'license()' or 'licence()' for distribution details.
R is a collaborative project with many contributors.
Type 'contributors()' for more information and
'citation()' on how to cite R or R packages in publications.
Type 'demo()' for some demos, 'help()' for on-line help, or
'help.start()' for an HTML browser interface to help.
Type 'q()' to quit R.
> library("testthat")
> library("MsBackendRawFileReader")
Loading required package: Spectra
Loading required package: S4Vectors
Loading required package: stats4
Loading required package: BiocGenerics
Attaching package: 'BiocGenerics'
The following objects are masked from 'package:stats':
IQR, mad, sd, var, xtabs
The following objects are masked from 'package:base':
Filter, Find, Map, Position, Reduce, anyDuplicated, aperm, append,
as.data.frame, basename, cbind, colnames, dirname, do.call,
duplicated, eval, evalq, get, grep, grepl, intersect, is.unsorted,
lapply, mapply, match, mget, order, paste, pmax, pmax.int, pmin,
pmin.int, rank, rbind, rownames, sapply, setdiff, table, tapply,
union, unique, unsplit, which.max, which.min
Attaching package: 'S4Vectors'
The following object is masked from 'package:utils':
findMatches
The following objects are masked from 'package:base':
I, expand.grid, unname
Loading required package: BiocParallel
Loading required package: ProtGenerics
Attaching package: 'ProtGenerics'
The following object is masked from 'package:stats':
smooth
> library("Spectra")
>
>
> sample_raw_file <- file.path(system.file(package = "rawrr"),
+ 'extdata', 'sample.raw')
>
> sample_mzXML_file <- file.path(path.package(package = 'MsBackendRawFileReader'),
+ 'extdata', 'sample.mzXML')
>
>
> sample_raw <- backendInitialize(MsBackendRawFileReader::MsBackendRawFileReader(), files = sample_raw_file)
>
>
> #sample_mzr <- backendInitialize(MsBackendMzR(), files = sample_mzXML_file)
>
>
> mgf_file <- file.path(system.file(package = "MsBackendRawFileReader"),
+ 'extdata', '3159619b11ed_4590_9594.mgf')
>
>
> rv <- lapply(1:2, function(x){
+ file.copy(from = sample_raw_file, to = tempfile(fileext='.raw'))})
>
>
> register(SnowParam(workers = 1, type = "SOCK") , default = TRUE);
> sample_raw_2 <- backendInitialize(MsBackendRawFileReader(),
+ files = file.path(tempdir(),
+ list.files(path = tempdir(), pattern = 'raw$')))
>
>
> test_check("MsBackendRawFileReader")
[ FAIL 0 | WARN 1 | SKIP 2 | PASS 21 ]
══ Skipped tests (2) ═══════════════════════════════════════════════════════════
• isFALSE(file.exists(sample_mzXML_file)) is TRUE (1):
'test_MsBackendMzR_MsBackendRawFileReader.R:1:1'
• isFALSE(require(MsBackendRawMgf)) is TRUE (1): 'test_top_n_mgf.R:1:1'
[ FAIL 0 | WARN 1 | SKIP 2 | PASS 21 ]
>
>
> be <- Spectra::backendInitialize(MsBackendRawFileReader::MsBackendRawFileReader(),
+ files = c(sample_raw_file))
>
> ## Run the MsBackend spectra variable test suite
> test_suite <- system.file("test_backends", "test_MsBackend",
+ package = "Spectra")
>
> #res <- test_file(paste0(test_suite, "/test_spectra_variables.R"),
> # reporter = check_reporter(), stop_on_failure = TRUE)
>
>
> ## Run the whole suite.
> res <- test_dir(test_suite, stop_on_failure = TRUE)
✔ | F W S OK | Context
⠏ | 0 | peaks_variables
⠙ | 2 | peaks_variables
⠸ | 4 | peaks_variables
✔ | 4 | peaks_variables [5.6s]
⠏ | 0 | spectra_subsetting
⠋ | 1 | spectra_subsetting
⠸ | 14 | spectra_subsetting
⠼ | 25 | spectra_subsetting
⠸ | 34 | spectra_subsetting
⠴ | 46 | spectra_subsetting
⠧ | 58 | spectra_subsetting
⠧ | 68 | spectra_subsetting
⠇ | 79 | spectra_subsetting
⠋ | 91 | spectra_subsetting
⠹ | 103 | spectra_subsetting
⠼ | 115 | spectra_subsetting
⠦ | 127 | spectra_subsetting
⠇ | 139 | spectra_subsetting
⠇ | 149 | spectra_subsetting
⠏ | 160 | spectra_subsetting
⠙ | 172 | spectra_subsetting
⠋ | 181 | spectra_subsetting
⠹ | 193 | spectra_subsetting
⠼ | 205 | spectra_subsetting
⠸ | 214 | spectra_subsetting
⠴ | 226 | spectra_subsetting
⠧ | 238 | spectra_subsetting
⠏ | 250 | spectra_subsetting
⠙ | 262 | spectra_subsetting
⠸ | 274 | spectra_subsetting
⠴ | 286 | spectra_subsetting
⠧ | 298 | spectra_subsetting
⠏ | 310 | spectra_subsetting
⠋ | 321 | spectra_subsetting
⠋ | 331 | spectra_subsetting
⠸ | 344 | spectra_subsetting
⠼ | 355 | spectra_subsetting
⠼ | 365 | spectra_subsetting
⠦ | 377 | spectra_subsetting
⠇ | 389 | spectra_subsetting
⠧ | 398 | spectra_subsetting
⠇ | 409 | spectra_subsetting
⠋ | 421 | spectra_subsetting
⠙ | 432 | spectra_subsetting
⠙ | 442 | spectra_subsetting
⠸ | 454 | spectra_subsetting
⠴ | 466 | spectra_subsetting
⠴ | 476 | spectra_subsetting
⠦ | 487 | spectra_subsetting
⠇ | 499 | spectra_subsetting
⠧ | 508 | spectra_subsetting
⠏ | 520 | spectra_subsetting
⠙ | 532 | spectra_subsetting
⠙ | 542 | spectra_subsetting
⠹ | 553 | spectra_subsetting
⠼ | 565 | spectra_subsetting
⠼ | 575 | spectra_subsetting
⠴ | 586 | spectra_subsetting
⠧ | 598 | spectra_subsetting
⠏ | 610 | spectra_subsetting
⠙ | 622 | spectra_subsetting
⠸ | 634 | spectra_subsetting
⠼ | 645 | spectra_subsetting
⠹ | 653 | spectra_subsetting
⠴ | 666 | spectra_subsetting
⠴ | 676 | spectra_subsetting
⠼ | 685 | spectra_subsetting
⠦ | 697 | spectra_subsetting
⠇ | 709 | spectra_subsetting
⠇ | 719 | spectra_subsetting
⠏ | 730 | spectra_subsetting
⠙ | 742 | spectra_subsetting
⠹ | 753 | spectra_subsetting
⠙ | 762 | spectra_subsetting
⠙ | 772 | spectra_subsetting
⠸ | 784 | spectra_subsetting
⠸ | 794 | spectra_subsetting
⠼ | 805 | spectra_subsetting
⠦ | 817 | spectra_subsetting
⠦ | 827 | spectra_subsetting
⠦ | 837 | spectra_subsetting
⠦ | 847 | spectra_subsetting
⠇ | 859 | spectra_subsetting
⠧ | 868 | spectra_subsetting
⠏ | 880 | spectra_subsetting
⠙ | 892 | spectra_subsetting
⠋ | 901 | spectra_subsetting
⠹ | 913 | spectra_subsetting
⠼ | 925 | spectra_subsetting
⠸ | 934 | spectra_subsetting
⠹ | 943 | spectra_subsetting
⠼ | 955 | spectra_subsetting
⠦ | 967 | spectra_subsetting
⠴ | 976 | spectra_subsetting
⠧ | 988 | spectra_subsetting
⠏ | 1000 | spectra_subsetting
⠇ | 1009 | spectra_subsetting
⠋ | 1021 | spectra_subsetting
⠹ | 1033 | spectra_subsetting
⠙ | 1042 | spectra_subsetting
⠹ | 1053 | spectra_subsetting
⠴ | 1066 | spectra_subsetting
⠴ | 1076 | spectra_subsetting
⠼ | 1085 | spectra_subsetting
⠴ | 1096 | spectra_subsetting
⠧ | 1108 | spectra_subsetting
⠦ | 1117 | spectra_subsetting
⠧ | 1128 | spectra_subsetting
⠧ | 1138 | spectra_subsetting
⠇ | 1149 | spectra_subsetting
⠇ | 1159 | spectra_subsetting
⠋ | 1171 | spectra_subsetting
⠹ | 1183 | spectra_subsetting
⠹ | 1193 | spectra_subsetting
⠸ | 1204 | spectra_subsetting
⠴ | 1216 | spectra_subsetting
⠼ | 1225 | spectra_subsetting
⠦ | 1237 | spectra_subsetting
⠧ | 1248 | spectra_subsetting
⠧ | 1258 | spectra_subsetting
⠦ | 1267 | spectra_subsetting
⠇ | 1279 | spectra_subsetting
⠇ | 1289 | spectra_subsetting
⠇ | 1299 | spectra_subsetting
⠏ | 1310 | spectra_subsetting
⠋ | 1321 | spectra_subsetting
⠏ | 1330 | spectra_subsetting
⠙ | 1342 | spectra_subsetting
⠸ | 1354 | spectra_subsetting
⠹ | 1363 | spectra_subsetting
⠼ | 1375 | spectra_subsetting
⠦ | 1387 | spectra_subsetting
⠇ | 1399 | spectra_subsetting
⠇ | 1409 | spectra_subsetting
⠏ | 1420 | spectra_subsetting
⠋ | 1431 | spectra_subsetting
⠇ | 1439 | spectra_subsetting
⠏ | 1450 | spectra_subsetting
⠏ | 1460 | spectra_subsetting
⠧ | 1468 | spectra_subsetting
⠧ | 1478 | spectra_subsetting
⠇ | 1489 | spectra_subsetting
⠏ | 1500 | spectra_subsetting
⠦ | 1507 | spectra_subsetting
⠇ | 1519 | spectra_subsetting
⠋ | 1531 | spectra_subsetting
⠹ | 1543 | spectra_subsetting
⠼ | 1555 | spectra_subsetting
⠦ | 1567 | spectra_subsetting
⠧ | 1578 | spectra_subsetting
⠧ | 1588 | spectra_subsetting
⠏ | 1600 | spectra_subsetting
⠙ | 1612 | spectra_subsetting
⠋ | 1621 | spectra_subsetting
⠹ | 1633 | spectra_subsetting
⠼ | 1645 | spectra_subsetting
⠼ | 1655 | spectra_subsetting
⠧ | 1668 | spectra_subsetting
⠏ | 1680 | spectra_subsetting
⠧ | 1688 | spectra_subsetting
⠇ | 1699 | spectra_subsetting
⠋ | 1711 | spectra_subsetting
⠏ | 1720 | spectra_subsetting
⠦ | 1727 | spectra_subsetting
⠇ | 1729 | spectra_subsetting
⠋ | 1731 | spectra_subsetting
⠹ | 1733 | spectra_subsetting
⠴ | 1736 | spectra_subsetting
⠧ | 1738 | spectra_subsetting
⠏ | 1740 | spectra_subsetting
⠙ | 1742 | spectra_subsetting
⠸ | 1744 | spectra_subsetting
⠴ | 1746 | spectra_subsetting
⠧ | 1748 | spectra_subsetting
⠏ | 1750 | spectra_subsetting
⠙ | 1752 | spectra_subsetting
⠸ | 1754 | spectra_subsetting
⠴ | 1756 | spectra_subsetting
⠇ | 1759 | spectra_subsetting
⠋ | 1761 | spectra_subsetting
⠹ | 1763 | spectra_subsetting
⠼ | 1765 | spectra_subsetting
⠦ | 1767 | spectra_subsetting
⠏ | 1770 | spectra_subsetting
⠙ | 1772 | spectra_subsetting
⠸ | 1774 | spectra_subsetting
⠴ | 1776 | spectra_subsetting
⠧ | 1778 | spectra_subsetting
⠏ | 1780 | spectra_subsetting
⠙ | 1782 | spectra_subsetting
⠸ | 1784 | spectra_subsetting
⠴ | 1786 | spectra_subsetting
⠧ | 1788 | spectra_subsetting
⠏ | 1790 | spectra_subsetting
⠙ | 1792 | spectra_subsetting
⠸ | 1794 | spectra_subsetting
⠴ | 1796 | spectra_subsetting
⠧ | 1798 | spectra_subsetting
⠏ | 1800 | spectra_subsetting
⠙ | 1802 | spectra_subsetting
⠸ | 1804 | spectra_subsetting
⠴ | 1806 | spectra_subsetting
⠇ | 1809 | spectra_subsetting
⠙ | 1812 | spectra_subsetting
⠸ | 1814 | spectra_subsetting
⠴ | 1816 | spectra_subsetting
⠧ | 1818 | spectra_subsetting
⠏ | 1820 | spectra_subsetting
⠙ | 1822 | spectra_subsetting
⠸ | 1824 | spectra_subsetting
⠴ | 1826 | spectra_subsetting
⠧ | 1828 | spectra_subsetting
⠏ | 1830 | spectra_subsetting
⠙ | 1832 | spectra_subsetting
⠼ | 1835 | spectra_subsetting
⠦ | 1837 | spectra_subsetting
⠇ | 1839 | spectra_subsetting
⠙ | 1842 | spectra_subsetting
⠸ | 1844 | spectra_subsetting
⠴ | 1846 | spectra_subsetting
⠧ | 1848 | spectra_subsetting
⠏ | 1850 | spectra_subsetting
⠙ | 1852 | spectra_subsetting
⠸ | 1854 | spectra_subsetting
⠴ | 1856 | spectra_subsetting
⠧ | 1858 | spectra_subsetting
⠏ | 1860 | spectra_subsetting
⠙ | 1862 | spectra_subsetting
⠸ | 1864 | spectra_subsetting
⠴ | 1866 | spectra_subsetting
⠧ | 1868 | spectra_subsetting
⠋ | 1871 | spectra_subsetting
⠹ | 1873 | spectra_subsetting
⠼ | 1875 | spectra_subsetting
⠦ | 1877 | spectra_subsetting
⠇ | 1879 | spectra_subsetting
⠋ | 1881 | spectra_subsetting
⠹ | 1883 | spectra_subsetting
⠼ | 1885 | spectra_subsetting
⠦ | 1887 | spectra_subsetting
⠇ | 1889 | spectra_subsetting
⠋ | 1891 | spectra_subsetting
⠹ | 1893 | spectra_subsetting
⠼ | 1895 | spectra_subsetting
⠧ | 1898 | spectra_subsetting
⠏ | 1900 | spectra_subsetting
⠙ | 1902 | spectra_subsetting
⠼ | 1905 | spectra_subsetting
⠧ | 1908 | spectra_subsetting
⠋ | 1911 | spectra_subsetting
⠹ | 1913 | spectra_subsetting
⠼ | 1915 | spectra_subsetting
⠦ | 1917 | spectra_subsetting
⠇ | 1919 | spectra_subsetting
⠋ | 1921 | spectra_subsetting
⠹ | 1923 | spectra_subsetting
⠴ | 1926 | spectra_subsetting
⠇ | 1929 | spectra_subsetting
⠙ | 1932 | spectra_subsetting
⠼ | 1935 | spectra_subsetting
⠧ | 1938 | spectra_subsetting
⠋ | 1941 | spectra_subsetting
⠸ | 1944 | spectra_subsetting
⠦ | 1947 | spectra_subsetting
⠏ | 1950 | spectra_subsetting
⠹ | 1953 | spectra_subsetting
⠴ | 1956 | spectra_subsetting
⠧ | 1958 | spectra_subsetting
⠏ | 1960 | spectra_subsetting
⠙ | 1962 | spectra_subsetting
⠸ | 1964 | spectra_subsetting
⠴ | 1966 | spectra_subsetting
⠧ | 1968 | spectra_subsetting
⠏ | 1970 | spectra_subsetting
⠙ | 1972 | spectra_subsetting
⠸ | 1974 | spectra_subsetting
⠴ | 1976 | spectra_subsetting
⠧ | 1978 | spectra_subsetting
⠏ | 1980 | spectra_subsetting
⠙ | 1982 | spectra_subsetting
⠸ | 1984 | spectra_subsetting
⠴ | 1986 | spectra_subsetting
⠇ | 1989 | spectra_subsetting
⠙ | 1992 | spectra_subsetting
⠸ | 1994 | spectra_subsetting
⠴ | 1996 | spectra_subsetting
⠧ | 1998 | spectra_subsetting
⠏ | 2000 | spectra_subsetting
⠙ | 2002 | spectra_subsetting
⠸ | 2004 | spectra_subsetting
⠴ | 2006 | spectra_subsetting
⠧ | 2008 | spectra_subsetting
⠋ | 2011 | spectra_subsetting
⠹ | 2013 | spectra_subsetting
⠼ | 2015 | spectra_subsetting
⠧ | 2018 | spectra_subsetting
⠋ | 2021 | spectra_subsetting
⠸ | 2024 | spectra_subsetting
⠴ | 2026 | spectra_subsetting
⠇ | 2029 | spectra_subsetting
⠋ | 2031 | spectra_subsetting
⠹ | 2033 | spectra_subsetting
⠼ | 2035 | spectra_subsetting
⠦ | 2037 | spectra_subsetting
⠇ | 2039 | spectra_subsetting
⠋ | 2041 | spectra_subsetting
⠸ | 2044 | spectra_subsetting
⠦ | 2047 | spectra_subsetting
⠏ | 2050 | spectra_subsetting
⠙ | 2052 | spectra_subsetting
⠸ | 2054 | spectra_subsetting
⠴ | 2056 | spectra_subsetting
⠇ | 2059 | spectra_subsetting
⠙ | 2062 | spectra_subsetting
⠼ | 2065 | spectra_subsetting
⠧ | 2068 | spectra_subsetting
⠋ | 2071 | spectra_subsetting
⠸ | 2074 | spectra_subsetting
⠦ | 2077 | spectra_subsetting
⠏ | 2080 | spectra_subsetting
⠙ | 2082 | spectra_subsetting
⠸ | 2084 | spectra_subsetting
⠴ | 2086 | spectra_subsetting
⠧ | 2088 | spectra_subsetting
⠏ | 2090 | spectra_subsetting
⠹ | 2093 | spectra_subsetting
⠼ | 2095 | spectra_subsetting
⠦ | 2097 | spectra_subsetting
⠇ | 2099 | spectra_subsetting
⠋ | 2101 | spectra_subsetting
⠹ | 2103 | spectra_subsetting
⠼ | 2105 | spectra_subsetting
⠦ | 2107 | spectra_subsetting
⠏ | 2110 | spectra_subsetting
⠙ | 2112 | spectra_subsetting
⠼ | 2115 | spectra_subsetting
⠦ | 2117 | spectra_subsetting
⠏ | 2120 | spectra_subsetting
⠹ | 2123 | spectra_subsetting
⠼ | 2125 | spectra_subsetting
⠦ | 2127 | spectra_subsetting
⠇ | 2129 | spectra_subsetting
⠙ | 2132 | spectra_subsetting
⠸ | 2134 | spectra_subsetting
⠴ | 2136 | spectra_subsetting
⠧ | 2138 | spectra_subsetting
⠏ | 2140 | spectra_subsetting
⠙ | 2142 | spectra_subsetting
⠸ | 2144 | spectra_subsetting
⠦ | 2147 | spectra_subsetting
⠇ | 2149 | spectra_subsetting
⠋ | 2151 | spectra_subsetting
⠹ | 2153 | spectra_subsetting
⠼ | 2155 | spectra_subsetting
⠦ | 2157 | spectra_subsetting
⠏ | 2160 | spectra_subsetting
⠹ | 2163 | spectra_subsetting
⠴ | 2166 | spectra_subsetting
⠇ | 2169 | spectra_subsetting
⠙ | 2172 | spectra_subsetting
⠼ | 2175 | spectra_subsetting
⠧ | 2178 | spectra_subsetting
⠋ | 2181 | spectra_subsetting
⠸ | 2184 | spectra_subsetting
⠦ | 2187 | spectra_subsetting
⠇ | 2189 | spectra_subsetting
⠋ | 2191 | spectra_subsetting
⠹ | 2193 | spectra_subsetting
⠼ | 2195 | spectra_subsetting
⠦ | 2197 | spectra_subsetting
⠇ | 2199 | spectra_subsetting
⠋ | 2201 | spectra_subsetting
⠹ | 2203 | spectra_subsetting
⠼ | 2205 | spectra_subsetting
⠧ | 2208 | spectra_subsetting
⠋ | 2211 | spectra_subsetting
⠸ | 2214 | spectra_subsetting
⠦ | 2217 | spectra_subsetting
⠏ | 2220 | spectra_subsetting
⠹ | 2223 | spectra_subsetting
⠼ | 2225 | spectra_subsetting
⠦ | 2227 | spectra_subsetting
⠇ | 2229 | spectra_subsetting
⠋ | 2231 | spectra_subsetting
⠹ | 2233 | spectra_subsetting
⠼ | 2235 | spectra_subsetting
⠦ | 2237 | spectra_subsetting
⠏ | 2240 | spectra_subsetting
⠙ | 2242 | spectra_subsetting
⠸ | 2244 | spectra_subsetting
⠦ | 2247 | spectra_subsetting
⠇ | 2249 | spectra_subsetting
⠋ | 2251 | spectra_subsetting
⠸ | 2254 | spectra_subsetting
⠦ | 2257 | spectra_subsetting
⠇ | 2259 | spectra_subsetting
⠋ | 2261 | spectra_subsetting
⠹ | 2263 | spectra_subsetting
⠼ | 2265 | spectra_subsetting
⠦ | 2267 | spectra_subsetting
⠇ | 2269 | spectra_subsetting
⠋ | 2271 | spectra_subsetting
⠹ | 2273 | spectra_subsetting
⠼ | 2275 | spectra_subsetting
⠦ | 2277 | spectra_subsetting
⠇ | 2279 | spectra_subsetting
⠋ | 2281 | spectra_subsetting
⠹ | 2283 | spectra_subsetting
⠴ | 2286 | spectra_subsetting
⠧ | 2288 | spectra_subsetting
⠋ | 2291 | spectra_subsetting
⠸ | 2294 | spectra_subsetting
⠦ | 2297 | spectra_subsetting
⠇ | 2299 | spectra_subsetting
⠹ | 2303 | spectra_subsetting
⠇ | 2309 | spectra_subsetting
⠸ | 2314 | spectra_subsetting
⠦ | 2317 | spectra_subsetting
✔ | 2317 | spectra_subsetting [51.8s]
⠏ | 0 | spectra_variables
⠙ | 12 | spectra_variables
⠸ | 14 | spectra_variables
⠴ | 16 | spectra_variables
⠸ | 34 | spectra_variables
⠹ | 43 | spectra_variables
⠸ | 54 | spectra_variables
✔ | 1 62 | spectra_variables [12.0s]
══ Results ═════════════════════════════════════════════════════════════════════
Duration: 69.5 s
── Skipped tests (1) ───────────────────────────────────────────────────────────
• empty test (1): 'test_spectra_variables.R:262:1'
[ FAIL 0 | WARN 0 | SKIP 1 | PASS 2383 ]
>
> proc.time()
user system elapsed
97.674 13.786 117.037
MsBackendRawFileReader.Rcheck/MsBackendRawFileReader-Ex.timings
| name | user | system | elapsed | |
| MsBackendRawFileReader-class | 4.213 | 1.355 | 6.062 | |
| MsBackendRawFileReader | 6.482 | 2.665 | 10.020 | |
| hidden_aliases | 3.167 | 1.286 | 4.860 | |
| ioBenchmark | 47.614 | 9.660 | 24.348 | |