| Back to Multiple platform build/check report for BioC 3.19: simplified long |
|
This page was generated on 2024-10-18 20:39 -0400 (Fri, 18 Oct 2024).
| Hostname | OS | Arch (*) | R version | Installed pkgs |
|---|---|---|---|---|
| nebbiolo1 | Linux (Ubuntu 22.04.3 LTS) | x86_64 | 4.4.1 (2024-06-14) -- "Race for Your Life" | 4763 |
| palomino7 | Windows Server 2022 Datacenter | x64 | 4.4.1 (2024-06-14 ucrt) -- "Race for Your Life" | 4500 |
| merida1 | macOS 12.7.5 Monterey | x86_64 | 4.4.1 (2024-06-14) -- "Race for Your Life" | 4530 |
| kjohnson1 | macOS 13.6.6 Ventura | arm64 | 4.4.1 (2024-06-14) -- "Race for Your Life" | 4480 |
| Click on any hostname to see more info about the system (e.g. compilers) (*) as reported by 'uname -p', except on Windows and Mac OS X | ||||
| Package 1343/2300 | Hostname | OS / Arch | INSTALL | BUILD | CHECK | BUILD BIN | ||||||||
| MsBackendRawFileReader 1.10.0 (landing page) Christian Panse
| nebbiolo1 | Linux (Ubuntu 22.04.3 LTS) / x86_64 | OK | OK | OK | |||||||||
| palomino7 | Windows Server 2022 Datacenter / x64 | OK | OK | OK | OK | |||||||||
| merida1 | macOS 12.7.5 Monterey / x86_64 | OK | OK | OK | OK | |||||||||
| kjohnson1 | macOS 13.6.6 Ventura / arm64 | OK | OK | OK | OK | |||||||||
|
To the developers/maintainers of the MsBackendRawFileReader package: - Allow up to 24 hours (and sometimes 48 hours) for your latest push to git@git.bioconductor.org:packages/MsBackendRawFileReader.git to reflect on this report. See Troubleshooting Build Report for more information. - Use the following Renviron settings to reproduce errors and warnings. - If 'R CMD check' started to fail recently on the Linux builder(s) over a missing dependency, add the missing dependency to 'Suggests:' in your DESCRIPTION file. See Renviron.bioc for more information. |
| Package: MsBackendRawFileReader |
| Version: 1.10.0 |
| Command: E:\biocbuild\bbs-3.19-bioc\R\bin\R.exe CMD check --no-multiarch --install=check:MsBackendRawFileReader.install-out.txt --library=E:\biocbuild\bbs-3.19-bioc\R\library --no-vignettes --timings MsBackendRawFileReader_1.10.0.tar.gz |
| StartedAt: 2024-10-17 03:39:09 -0400 (Thu, 17 Oct 2024) |
| EndedAt: 2024-10-17 03:45:31 -0400 (Thu, 17 Oct 2024) |
| EllapsedTime: 381.7 seconds |
| RetCode: 0 |
| Status: OK |
| CheckDir: MsBackendRawFileReader.Rcheck |
| Warnings: 0 |
##############################################################################
##############################################################################
###
### Running command:
###
### E:\biocbuild\bbs-3.19-bioc\R\bin\R.exe CMD check --no-multiarch --install=check:MsBackendRawFileReader.install-out.txt --library=E:\biocbuild\bbs-3.19-bioc\R\library --no-vignettes --timings MsBackendRawFileReader_1.10.0.tar.gz
###
##############################################################################
##############################################################################
* using log directory 'E:/biocbuild/bbs-3.19-bioc/meat/MsBackendRawFileReader.Rcheck'
* using R version 4.4.1 (2024-06-14 ucrt)
* using platform: x86_64-w64-mingw32
* R was compiled by
gcc.exe (GCC) 13.2.0
GNU Fortran (GCC) 13.2.0
* running under: Windows Server 2022 x64 (build 20348)
* using session charset: UTF-8
* using option '--no-vignettes'
* checking for file 'MsBackendRawFileReader/DESCRIPTION' ... OK
* checking extension type ... Package
* this is package 'MsBackendRawFileReader' version '1.10.0'
* package encoding: UTF-8
* checking package namespace information ... OK
* checking package dependencies ... OK
* checking if this is a source package ... OK
* checking if there is a namespace ... OK
* checking for hidden files and directories ... OK
* checking for portable file names ... OK
* checking whether package 'MsBackendRawFileReader' can be installed ... OK
* checking installed package size ... OK
* checking package directory ... OK
* checking 'build' directory ... OK
* checking DESCRIPTION meta-information ... OK
* checking top-level files ... OK
* checking for left-over files ... OK
* checking index information ... OK
* checking package subdirectories ... OK
* checking code files for non-ASCII characters ... OK
* checking R files for syntax errors ... OK
* checking whether the package can be loaded ... OK
* checking whether the package can be loaded with stated dependencies ... OK
* checking whether the package can be unloaded cleanly ... OK
* checking whether the namespace can be loaded with stated dependencies ... OK
* checking whether the namespace can be unloaded cleanly ... OK
* checking whether startup messages can be suppressed ... OK
* checking dependencies in R code ... OK
* checking S3 generic/method consistency ... OK
* checking replacement functions ... OK
* checking foreign function calls ... OK
* checking R code for possible problems ... NOTE
filterScan,MsBackendRawFileReader : <anonymous>: no visible global
function definition for 'scanIndex'
peaksData,MsBackendRawFileReader: no visible global function definition
for 'scanIndex'
Undefined global functions or variables:
scanIndex
* checking Rd files ... OK
* checking Rd metadata ... OK
* checking Rd cross-references ... OK
* checking for missing documentation entries ... OK
* checking for code/documentation mismatches ... OK
* checking Rd \usage sections ... OK
* checking Rd contents ... OK
* checking for unstated dependencies in examples ... OK
* checking files in 'vignettes' ... OK
* checking examples ... OK
Examples with CPU (user + system) or elapsed time > 5s
user system elapsed
ioBenchmark 9.71 2.61 98.11
MsBackendRawFileReader-class 1.00 0.03 13.36
MsBackendRawFileReader 0.85 0.03 29.16
hidden_aliases 0.31 0.00 12.14
* checking for unstated dependencies in 'tests' ... OK
* checking tests ...
Running 'testthat.R'
OK
* checking for unstated dependencies in vignettes ... OK
* checking package vignettes ... OK
* checking running R code from vignettes ... SKIPPED
* checking re-building of vignette outputs ... SKIPPED
* checking PDF version of manual ... OK
* DONE
Status: 1 NOTE
See
'E:/biocbuild/bbs-3.19-bioc/meat/MsBackendRawFileReader.Rcheck/00check.log'
for details.
MsBackendRawFileReader.Rcheck/00install.out
############################################################################## ############################################################################## ### ### Running command: ### ### E:\biocbuild\bbs-3.19-bioc\R\bin\R.exe CMD INSTALL MsBackendRawFileReader ### ############################################################################## ############################################################################## * installing to library 'E:/biocbuild/bbs-3.19-bioc/R/library' * installing *source* package 'MsBackendRawFileReader' ... ** using staged installation ** R ** inst ** byte-compile and prepare package for lazy loading ** help *** installing help indices ** building package indices ** installing vignettes ** testing if installed package can be loaded from temporary location ** testing if installed package can be loaded from final location ** testing if installed package keeps a record of temporary installation path * DONE (MsBackendRawFileReader)
MsBackendRawFileReader.Rcheck/tests/testthat.Rout
R version 4.4.1 (2024-06-14 ucrt) -- "Race for Your Life"
Copyright (C) 2024 The R Foundation for Statistical Computing
Platform: x86_64-w64-mingw32/x64
R is free software and comes with ABSOLUTELY NO WARRANTY.
You are welcome to redistribute it under certain conditions.
Type 'license()' or 'licence()' for distribution details.
R is a collaborative project with many contributors.
Type 'contributors()' for more information and
'citation()' on how to cite R or R packages in publications.
Type 'demo()' for some demos, 'help()' for on-line help, or
'help.start()' for an HTML browser interface to help.
Type 'q()' to quit R.
> library("testthat")
> library("MsBackendRawFileReader")
Loading required package: Spectra
Loading required package: S4Vectors
Loading required package: stats4
Loading required package: BiocGenerics
Attaching package: 'BiocGenerics'
The following objects are masked from 'package:stats':
IQR, mad, sd, var, xtabs
The following objects are masked from 'package:base':
Filter, Find, Map, Position, Reduce, anyDuplicated, aperm, append,
as.data.frame, basename, cbind, colnames, dirname, do.call,
duplicated, eval, evalq, get, grep, grepl, intersect, is.unsorted,
lapply, mapply, match, mget, order, paste, pmax, pmax.int, pmin,
pmin.int, rank, rbind, rownames, sapply, setdiff, table, tapply,
union, unique, unsplit, which.max, which.min
Attaching package: 'S4Vectors'
The following object is masked from 'package:utils':
findMatches
The following objects are masked from 'package:base':
I, expand.grid, unname
Loading required package: BiocParallel
Loading required package: ProtGenerics
Attaching package: 'ProtGenerics'
The following object is masked from 'package:stats':
smooth
> library("Spectra")
>
>
> sample_raw_file <- file.path(system.file(package = "rawrr"),
+ 'extdata', 'sample.raw')
>
> sample_mzXML_file <- file.path(path.package(package = 'MsBackendRawFileReader'),
+ 'extdata', 'sample.mzXML')
>
>
> sample_raw <- backendInitialize(MsBackendRawFileReader::MsBackendRawFileReader(), files = sample_raw_file)
>
>
> #sample_mzr <- backendInitialize(MsBackendMzR(), files = sample_mzXML_file)
>
>
> mgf_file <- file.path(system.file(package = "MsBackendRawFileReader"),
+ 'extdata', '3159619b11ed_4590_9594.mgf')
>
>
> rv <- lapply(1:2, function(x){
+ file.copy(from = sample_raw_file, to = tempfile(fileext='.raw'))})
>
>
> register(SnowParam(workers = 1, type = "SOCK") , default = TRUE);
> sample_raw_2 <- backendInitialize(MsBackendRawFileReader(),
+ files = file.path(tempdir(),
+ list.files(path = tempdir(), pattern = 'raw$')))
>
>
> test_check("MsBackendRawFileReader")
[ FAIL 0 | WARN 1 | SKIP 2 | PASS 21 ]
══ Skipped tests (2) ═══════════════════════════════════════════════════════════
• isFALSE(file.exists(sample_mzXML_file)) is TRUE (1):
'test_MsBackendMzR_MsBackendRawFileReader.R:1:1'
• isFALSE(require(MsBackendRawMgf)) is TRUE (1): 'test_top_n_mgf.R:1:1'
[ FAIL 0 | WARN 1 | SKIP 2 | PASS 21 ]
>
>
> be <- Spectra::backendInitialize(MsBackendRawFileReader::MsBackendRawFileReader(),
+ files = c(sample_raw_file))
>
> ## Run the MsBackend spectra variable test suite
> test_suite <- system.file("test_backends", "test_MsBackend",
+ package = "Spectra")
>
> #res <- test_file(paste0(test_suite, "/test_spectra_variables.R"),
> # reporter = check_reporter(), stop_on_failure = TRUE)
>
>
> ## Run the whole suite.
> res <- test_dir(test_suite, stop_on_failure = TRUE)
✔ | F W S OK | Context
⠏ | 0 | peaks_variables
⠙ | 2 | peaks_variables
⠸ | 4 | peaks_variables
✔ | 4 | peaks_variables [6.5s]
⠏ | 0 | spectra_subsetting
⠋ | 1 | spectra_subsetting
⠸ | 14 | spectra_subsetting
⠴ | 26 | spectra_subsetting
⠧ | 38 | spectra_subsetting
⠏ | 50 | spectra_subsetting
⠸ | 64 | spectra_subsetting
⠧ | 78 | spectra_subsetting
⠧ | 88 | spectra_subsetting
⠦ | 97 | spectra_subsetting
⠼ | 105 | spectra_subsetting
⠹ | 113 | spectra_subsetting
⠦ | 127 | spectra_subsetting
⠇ | 139 | spectra_subsetting
⠧ | 148 | spectra_subsetting
⠇ | 159 | spectra_subsetting
⠇ | 169 | spectra_subsetting
⠋ | 181 | spectra_subsetting
⠴ | 196 | spectra_subsetting
⠧ | 208 | spectra_subsetting
⠧ | 218 | spectra_subsetting
⠙ | 232 | spectra_subsetting
⠸ | 244 | spectra_subsetting
⠴ | 256 | spectra_subsetting
⠋ | 271 | spectra_subsetting
⠹ | 283 | spectra_subsetting
⠧ | 298 | spectra_subsetting
⠹ | 313 | spectra_subsetting
⠋ | 321 | spectra_subsetting
⠏ | 330 | spectra_subsetting
⠏ | 340 | spectra_subsetting
⠏ | 350 | spectra_subsetting
⠋ | 361 | spectra_subsetting
⠏ | 370 | spectra_subsetting
⠇ | 379 | spectra_subsetting
⠧ | 388 | spectra_subsetting
⠴ | 396 | spectra_subsetting
⠦ | 407 | spectra_subsetting
⠴ | 416 | spectra_subsetting
⠼ | 425 | spectra_subsetting
⠸ | 434 | spectra_subsetting
⠹ | 443 | spectra_subsetting
⠸ | 454 | spectra_subsetting
⠴ | 466 | spectra_subsetting
⠧ | 478 | spectra_subsetting
⠇ | 489 | spectra_subsetting
⠦ | 497 | spectra_subsetting
⠇ | 509 | spectra_subsetting
⠹ | 523 | spectra_subsetting
⠼ | 535 | spectra_subsetting
⠼ | 545 | spectra_subsetting
⠇ | 559 | spectra_subsetting
⠋ | 571 | spectra_subsetting
⠹ | 583 | spectra_subsetting
⠼ | 595 | spectra_subsetting
⠦ | 607 | spectra_subsetting
⠇ | 619 | spectra_subsetting
⠋ | 631 | spectra_subsetting
⠹ | 643 | spectra_subsetting
⠦ | 657 | spectra_subsetting
⠦ | 667 | spectra_subsetting
⠴ | 676 | spectra_subsetting
⠦ | 687 | spectra_subsetting
⠋ | 701 | spectra_subsetting
⠇ | 709 | spectra_subsetting
⠧ | 718 | spectra_subsetting
⠧ | 728 | spectra_subsetting
⠦ | 737 | spectra_subsetting
⠴ | 746 | spectra_subsetting
⠸ | 754 | spectra_subsetting
⠴ | 766 | spectra_subsetting
⠧ | 778 | spectra_subsetting
⠸ | 784 | spectra_subsetting
⠹ | 793 | spectra_subsetting
⠹ | 803 | spectra_subsetting
⠸ | 814 | spectra_subsetting
⠹ | 823 | spectra_subsetting
⠙ | 832 | spectra_subsetting
⠙ | 842 | spectra_subsetting
⠹ | 853 | spectra_subsetting
⠙ | 862 | spectra_subsetting
⠴ | 876 | spectra_subsetting
⠇ | 889 | spectra_subsetting
⠋ | 901 | spectra_subsetting
⠹ | 913 | spectra_subsetting
⠼ | 925 | spectra_subsetting
⠦ | 937 | spectra_subsetting
⠇ | 949 | spectra_subsetting
⠧ | 958 | spectra_subsetting
⠦ | 967 | spectra_subsetting
⠴ | 976 | spectra_subsetting
⠼ | 985 | spectra_subsetting
⠸ | 994 | spectra_subsetting
⠹ | 1003 | spectra_subsetting
⠴ | 1016 | spectra_subsetting
⠧ | 1028 | spectra_subsetting
⠇ | 1039 | spectra_subsetting
⠋ | 1051 | spectra_subsetting
⠋ | 1061 | spectra_subsetting
⠇ | 1069 | spectra_subsetting
⠧ | 1078 | spectra_subsetting
⠦ | 1087 | spectra_subsetting
⠧ | 1098 | spectra_subsetting
⠼ | 1105 | spectra_subsetting
⠸ | 1114 | spectra_subsetting
⠹ | 1123 | spectra_subsetting
⠙ | 1132 | spectra_subsetting
⠋ | 1141 | spectra_subsetting
⠸ | 1154 | spectra_subsetting
⠹ | 1163 | spectra_subsetting
⠸ | 1174 | spectra_subsetting
⠹ | 1183 | spectra_subsetting
⠼ | 1195 | spectra_subsetting
⠏ | 1210 | spectra_subsetting
⠙ | 1222 | spectra_subsetting
⠸ | 1234 | spectra_subsetting
⠴ | 1246 | spectra_subsetting
⠼ | 1255 | spectra_subsetting
⠸ | 1264 | spectra_subsetting
⠴ | 1276 | spectra_subsetting
⠼ | 1285 | spectra_subsetting
⠦ | 1297 | spectra_subsetting
⠇ | 1309 | spectra_subsetting
⠋ | 1321 | spectra_subsetting
⠴ | 1336 | spectra_subsetting
⠴ | 1346 | spectra_subsetting
⠸ | 1354 | spectra_subsetting
⠴ | 1366 | spectra_subsetting
⠴ | 1376 | spectra_subsetting
⠦ | 1387 | spectra_subsetting
⠴ | 1396 | spectra_subsetting
⠧ | 1408 | spectra_subsetting
⠏ | 1420 | spectra_subsetting
⠇ | 1429 | spectra_subsetting
⠏ | 1440 | spectra_subsetting
⠹ | 1453 | spectra_subsetting
⠋ | 1461 | spectra_subsetting
⠋ | 1471 | spectra_subsetting
⠹ | 1483 | spectra_subsetting
⠙ | 1492 | spectra_subsetting
⠋ | 1501 | spectra_subsetting
⠹ | 1513 | spectra_subsetting
⠼ | 1525 | spectra_subsetting
⠸ | 1534 | spectra_subsetting
⠇ | 1549 | spectra_subsetting
⠋ | 1561 | spectra_subsetting
⠏ | 1570 | spectra_subsetting
⠹ | 1583 | spectra_subsetting
⠹ | 1593 | spectra_subsetting
⠙ | 1602 | spectra_subsetting
⠋ | 1611 | spectra_subsetting
⠋ | 1621 | spectra_subsetting
⠏ | 1630 | spectra_subsetting
⠇ | 1639 | spectra_subsetting
⠧ | 1648 | spectra_subsetting
⠧ | 1658 | spectra_subsetting
⠇ | 1669 | spectra_subsetting
⠧ | 1678 | spectra_subsetting
⠹ | 1693 | spectra_subsetting
⠼ | 1705 | spectra_subsetting
⠸ | 1714 | spectra_subsetting
⠦ | 1727 | spectra_subsetting
⠇ | 1729 | spectra_subsetting
⠋ | 1731 | spectra_subsetting
⠹ | 1733 | spectra_subsetting
⠼ | 1735 | spectra_subsetting
⠦ | 1737 | spectra_subsetting
⠇ | 1739 | spectra_subsetting
⠋ | 1741 | spectra_subsetting
⠹ | 1743 | spectra_subsetting
⠼ | 1745 | spectra_subsetting
⠦ | 1747 | spectra_subsetting
⠇ | 1749 | spectra_subsetting
⠋ | 1751 | spectra_subsetting
⠹ | 1753 | spectra_subsetting
⠸ | 1754 | spectra_subsetting
⠴ | 1756 | spectra_subsetting
⠧ | 1758 | spectra_subsetting
⠏ | 1760 | spectra_subsetting
⠙ | 1762 | spectra_subsetting
⠸ | 1764 | spectra_subsetting
⠼ | 1765 | spectra_subsetting
⠦ | 1767 | spectra_subsetting
⠇ | 1769 | spectra_subsetting
⠋ | 1771 | spectra_subsetting
⠹ | 1773 | spectra_subsetting
⠼ | 1775 | spectra_subsetting
⠦ | 1777 | spectra_subsetting
⠇ | 1779 | spectra_subsetting
⠏ | 1780 | spectra_subsetting
⠙ | 1782 | spectra_subsetting
⠸ | 1784 | spectra_subsetting
⠴ | 1786 | spectra_subsetting
⠧ | 1788 | spectra_subsetting
⠏ | 1790 | spectra_subsetting
⠙ | 1792 | spectra_subsetting
⠸ | 1794 | spectra_subsetting
⠼ | 1795 | spectra_subsetting
⠦ | 1797 | spectra_subsetting
⠇ | 1799 | spectra_subsetting
⠋ | 1801 | spectra_subsetting
⠹ | 1803 | spectra_subsetting
⠼ | 1805 | spectra_subsetting
⠦ | 1807 | spectra_subsetting
⠇ | 1809 | spectra_subsetting
⠋ | 1811 | spectra_subsetting
⠹ | 1813 | spectra_subsetting
⠼ | 1815 | spectra_subsetting
⠦ | 1817 | spectra_subsetting
⠇ | 1819 | spectra_subsetting
⠋ | 1821 | spectra_subsetting
⠹ | 1823 | spectra_subsetting
⠼ | 1825 | spectra_subsetting
⠦ | 1827 | spectra_subsetting
⠇ | 1829 | spectra_subsetting
⠋ | 1831 | spectra_subsetting
⠙ | 1832 | spectra_subsetting
⠹ | 1833 | spectra_subsetting
⠼ | 1835 | spectra_subsetting
⠦ | 1837 | spectra_subsetting
⠇ | 1839 | spectra_subsetting
⠋ | 1841 | spectra_subsetting
⠙ | 1842 | spectra_subsetting
⠸ | 1844 | spectra_subsetting
⠴ | 1846 | spectra_subsetting
⠧ | 1848 | spectra_subsetting
⠏ | 1850 | spectra_subsetting
⠙ | 1852 | spectra_subsetting
⠸ | 1854 | spectra_subsetting
⠼ | 1855 | spectra_subsetting
⠦ | 1857 | spectra_subsetting
⠇ | 1859 | spectra_subsetting
⠋ | 1861 | spectra_subsetting
⠹ | 1863 | spectra_subsetting
⠸ | 1864 | spectra_subsetting
⠴ | 1866 | spectra_subsetting
⠧ | 1868 | spectra_subsetting
⠏ | 1870 | spectra_subsetting
⠹ | 1873 | spectra_subsetting
⠼ | 1875 | spectra_subsetting
⠦ | 1877 | spectra_subsetting
⠇ | 1879 | spectra_subsetting
⠋ | 1881 | spectra_subsetting
⠸ | 1884 | spectra_subsetting
⠼ | 1885 | spectra_subsetting
⠦ | 1887 | spectra_subsetting
⠇ | 1889 | spectra_subsetting
⠋ | 1891 | spectra_subsetting
⠹ | 1893 | spectra_subsetting
⠼ | 1895 | spectra_subsetting
⠦ | 1897 | spectra_subsetting
⠇ | 1899 | spectra_subsetting
⠋ | 1901 | spectra_subsetting
⠹ | 1903 | spectra_subsetting
⠼ | 1905 | spectra_subsetting
⠦ | 1907 | spectra_subsetting
⠇ | 1909 | spectra_subsetting
⠋ | 1911 | spectra_subsetting
⠹ | 1913 | spectra_subsetting
⠼ | 1915 | spectra_subsetting
⠧ | 1918 | spectra_subsetting
⠋ | 1921 | spectra_subsetting
⠹ | 1923 | spectra_subsetting
⠼ | 1925 | spectra_subsetting
⠧ | 1928 | spectra_subsetting
⠏ | 1930 | spectra_subsetting
⠙ | 1932 | spectra_subsetting
⠸ | 1934 | spectra_subsetting
⠴ | 1936 | spectra_subsetting
⠧ | 1938 | spectra_subsetting
⠏ | 1940 | spectra_subsetting
⠋ | 1941 | spectra_subsetting
⠹ | 1943 | spectra_subsetting
⠼ | 1945 | spectra_subsetting
⠴ | 1946 | spectra_subsetting
⠧ | 1948 | spectra_subsetting
⠇ | 1949 | spectra_subsetting
⠋ | 1951 | spectra_subsetting
⠹ | 1953 | spectra_subsetting
⠼ | 1955 | spectra_subsetting
⠦ | 1957 | spectra_subsetting
⠇ | 1959 | spectra_subsetting
⠋ | 1961 | spectra_subsetting
⠹ | 1963 | spectra_subsetting
⠼ | 1965 | spectra_subsetting
⠦ | 1967 | spectra_subsetting
⠇ | 1969 | spectra_subsetting
⠋ | 1971 | spectra_subsetting
⠹ | 1973 | spectra_subsetting
⠼ | 1975 | spectra_subsetting
⠦ | 1977 | spectra_subsetting
⠇ | 1979 | spectra_subsetting
⠋ | 1981 | spectra_subsetting
⠹ | 1983 | spectra_subsetting
⠼ | 1985 | spectra_subsetting
⠦ | 1987 | spectra_subsetting
⠇ | 1989 | spectra_subsetting
⠋ | 1991 | spectra_subsetting
⠹ | 1993 | spectra_subsetting
⠼ | 1995 | spectra_subsetting
⠦ | 1997 | spectra_subsetting
⠧ | 1998 | spectra_subsetting
⠏ | 2000 | spectra_subsetting
⠹ | 2003 | spectra_subsetting
⠴ | 2006 | spectra_subsetting
⠧ | 2008 | spectra_subsetting
⠏ | 2010 | spectra_subsetting
⠙ | 2012 | spectra_subsetting
⠸ | 2014 | spectra_subsetting
⠴ | 2016 | spectra_subsetting
⠧ | 2018 | spectra_subsetting
⠏ | 2020 | spectra_subsetting
⠙ | 2022 | spectra_subsetting
⠸ | 2024 | spectra_subsetting
⠴ | 2026 | spectra_subsetting
⠦ | 2027 | spectra_subsetting
⠇ | 2029 | spectra_subsetting
⠏ | 2030 | spectra_subsetting
⠙ | 2032 | spectra_subsetting
⠸ | 2034 | spectra_subsetting
⠴ | 2036 | spectra_subsetting
⠧ | 2038 | spectra_subsetting
⠏ | 2040 | spectra_subsetting
⠙ | 2042 | spectra_subsetting
⠸ | 2044 | spectra_subsetting
⠴ | 2046 | spectra_subsetting
⠦ | 2047 | spectra_subsetting
⠇ | 2049 | spectra_subsetting
⠙ | 2052 | spectra_subsetting
⠸ | 2054 | spectra_subsetting
⠴ | 2056 | spectra_subsetting
⠧ | 2058 | spectra_subsetting
⠏ | 2060 | spectra_subsetting
⠙ | 2062 | spectra_subsetting
⠸ | 2064 | spectra_subsetting
⠴ | 2066 | spectra_subsetting
⠧ | 2068 | spectra_subsetting
⠏ | 2070 | spectra_subsetting
⠙ | 2072 | spectra_subsetting
⠸ | 2074 | spectra_subsetting
⠴ | 2076 | spectra_subsetting
⠧ | 2078 | spectra_subsetting
⠏ | 2080 | spectra_subsetting
⠙ | 2082 | spectra_subsetting
⠸ | 2084 | spectra_subsetting
⠴ | 2086 | spectra_subsetting
⠧ | 2088 | spectra_subsetting
⠏ | 2090 | spectra_subsetting
⠙ | 2092 | spectra_subsetting
⠸ | 2094 | spectra_subsetting
⠴ | 2096 | spectra_subsetting
⠧ | 2098 | spectra_subsetting
⠏ | 2100 | spectra_subsetting
⠙ | 2102 | spectra_subsetting
⠸ | 2104 | spectra_subsetting
⠦ | 2107 | spectra_subsetting
⠇ | 2109 | spectra_subsetting
⠋ | 2111 | spectra_subsetting
⠹ | 2113 | spectra_subsetting
⠼ | 2115 | spectra_subsetting
⠦ | 2117 | spectra_subsetting
⠇ | 2119 | spectra_subsetting
⠋ | 2121 | spectra_subsetting
⠸ | 2124 | spectra_subsetting
⠴ | 2126 | spectra_subsetting
⠧ | 2128 | spectra_subsetting
⠏ | 2130 | spectra_subsetting
⠙ | 2132 | spectra_subsetting
⠸ | 2134 | spectra_subsetting
⠴ | 2136 | spectra_subsetting
⠧ | 2138 | spectra_subsetting
⠏ | 2140 | spectra_subsetting
⠙ | 2142 | spectra_subsetting
⠼ | 2145 | spectra_subsetting
⠦ | 2147 | spectra_subsetting
⠇ | 2149 | spectra_subsetting
⠏ | 2150 | spectra_subsetting
⠙ | 2152 | spectra_subsetting
⠸ | 2154 | spectra_subsetting
⠴ | 2156 | spectra_subsetting
⠧ | 2158 | spectra_subsetting
⠏ | 2160 | spectra_subsetting
⠙ | 2162 | spectra_subsetting
⠸ | 2164 | spectra_subsetting
⠴ | 2166 | spectra_subsetting
⠧ | 2168 | spectra_subsetting
⠏ | 2170 | spectra_subsetting
⠙ | 2172 | spectra_subsetting
⠸ | 2174 | spectra_subsetting
⠴ | 2176 | spectra_subsetting
⠧ | 2178 | spectra_subsetting
⠏ | 2180 | spectra_subsetting
⠋ | 2181 | spectra_subsetting
⠹ | 2183 | spectra_subsetting
⠼ | 2185 | spectra_subsetting
⠦ | 2187 | spectra_subsetting
⠇ | 2189 | spectra_subsetting
⠋ | 2191 | spectra_subsetting
⠹ | 2193 | spectra_subsetting
⠼ | 2195 | spectra_subsetting
⠦ | 2197 | spectra_subsetting
⠇ | 2199 | spectra_subsetting
⠋ | 2201 | spectra_subsetting
⠹ | 2203 | spectra_subsetting
⠴ | 2206 | spectra_subsetting
⠧ | 2208 | spectra_subsetting
⠋ | 2211 | spectra_subsetting
⠹ | 2213 | spectra_subsetting
⠼ | 2215 | spectra_subsetting
⠦ | 2217 | spectra_subsetting
⠇ | 2219 | spectra_subsetting
⠋ | 2221 | spectra_subsetting
⠹ | 2223 | spectra_subsetting
⠼ | 2225 | spectra_subsetting
⠦ | 2227 | spectra_subsetting
⠇ | 2229 | spectra_subsetting
⠋ | 2231 | spectra_subsetting
⠹ | 2233 | spectra_subsetting
⠼ | 2235 | spectra_subsetting
⠦ | 2237 | spectra_subsetting
⠇ | 2239 | spectra_subsetting
⠋ | 2241 | spectra_subsetting
⠹ | 2243 | spectra_subsetting
⠼ | 2245 | spectra_subsetting
⠦ | 2247 | spectra_subsetting
⠇ | 2249 | spectra_subsetting
⠋ | 2251 | spectra_subsetting
⠹ | 2253 | spectra_subsetting
⠼ | 2255 | spectra_subsetting
⠦ | 2257 | spectra_subsetting
⠇ | 2259 | spectra_subsetting
⠋ | 2261 | spectra_subsetting
⠹ | 2263 | spectra_subsetting
⠼ | 2265 | spectra_subsetting
⠦ | 2267 | spectra_subsetting
⠇ | 2269 | spectra_subsetting
⠋ | 2271 | spectra_subsetting
⠹ | 2273 | spectra_subsetting
⠼ | 2275 | spectra_subsetting
⠦ | 2277 | spectra_subsetting
⠇ | 2279 | spectra_subsetting
⠋ | 2281 | spectra_subsetting
⠹ | 2283 | spectra_subsetting
⠸ | 2284 | spectra_subsetting
⠴ | 2286 | spectra_subsetting
⠧ | 2288 | spectra_subsetting
⠏ | 2290 | spectra_subsetting
⠙ | 2292 | spectra_subsetting
⠸ | 2294 | spectra_subsetting
⠴ | 2296 | spectra_subsetting
⠧ | 2298 | spectra_subsetting
⠏ | 2300 | spectra_subsetting
⠹ | 2303 | spectra_subsetting
⠴ | 2306 | spectra_subsetting
⠋ | 2311 | spectra_subsetting
⠼ | 2315 | spectra_subsetting
⠦ | 2317 | spectra_subsetting
✔ | 2317 | spectra_subsetting [62.6s]
⠏ | 0 | spectra_variables
⠙ | 12 | spectra_variables
⠸ | 14 | spectra_variables
⠴ | 16 | spectra_variables
⠸ | 34 | spectra_variables
⠹ | 43 | spectra_variables
⠧ | 1 57 | spectra_variables
✔ | 1 62 | spectra_variables [13.9s]
══ Results ═════════════════════════════════════════════════════════════════════
Duration: 83.0 s
── Skipped tests (1) ───────────────────────────────────────────────────────────
• empty test (1): 'test_spectra_variables.R:262:1'
[ FAIL 0 | WARN 0 | SKIP 1 | PASS 2383 ]
>
> proc.time()
user system elapsed
76.09 4.15 149.93
MsBackendRawFileReader.Rcheck/MsBackendRawFileReader-Ex.timings
| name | user | system | elapsed | |
| MsBackendRawFileReader-class | 1.00 | 0.03 | 13.36 | |
| MsBackendRawFileReader | 0.85 | 0.03 | 29.16 | |
| hidden_aliases | 0.31 | 0.00 | 12.14 | |
| ioBenchmark | 9.71 | 2.61 | 98.11 | |