| Back to Multiple platform build/check report for BioC 3.19: simplified long |
|
This page was generated on 2024-05-09 11:41:10 -0400 (Thu, 09 May 2024).
| Hostname | OS | Arch (*) | R version | Installed pkgs |
|---|---|---|---|---|
| nebbiolo1 | Linux (Ubuntu 22.04.3 LTS) | x86_64 | 4.4.0 (2024-04-24) -- "Puppy Cup" | 4748 |
| palomino3 | Windows Server 2022 Datacenter | x64 | 4.4.0 (2024-04-24 ucrt) -- "Puppy Cup" | 4484 |
| lconway | macOS 12.7.1 Monterey | x86_64 | 4.4.0 (2024-04-24) -- "Puppy Cup" | 4514 |
| kunpeng2 | Linux (openEuler 22.03 LTS-SP1) | aarch64 | 4.4.0 beta (2024-04-15 r86425) -- "Puppy Cup" | 4480 |
| Click on any hostname to see more info about the system (e.g. compilers) (*) as reported by 'uname -p', except on Windows and Mac OS X | ||||
| Package 1403/2300 | Hostname | OS / Arch | INSTALL | BUILD | CHECK | BUILD BIN | ||||||||
| NanoStringNCTools 1.12.0 (landing page) Maddy Griswold
| nebbiolo1 | Linux (Ubuntu 22.04.3 LTS) / x86_64 | OK | OK | OK | |||||||||
| palomino3 | Windows Server 2022 Datacenter / x64 | OK | OK | OK | OK | |||||||||
| lconway | macOS 12.7.1 Monterey / x86_64 | OK | OK | OK | OK | |||||||||
| kunpeng2 | Linux (openEuler 22.03 LTS-SP1) / aarch64 | OK | OK | OK | ||||||||||
| kjohnson3 | macOS 13.6.5 Ventura / arm64 | see weekly results here | ||||||||||||
|
To the developers/maintainers of the NanoStringNCTools package: - Allow up to 24 hours (and sometimes 48 hours) for your latest push to git@git.bioconductor.org:packages/NanoStringNCTools.git to reflect on this report. See Troubleshooting Build Report for more information. - Use the following Renviron settings to reproduce errors and warnings. - If 'R CMD check' started to fail recently on the Linux builder(s) over a missing dependency, add the missing dependency to 'Suggests:' in your DESCRIPTION file. See Renviron.bioc for more information. - See Martin Grigorov's blog post for how to debug Linux ARM64 related issues on a x86_64 host. |
| Package: NanoStringNCTools |
| Version: 1.12.0 |
| Command: /home/biocbuild/R/R-beta-2024-04-15_r86425/bin/R CMD check --install=check:NanoStringNCTools.install-out.txt --library=/home/biocbuild/R/R-beta-2024-04-15_r86425/site-library --no-vignettes --timings NanoStringNCTools_1.12.0.tar.gz |
| StartedAt: 2024-05-09 09:58:36 -0000 (Thu, 09 May 2024) |
| EndedAt: 2024-05-09 10:00:54 -0000 (Thu, 09 May 2024) |
| EllapsedTime: 137.4 seconds |
| RetCode: 0 |
| Status: OK |
| CheckDir: NanoStringNCTools.Rcheck |
| Warnings: 0 |
##############################################################################
##############################################################################
###
### Running command:
###
### /home/biocbuild/R/R-beta-2024-04-15_r86425/bin/R CMD check --install=check:NanoStringNCTools.install-out.txt --library=/home/biocbuild/R/R-beta-2024-04-15_r86425/site-library --no-vignettes --timings NanoStringNCTools_1.12.0.tar.gz
###
##############################################################################
##############################################################################
* using log directory ‘/home/biocbuild/bbs-3.19-bioc/meat/NanoStringNCTools.Rcheck’
* using R version 4.4.0 beta (2024-04-15 r86425)
* using platform: aarch64-unknown-linux-gnu
* R was compiled by
gcc (GCC) 10.3.1
GNU Fortran (GCC) 10.3.1
* running under: openEuler 22.03 (LTS-SP1)
* using session charset: UTF-8
* using option ‘--no-vignettes’
* checking for file ‘NanoStringNCTools/DESCRIPTION’ ... OK
* this is package ‘NanoStringNCTools’ version ‘1.12.0’
* package encoding: UTF-8
* checking package namespace information ... OK
* checking package dependencies ... OK
* checking if this is a source package ... OK
* checking if there is a namespace ... OK
* checking for hidden files and directories ... OK
* checking for portable file names ... OK
* checking for sufficient/correct file permissions ... OK
* checking whether package ‘NanoStringNCTools’ can be installed ... OK
* checking installed package size ... OK
* checking package directory ... OK
* checking ‘build’ directory ... OK
* checking DESCRIPTION meta-information ... NOTE
License components which are templates and need '+ file LICENSE':
MIT
* checking top-level files ... NOTE
File
LICENSE
is not mentioned in the DESCRIPTION file.
* checking for left-over files ... OK
* checking index information ... OK
* checking package subdirectories ... OK
* checking code files for non-ASCII characters ... OK
* checking R files for syntax errors ... OK
* checking whether the package can be loaded ... OK
* checking whether the package can be loaded with stated dependencies ... OK
* checking whether the package can be unloaded cleanly ... OK
* checking whether the namespace can be loaded with stated dependencies ... OK
* checking whether the namespace can be unloaded cleanly ... OK
* checking loading without being on the library search path ... OK
* checking dependencies in R code ... OK
* checking S3 generic/method consistency ... OK
* checking replacement functions ... OK
* checking foreign function calls ... OK
* checking R code for possible problems ... NOTE
autoplot.NanoStringRccSet : <anonymous>: warning in switch(x[2], A =
qcCutoffs[["BindingDensity"]][["maximumBD"]], B =
qcCutoffs[["BindingDensity"]][["maximumBD"]], C =
qcCutoffs[["BindingDensity"]][["maximumBD"]], D =
qcCutoffs[["BindingDensity"]][["maximumBD"]], E =
qcCutoffs[["BindingDensity"]][["maximumBD"]], G =
qcCutoffs[["BindingDensity"]][["maximumBD"]], H =
qcCutoffs[["BindingDensity"]][["maximumBD"]], P =
qcCutoffs[["BindingDensity"]][["maximumBDSprint"]], default =
qcCutoffs[["BindingDensity"]][["maximumBD"]]): partial argument match
of 'E' to 'EXPR'
setQCFlags,NanoStringRccSet : <anonymous>: warning in switch(x[2], A =
maxBindDen, B = maxBindDen, C = maxBindDen, D = maxBindDen, E =
maxBindDen, G = maxBindDen, H = maxBindDen, P = maxBindDenSprint,
default = maxBindDen): partial argument match of 'E' to 'EXPR'
autoplot.NanoStringRccSet: no visible binding for global variable
‘xend’
autoplot.NanoStringRccSet: no visible binding for global variable
‘passingThreshold’
autoplot.NanoStringRccSet: no visible binding for global variable
‘GeomMean’
autoplot.NanoStringRccSet: no visible binding for global variable ‘h’
autoplot.NanoStringRccSet: no visible binding for global variable
‘label’
Undefined global functions or variables:
GeomMean h label passingThreshold xend
* checking Rd files ... OK
* checking Rd metadata ... OK
* checking Rd cross-references ... OK
* checking for missing documentation entries ... OK
* checking for code/documentation mismatches ... OK
* checking Rd \usage sections ... OK
* checking Rd contents ... OK
* checking for unstated dependencies in examples ... OK
* checking files in ‘vignettes’ ... OK
* checking examples ... OK
* checking for unstated dependencies in ‘tests’ ... OK
* checking tests ...
Running ‘run_unitTests.R’
OK
* checking for unstated dependencies in vignettes ... OK
* checking package vignettes ... OK
* checking running R code from vignettes ... SKIPPED
* checking re-building of vignette outputs ... SKIPPED
* checking PDF version of manual ... OK
* DONE
Status: 3 NOTEs
See
‘/home/biocbuild/bbs-3.19-bioc/meat/NanoStringNCTools.Rcheck/00check.log’
for details.
NanoStringNCTools.Rcheck/00install.out
############################################################################## ############################################################################## ### ### Running command: ### ### /home/biocbuild/R/R-beta-2024-04-15_r86425/bin/R CMD INSTALL NanoStringNCTools ### ############################################################################## ############################################################################## * installing to library ‘/home/biocbuild/R/R-beta-2024-04-15_r86425/site-library’ * installing *source* package ‘NanoStringNCTools’ ... ** using staged installation ** R ** inst ** byte-compile and prepare package for lazy loading ** help *** installing help indices ** building package indices ** installing vignettes ** testing if installed package can be loaded from temporary location ** testing if installed package can be loaded from final location ** testing if installed package keeps a record of temporary installation path * DONE (NanoStringNCTools)
NanoStringNCTools.Rcheck/tests/run_unitTests.Rout
R version 4.4.0 beta (2024-04-15 r86425) -- "Puppy Cup"
Copyright (C) 2024 The R Foundation for Statistical Computing
Platform: aarch64-unknown-linux-gnu
R is free software and comes with ABSOLUTELY NO WARRANTY.
You are welcome to redistribute it under certain conditions.
Type 'license()' or 'licence()' for distribution details.
R is a collaborative project with many contributors.
Type 'contributors()' for more information and
'citation()' on how to cite R or R packages in publications.
Type 'demo()' for some demos, 'help()' for on-line help, or
'help.start()' for an HTML browser interface to help.
Type 'q()' to quit R.
> require("NanoStringNCTools") || stop("unable to load NanoStringNCTools package")
Loading required package: NanoStringNCTools
Loading required package: Biobase
Loading required package: BiocGenerics
Attaching package: 'BiocGenerics'
The following objects are masked from 'package:stats':
IQR, mad, sd, var, xtabs
The following objects are masked from 'package:base':
Filter, Find, Map, Position, Reduce, anyDuplicated, aperm, append,
as.data.frame, basename, cbind, colnames, dirname, do.call,
duplicated, eval, evalq, get, grep, grepl, intersect, is.unsorted,
lapply, mapply, match, mget, order, paste, pmax, pmax.int, pmin,
pmin.int, rank, rbind, rownames, sapply, setdiff, table, tapply,
union, unique, unsplit, which.max, which.min
Welcome to Bioconductor
Vignettes contain introductory material; view with
'browseVignettes()'. To cite Bioconductor, see
'citation("Biobase")', and for packages 'citation("pkgname")'.
Loading required package: S4Vectors
Loading required package: stats4
Attaching package: 'S4Vectors'
The following object is masked from 'package:utils':
findMatches
The following objects are masked from 'package:base':
I, expand.grid, unname
Loading required package: ggplot2
[1] TRUE
> BiocGenerics:::testPackage("NanoStringNCTools")
RUNIT TEST PROTOCOL -- Thu May 9 10:00:50 2024
***********************************************
Number of test functions: 52
Number of errors: 0
Number of failures: 0
1 Test Suite :
NanoStringNCTools RUnit Tests - 52 test functions, 0 errors, 0 failures
Number of test functions: 52
Number of errors: 0
Number of failures: 0
>
> proc.time()
user system elapsed
13.851 0.228 14.095
NanoStringNCTools.Rcheck/NanoStringNCTools-Ex.timings
| name | user | system | elapsed | |
| NanoStringRccSet-autoplot | 0.522 | 0.004 | 0.543 | |
| NanoStringRccSet-class | 1.270 | 0.128 | 1.400 | |
| SignatureSet | 0.034 | 0.016 | 0.050 | |
| geom_beeswarm_interactive | 0.437 | 0.159 | 0.598 | |
| log2t | 0 | 0 | 0 | |
| normalize | 0.367 | 0.008 | 0.376 | |
| readNanoStringRccSet | 1.072 | 0.306 | 1.383 | |
| readRccFile | 0.08 | 0.00 | 0.08 | |
| readRlfFile | 0.052 | 0.000 | 0.053 | |
| sScale | 0.002 | 0.004 | 0.005 | |
| setQCFlags | 0.751 | 0.040 | 0.793 | |
| writeNanoStringRccSet | 0.548 | 0.008 | 0.557 | |