| Back to Multiple platform build/check report for BioC 3.19: simplified long | 
 | 
This page was generated on 2024-10-18 20:42 -0400 (Fri, 18 Oct 2024).
| Hostname | OS | Arch (*) | R version | Installed pkgs | 
|---|---|---|---|---|
| nebbiolo1 | Linux (Ubuntu 22.04.3 LTS) | x86_64 | 4.4.1 (2024-06-14) -- "Race for Your Life" | 4763 | 
| palomino7 | Windows Server 2022 Datacenter | x64 | 4.4.1 (2024-06-14 ucrt) -- "Race for Your Life" | 4500 | 
| merida1 | macOS 12.7.5 Monterey | x86_64 | 4.4.1 (2024-06-14) -- "Race for Your Life" | 4530 | 
| kjohnson1 | macOS 13.6.6 Ventura | arm64 | 4.4.1 (2024-06-14) -- "Race for Your Life" | 4480 | 
| Click on any hostname to see more info about the system (e.g. compilers) (*) as reported by 'uname -p', except on Windows and Mac OS X | ||||
| Package 1713/2300 | Hostname | OS / Arch | INSTALL | BUILD | CHECK | BUILD BIN | ||||||||
| ReactomeGSA 1.18.0  (landing page) Johannes Griss 
 | nebbiolo1 | Linux (Ubuntu 22.04.3 LTS) / x86_64 | OK | OK | OK |  | ||||||||
| palomino7 | Windows Server 2022 Datacenter / x64 | OK | OK | OK | OK |  | ||||||||
| merida1 | macOS 12.7.5 Monterey / x86_64 | OK | OK | OK | OK |  | ||||||||
| kjohnson1 | macOS 13.6.6 Ventura / arm64 | OK | OK | OK | OK |  | ||||||||
| To the developers/maintainers of the ReactomeGSA package: - Allow up to 24 hours (and sometimes 48 hours) for your latest push to git@git.bioconductor.org:packages/ReactomeGSA.git to reflect on this report. See Troubleshooting Build Report for more information. - Use the following Renviron settings to reproduce errors and warnings. - If 'R CMD check' started to fail recently on the Linux builder(s) over a missing dependency, add the missing dependency to 'Suggests:' in your DESCRIPTION file. See Renviron.bioc for more information. | 
| Package: ReactomeGSA | 
| Version: 1.18.0 | 
| Command: /Library/Frameworks/R.framework/Resources/bin/R CMD check --install=check:ReactomeGSA.install-out.txt --library=/Library/Frameworks/R.framework/Resources/library --no-vignettes --timings ReactomeGSA_1.18.0.tar.gz | 
| StartedAt: 2024-10-18 08:57:42 -0400 (Fri, 18 Oct 2024) | 
| EndedAt: 2024-10-18 09:11:43 -0400 (Fri, 18 Oct 2024) | 
| EllapsedTime: 840.2 seconds | 
| RetCode: 0 | 
| Status: OK | 
| CheckDir: ReactomeGSA.Rcheck | 
| Warnings: 0 | 
##############################################################################
##############################################################################
###
### Running command:
###
###   /Library/Frameworks/R.framework/Resources/bin/R CMD check --install=check:ReactomeGSA.install-out.txt --library=/Library/Frameworks/R.framework/Resources/library --no-vignettes --timings ReactomeGSA_1.18.0.tar.gz
###
##############################################################################
##############################################################################
* using log directory ‘/Users/biocbuild/bbs-3.19-bioc/meat/ReactomeGSA.Rcheck’
* using R version 4.4.1 (2024-06-14)
* using platform: aarch64-apple-darwin20
* R was compiled by
    Apple clang version 14.0.0 (clang-1400.0.29.202)
    GNU Fortran (GCC) 12.2.0
* running under: macOS Ventura 13.6.6
* using session charset: UTF-8
* using option ‘--no-vignettes’
* checking for file ‘ReactomeGSA/DESCRIPTION’ ... OK
* checking extension type ... Package
* this is package ‘ReactomeGSA’ version ‘1.18.0’
* package encoding: UTF-8
* checking package namespace information ... OK
* checking package dependencies ... OK
* checking if this is a source package ... OK
* checking if there is a namespace ... OK
* checking for hidden files and directories ... OK
* checking for portable file names ... OK
* checking for sufficient/correct file permissions ... OK
* checking whether package ‘ReactomeGSA’ can be installed ... OK
* checking installed package size ... OK
* checking package directory ... OK
* checking ‘build’ directory ... OK
* checking DESCRIPTION meta-information ... OK
* checking top-level files ... OK
* checking for left-over files ... OK
* checking index information ... OK
* checking package subdirectories ... OK
* checking code files for non-ASCII characters ... OK
* checking R files for syntax errors ... OK
* checking whether the package can be loaded ... OK
* checking whether the package can be loaded with stated dependencies ... OK
* checking whether the package can be unloaded cleanly ... OK
* checking whether the namespace can be loaded with stated dependencies ... OK
* checking whether the namespace can be unloaded cleanly ... OK
* checking whether startup messages can be suppressed ... OK
* checking dependencies in R code ... OK
* checking S3 generic/method consistency ... OK
* checking replacement functions ... OK
* checking foreign function calls ... OK
* checking R code for possible problems ... NOTE
plot_correlations,ReactomeAnalysisResult: no visible binding for global
  variable ‘combined_sig’
plot_correlations,ReactomeAnalysisResult: no visible binding for global
  variable ‘alpha’
plot_gsva_pathway,ReactomeAnalysisResult: no visible binding for global
  variable ‘cluster_id’
plot_gsva_pathway,ReactomeAnalysisResult: no visible binding for global
  variable ‘expr’
plot_gsva_pca,ReactomeAnalysisResult: no visible binding for global
  variable ‘gsva_result’
plot_gsva_pca,ReactomeAnalysisResult: no visible binding for global
  variable ‘PC1’
plot_gsva_pca,ReactomeAnalysisResult: no visible binding for global
  variable ‘PC2’
plot_heatmap,ReactomeAnalysisResult: no visible global function
  definition for ‘desc’
plot_heatmap,ReactomeAnalysisResult: no visible binding for global
  variable ‘n_sig’
plot_heatmap,ReactomeAnalysisResult: no visible binding for global
  variable ‘dataset’
plot_heatmap,ReactomeAnalysisResult: no visible binding for global
  variable ‘Name’
plot_volcano,ReactomeAnalysisResult: no visible binding for global
  variable ‘av_foldchange’
plot_volcano,ReactomeAnalysisResult: no visible binding for global
  variable ‘FDR’
Undefined global functions or variables:
  FDR Name PC1 PC2 alpha av_foldchange cluster_id combined_sig dataset
  desc expr gsva_result n_sig
* checking Rd files ... OK
* checking Rd metadata ... OK
* checking Rd cross-references ... OK
* checking for missing documentation entries ... OK
* checking for code/documentation mismatches ... OK
* checking Rd \usage sections ... OK
* checking Rd contents ... OK
* checking for unstated dependencies in examples ... OK
* checking files in ‘vignettes’ ... OK
* checking examples ... OK
Examples with CPU (user + system) or elapsed time > 5s
                                                  user system elapsed
analyse_sc_clusters                             31.961  2.905 112.522
analyse_sc_clusters-Seurat-method               32.699  1.897  68.605
plot_gsva_heatmap-ReactomeAnalysisResult-method 31.996  2.571  68.078
plot_gsva_pathway                               32.343  2.101  67.285
plot_gsva_heatmap                               32.098  2.196  65.815
analyse_sc_clusters-SingleCellExperiment-method 31.302  2.671  67.849
plot_gsva_pca                                   31.476  2.450  66.539
plot_gsva_pathway-ReactomeAnalysisResult-method 31.053  2.872  66.166
plot_gsva_pca-ReactomeAnalysisResult-method     31.036  2.528  65.860
ReactomeAnalysisRequest                          5.971  0.527   6.893
perform_reactome_analysis                        3.413  0.320  57.996
load_public_dataset                              1.815  0.182  38.220
* checking for unstated dependencies in ‘tests’ ... OK
* checking tests ...
  Running ‘testthat.R’
 OK
* checking for unstated dependencies in vignettes ... OK
* checking package vignettes ... OK
* checking running R code from vignettes ... SKIPPED
* checking re-building of vignette outputs ... SKIPPED
* checking PDF version of manual ... OK
* DONE
Status: 1 NOTE
See
  ‘/Users/biocbuild/bbs-3.19-bioc/meat/ReactomeGSA.Rcheck/00check.log’
for details.
ReactomeGSA.Rcheck/00install.out
############################################################################## ############################################################################## ### ### Running command: ### ### /Library/Frameworks/R.framework/Resources/bin/R CMD INSTALL ReactomeGSA ### ############################################################################## ############################################################################## * installing to library ‘/Library/Frameworks/R.framework/Versions/4.4-arm64/Resources/library’ * installing *source* package ‘ReactomeGSA’ ... ** using staged installation ** R ** inst ** byte-compile and prepare package for lazy loading in method for ‘analyse_sc_clusters’ with signature ‘object="Seurat"’: no definition for class “Seurat” in method for ‘analyse_sc_clusters’ with signature ‘object="SingleCellExperiment"’: no definition for class “SingleCellExperiment” in method for ‘add_dataset’ with signature ‘request="ReactomeAnalysisRequest",expression_values="EList"’: no definition for class “EList” in method for ‘add_dataset’ with signature ‘request="ReactomeAnalysisRequest",expression_values="DGEList"’: no definition for class “DGEList” ** help *** installing help indices ** building package indices ** installing vignettes ** testing if installed package can be loaded from temporary location ** testing if installed package can be loaded from final location ** testing if installed package keeps a record of temporary installation path * DONE (ReactomeGSA)
ReactomeGSA.Rcheck/tests/testthat.Rout
R version 4.4.1 (2024-06-14) -- "Race for Your Life"
Copyright (C) 2024 The R Foundation for Statistical Computing
Platform: aarch64-apple-darwin20
R is free software and comes with ABSOLUTELY NO WARRANTY.
You are welcome to redistribute it under certain conditions.
Type 'license()' or 'licence()' for distribution details.
R is a collaborative project with many contributors.
Type 'contributors()' for more information and
'citation()' on how to cite R or R packages in publications.
Type 'demo()' for some demos, 'help()' for on-line help, or
'help.start()' for an HTML browser interface to help.
Type 'q()' to quit R.
> library(testthat)
> library(ReactomeGSA)
> 
> test_check("ReactomeGSA")
[ FAIL 0 | WARN 0 | SKIP 0 | PASS 17 ]
> 
> proc.time()
   user  system elapsed 
  1.858   0.196   2.073 
ReactomeGSA.Rcheck/ReactomeGSA-Ex.timings
| name | user | system | elapsed | |
| ReactomeAnalysisRequest | 5.971 | 0.527 | 6.893 | |
| ReactomeAnalysisResult-class | 1.422 | 0.020 | 1.510 | |
| add_dataset-ReactomeAnalysisRequest-DGEList-method | 0.997 | 0.108 | 1.150 | |
| add_dataset-ReactomeAnalysisRequest-EList-method | 0.872 | 0.081 | 1.016 | |
| add_dataset-ReactomeAnalysisRequest-ExpressionSet-method | 0.868 | 0.074 | 0.992 | |
| add_dataset-ReactomeAnalysisRequest-data.frame-method | 1.290 | 0.099 | 1.447 | |
| add_dataset-ReactomeAnalysisRequest-matrix-method | 0.814 | 0.100 | 0.956 | |
| add_dataset | 0.818 | 0.077 | 0.936 | |
| analyse_sc_clusters-Seurat-method | 32.699 | 1.897 | 68.605 | |
| analyse_sc_clusters-SingleCellExperiment-method | 31.302 | 2.671 | 67.849 | |
| analyse_sc_clusters | 31.961 | 2.905 | 112.522 | |
| find_public_datasets | 0.120 | 0.016 | 2.068 | |
| get_public_species | 0.031 | 0.005 | 0.215 | |
| get_reactome_data_types | 0.066 | 0.009 | 0.341 | |
| get_reactome_methods | 0.107 | 0.015 | 0.625 | |
| get_result-ReactomeAnalysisResult-method | 0.272 | 0.010 | 0.292 | |
| get_result | 0.271 | 0.010 | 0.281 | |
| load_public_dataset | 1.815 | 0.182 | 38.220 | |
| names-ReactomeAnalysisResult-method | 0.261 | 0.010 | 0.275 | |
| open_reactome-ReactomeAnalysisResult-method | 0.265 | 0.010 | 0.276 | |
| open_reactome | 0.275 | 0.009 | 0.288 | |
| pathways-ReactomeAnalysisResult-method | 1.575 | 0.016 | 1.599 | |
| pathways | 1.633 | 0.038 | 1.680 | |
| perform_reactome_analysis | 3.413 | 0.320 | 57.996 | |
| plot_correlations-ReactomeAnalysisResult-method | 1.599 | 0.026 | 1.638 | |
| plot_correlations | 1.594 | 0.015 | 1.622 | |
| plot_gsva_heatmap-ReactomeAnalysisResult-method | 31.996 | 2.571 | 68.078 | |
| plot_gsva_heatmap | 32.098 | 2.196 | 65.815 | |
| plot_gsva_pathway-ReactomeAnalysisResult-method | 31.053 | 2.872 | 66.166 | |
| plot_gsva_pathway | 32.343 | 2.101 | 67.285 | |
| plot_gsva_pca-ReactomeAnalysisResult-method | 31.036 | 2.528 | 65.860 | |
| plot_gsva_pca | 31.476 | 2.450 | 66.539 | |
| plot_heatmap-ReactomeAnalysisResult-method | 1.803 | 0.032 | 1.858 | |
| plot_heatmap | 1.879 | 0.018 | 1.900 | |
| plot_volcano-ReactomeAnalysisResult-method | 0.277 | 0.009 | 0.286 | |
| plot_volcano | 0.301 | 0.009 | 0.311 | |
| print-ReactomeAnalysisRequest-method | 0.001 | 0.000 | 0.002 | |
| print-ReactomeAnalysisResult-method | 0.277 | 0.010 | 0.288 | |
| reactome_links-ReactomeAnalysisResult-method | 0.264 | 0.009 | 0.274 | |
| reactome_links | 0.299 | 0.010 | 0.308 | |
| result_types-ReactomeAnalysisResult-method | 0.268 | 0.009 | 0.277 | |
| result_types | 0.279 | 0.009 | 0.289 | |
| set_method-ReactomeAnalysisRequest-method | 0.002 | 0.002 | 0.004 | |
| set_method | 0.001 | 0.001 | 0.003 | |
| set_parameters-ReactomeAnalysisRequest-method | 0.001 | 0.000 | 0.002 | |
| set_parameters | 0.001 | 0.001 | 0.001 | |
| show-ReactomeAnalysisRequest-method | 0.002 | 0.001 | 0.002 | |
| show-ReactomeAnalysisResult-method | 0.301 | 0.019 | 0.320 | |