| Back to Multiple platform build/check report for BioC 3.19: simplified long |
|
This page was generated on 2024-06-11 14:42 -0400 (Tue, 11 Jun 2024).
| Hostname | OS | Arch (*) | R version | Installed pkgs |
|---|---|---|---|---|
| nebbiolo1 | Linux (Ubuntu 22.04.3 LTS) | x86_64 | 4.4.0 (2024-04-24) -- "Puppy Cup" | 4757 |
| palomino3 | Windows Server 2022 Datacenter | x64 | 4.4.0 (2024-04-24 ucrt) -- "Puppy Cup" | 4491 |
| lconway | macOS 12.7.1 Monterey | x86_64 | 4.4.0 (2024-04-24) -- "Puppy Cup" | 4522 |
| kjohnson3 | macOS 13.6.5 Ventura | arm64 | 4.4.0 (2024-04-24) -- "Puppy Cup" | 4468 |
| Click on any hostname to see more info about the system (e.g. compilers) (*) as reported by 'uname -p', except on Windows and Mac OS X | ||||
| Package 380/2300 | Hostname | OS / Arch | INSTALL | BUILD | CHECK | BUILD BIN | ||||||||
| clustifyr 1.16.0 (landing page) Kent Riemondy
| nebbiolo1 | Linux (Ubuntu 22.04.3 LTS) / x86_64 | OK | OK | OK | |||||||||
| palomino3 | Windows Server 2022 Datacenter / x64 | OK | OK | OK | OK | |||||||||
| lconway | macOS 12.7.1 Monterey / x86_64 | OK | OK | OK | OK | |||||||||
| kjohnson3 | macOS 13.6.5 Ventura / arm64 | OK | OK | OK | OK | |||||||||
|
To the developers/maintainers of the clustifyr package: - Allow up to 24 hours (and sometimes 48 hours) for your latest push to git@git.bioconductor.org:packages/clustifyr.git to reflect on this report. See Troubleshooting Build Report for more information. - Use the following Renviron settings to reproduce errors and warnings. - If 'R CMD check' started to fail recently on the Linux builder(s) over a missing dependency, add the missing dependency to 'Suggests:' in your DESCRIPTION file. See Renviron.bioc for more information. |
| Package: clustifyr |
| Version: 1.16.0 |
| Command: /Library/Frameworks/R.framework/Resources/bin/R CMD check --install=check:clustifyr.install-out.txt --library=/Library/Frameworks/R.framework/Resources/library --no-vignettes --timings clustifyr_1.16.0.tar.gz |
| StartedAt: 2024-06-09 19:29:24 -0400 (Sun, 09 Jun 2024) |
| EndedAt: 2024-06-09 19:41:27 -0400 (Sun, 09 Jun 2024) |
| EllapsedTime: 723.0 seconds |
| RetCode: 0 |
| Status: OK |
| CheckDir: clustifyr.Rcheck |
| Warnings: 0 |
##############################################################################
##############################################################################
###
### Running command:
###
### /Library/Frameworks/R.framework/Resources/bin/R CMD check --install=check:clustifyr.install-out.txt --library=/Library/Frameworks/R.framework/Resources/library --no-vignettes --timings clustifyr_1.16.0.tar.gz
###
##############################################################################
##############################################################################
* using log directory ‘/Users/biocbuild/bbs-3.19-bioc/meat/clustifyr.Rcheck’
* using R version 4.4.0 (2024-04-24)
* using platform: x86_64-apple-darwin20
* R was compiled by
Apple clang version 14.0.0 (clang-1400.0.29.202)
GNU Fortran (GCC) 12.2.0
* running under: macOS Monterey 12.7.1
* using session charset: UTF-8
* using option ‘--no-vignettes’
* checking for file ‘clustifyr/DESCRIPTION’ ... OK
* this is package ‘clustifyr’ version ‘1.16.0’
* package encoding: UTF-8
* checking package namespace information ... OK
* checking package dependencies ... OK
* checking if this is a source package ... OK
* checking if there is a namespace ... OK
* checking for hidden files and directories ... OK
* checking for portable file names ... OK
* checking for sufficient/correct file permissions ... OK
* checking whether package ‘clustifyr’ can be installed ... OK
* checking installed package size ... OK
* checking package directory ... OK
* checking ‘build’ directory ... OK
* checking DESCRIPTION meta-information ... NOTE
License stub is invalid DCF.
* checking top-level files ... OK
* checking for left-over files ... OK
* checking index information ... OK
* checking package subdirectories ... OK
* checking code files for non-ASCII characters ... OK
* checking R files for syntax errors ... OK
* checking whether the package can be loaded ... OK
* checking whether the package can be loaded with stated dependencies ... OK
* checking whether the package can be unloaded cleanly ... OK
* checking whether the namespace can be loaded with stated dependencies ... OK
* checking whether the namespace can be unloaded cleanly ... OK
* checking dependencies in R code ... OK
* checking S3 generic/method consistency ... OK
* checking replacement functions ... OK
* checking foreign function calls ... OK
* checking R code for possible problems ... OK
* checking Rd files ... OK
* checking Rd metadata ... OK
* checking Rd cross-references ... OK
* checking for missing documentation entries ... OK
* checking for code/documentation mismatches ... OK
* checking Rd \usage sections ... OK
* checking Rd contents ... OK
* checking for unstated dependencies in examples ... OK
* checking contents of ‘data’ directory ... OK
* checking data for non-ASCII characters ... OK
* checking LazyData ... OK
* checking data for ASCII and uncompressed saves ... OK
* checking files in ‘vignettes’ ... OK
* checking examples ... OK
Examples with CPU (user + system) or elapsed time > 5s
user system elapsed
plot_pathway_gsea 17.337 0.084 17.627
calculate_pathway_gsea 14.536 0.081 14.747
* checking for unstated dependencies in ‘tests’ ... OK
* checking tests ...
Running ‘testthat.R’
OK
* checking for unstated dependencies in vignettes ... OK
* checking package vignettes ... OK
* checking running R code from vignettes ... SKIPPED
* checking re-building of vignette outputs ... SKIPPED
* checking PDF version of manual ... OK
* DONE
Status: 1 NOTE
See
‘/Users/biocbuild/bbs-3.19-bioc/meat/clustifyr.Rcheck/00check.log’
for details.
clustifyr.Rcheck/00install.out
############################################################################## ############################################################################## ### ### Running command: ### ### /Library/Frameworks/R.framework/Resources/bin/R CMD INSTALL clustifyr ### ############################################################################## ############################################################################## * installing to library ‘/Library/Frameworks/R.framework/Versions/4.4-x86_64/Resources/library’ * installing *source* package ‘clustifyr’ ... ** using staged installation ** R ** data *** moving datasets to lazyload DB ** inst ** byte-compile and prepare package for lazy loading ** help *** installing help indices *** copying figures ** building package indices ** installing vignettes ** testing if installed package can be loaded from temporary location ** testing if installed package can be loaded from final location ** testing if installed package keeps a record of temporary installation path * DONE (clustifyr)
clustifyr.Rcheck/tests/testthat.Rout
R version 4.4.0 (2024-04-24) -- "Puppy Cup"
Copyright (C) 2024 The R Foundation for Statistical Computing
Platform: x86_64-apple-darwin20
R is free software and comes with ABSOLUTELY NO WARRANTY.
You are welcome to redistribute it under certain conditions.
Type 'license()' or 'licence()' for distribution details.
R is a collaborative project with many contributors.
Type 'contributors()' for more information and
'citation()' on how to cite R or R packages in publications.
Type 'demo()' for some demos, 'help()' for on-line help, or
'help.start()' for an HTML browser interface to help.
Type 'q()' to quit R.
> library(testthat)
> library(clustifyr)
>
> test_check("clustifyr")
[ FAIL 0 | WARN 0 | SKIP 0 | PASS 183 ]
>
> proc.time()
user system elapsed
434.677 6.769 445.149
clustifyr.Rcheck/clustifyr-Ex.timings
| name | user | system | elapsed | |
| append_genes | 0.040 | 0.006 | 0.046 | |
| assess_rank_bias | 0.000 | 0.001 | 0.000 | |
| average_clusters | 0.731 | 0.012 | 0.746 | |
| binarize_expr | 0.032 | 0.003 | 0.036 | |
| build_atlas | 0.056 | 0.022 | 0.079 | |
| calc_distance | 0.007 | 0.000 | 0.006 | |
| calculate_pathway_gsea | 14.536 | 0.081 | 14.747 | |
| call_consensus | 0.207 | 0.008 | 0.222 | |
| call_to_metadata | 0.148 | 0.136 | 0.293 | |
| check_raw_counts | 0.764 | 0.038 | 0.813 | |
| clustify | 1.621 | 0.094 | 1.729 | |
| clustify_lists | 0.754 | 0.026 | 0.783 | |
| clustify_nudge | 0.906 | 0.014 | 0.925 | |
| clustifyr_methods | 0 | 0 | 0 | |
| collapse_to_cluster | 0.652 | 0.085 | 0.744 | |
| compare_lists | 0.133 | 0.005 | 0.139 | |
| cor_to_call | 0.051 | 0.001 | 0.052 | |
| cor_to_call_rank | 0.089 | 0.015 | 0.103 | |
| cor_to_call_topn | 0.072 | 0.001 | 0.073 | |
| downsample_matrix | 0.010 | 0.001 | 0.010 | |
| feature_select_PCA | 0.010 | 0.002 | 0.011 | |
| file_marker_parse | 0.002 | 0.001 | 0.003 | |
| find_rank_bias | 0.035 | 0.002 | 0.037 | |
| gene_pct_markerm | 0.253 | 0.002 | 0.258 | |
| get_ucsc_reference | 0 | 0 | 0 | |
| get_vargenes | 0.000 | 0.001 | 0.001 | |
| gmt_to_list | 0.046 | 0.003 | 0.050 | |
| insert_meta_object | 0.214 | 0.008 | 0.223 | |
| make_comb_ref | 0.011 | 0.001 | 0.012 | |
| marker_select | 0.012 | 0.002 | 0.015 | |
| matrixize_markers | 0.025 | 0.004 | 0.029 | |
| object_data | 0.465 | 0.030 | 0.503 | |
| object_ref | 0.319 | 0.109 | 0.430 | |
| overcluster | 1.594 | 0.092 | 1.691 | |
| overcluster_test | 1.168 | 0.065 | 1.248 | |
| parse_loc_object | 0.232 | 0.022 | 0.258 | |
| plot_best_call | 0.502 | 0.040 | 0.551 | |
| plot_cor | 0.615 | 0.013 | 0.634 | |
| plot_cor_heatmap | 1.047 | 0.055 | 1.106 | |
| plot_dims | 0.246 | 0.005 | 0.253 | |
| plot_gene | 0.469 | 0.015 | 0.489 | |
| plot_pathway_gsea | 17.337 | 0.084 | 17.627 | |
| plot_rank_bias | 0.000 | 0.001 | 0.001 | |
| pos_neg_marker | 0.009 | 0.000 | 0.010 | |
| pos_neg_select | 0.086 | 0.002 | 0.089 | |
| query_rank_bias | 0.028 | 0.001 | 0.029 | |
| ref_feature_select | 0.021 | 0.001 | 0.022 | |
| ref_marker_select | 0.144 | 0.001 | 0.144 | |
| reverse_marker_matrix | 0.005 | 0.005 | 0.009 | |
| run_clustifyr_app | 0.000 | 0.001 | 0.001 | |
| seurat_meta | 0.253 | 0.004 | 0.259 | |
| seurat_ref | 0.290 | 0.007 | 0.299 | |
| write_meta | 0.380 | 0.028 | 0.410 | |